BEGIN:VCALENDAR
VERSION:2.0
PRODID:-//Pima County Parenting Coalition - ECPv6.15.16.1//NONSGML v1.0//EN
CALSCALE:GREGORIAN
METHOD:PUBLISH
X-ORIGINAL-URL:https://pimaparenting.org
X-WR-CALDESC:Events for Pima County Parenting Coalition
REFRESH-INTERVAL;VALUE=DURATION:PT1H
X-Robots-Tag:noindex
X-PUBLISHED-TTL:PT1H
BEGIN:VTIMEZONE
TZID:America/Phoenix
BEGIN:STANDARD
TZOFFSETFROM:-0700
TZOFFSETTO:-0700
TZNAME:MST
DTSTART:20240101T000000
END:STANDARD
END:VTIMEZONE
BEGIN:VEVENT
DTSTART;TZID=America/Phoenix:20250829T103000
DTEND;TZID=America/Phoenix:20250829T113000
DTSTAMP:20260424T031541
CREATED:20250717T032030Z
LAST-MODIFIED:20250717T032030Z
UID:10003629-1756463400-1756467000@pimaparenting.org
SUMMARY:Baby Signs Too
DESCRIPTION:Come join Parent Aid and Amanda for a great opportunity to learn sign language with your little one! Learn how to enhance early communication skills\, reduce tantrums\, and promote language development with the addition to nurturing your bond and understanding your child’s needs. Baby Signs Too is designed to be used with families with hearing infants and toddlers. \nRegistration is FREE! \nClass is offered in-person at the Family Resource Center at the Sahuarita Food Bank \nEmail amanda@parentaid.org with any questions you have about the group. \nWe look forward to seeing you there!
URL:https://pimaparenting.org/event/baby-signs-too-5/
LOCATION:Family Resource Center at Sahuarita Food Bank\, 17750 S. La Canada\, Sahuarita\, AZ\, 85629\, United States
CATEGORIES:All Caregivers,Families with Children Birth to Five
ATTACH;FMTTYPE=image/jpeg:https://pimaparenting.org/wp-content/uploads/2024/11/BST-at-SFB-2.0.jpg
ORGANIZER;CN="Amanda Ward McNeal- PA":MAILTO:amanda@parentaid.org
END:VEVENT
BEGIN:VEVENT
DTSTART;TZID=America/Phoenix:20250829T113000
DTEND;TZID=America/Phoenix:20250829T123000
DTSTAMP:20260424T031541
CREATED:20250716T232426Z
LAST-MODIFIED:20250716T232426Z
UID:10003613-1756467000-1756470600@pimaparenting.org
SUMMARY:Happy Hour: Family Playtime
DESCRIPTION:Join Amanda at Parent Aid for a playful\, stress-free hour of connection\, creativity\, and community! Happy Hour: Family Playtime is a warm and welcoming space where parents and children explore the joy of free play — together. \nThis interactive experience helps little ones build important social skills while giving parents the chance to connect with one another\, share experiences\, and step into their child’s world through play. It’s a perfect blend of bonding\, support\, and fun — no agenda\, no pressure\, just quality time. \n✨ Meet other parents\n🧸 Support your child’s growth through play\n💬 Enjoy thoughtful conversations in a relaxed environment \nCome as you are — stay for the smiles.\nBecause connection is the real happy hour.
URL:https://pimaparenting.org/event/happy-hour-family-playtime-5/
LOCATION:Family Resource Center at Sahuarita Food Bank\, 17750 S. La Canada\, Sahuarita\, AZ\, 85629\, United States
CATEGORIES:Families with Children Birth to Five
ATTACH;FMTTYPE=image/png:https://pimaparenting.org/wp-content/uploads/2025/07/Happy-Hour-at-SFB.png
ORGANIZER;CN="Family Resource Center at Sahuarita Food Bank":MAILTO:irodela@sfb-crc.org
END:VEVENT
BEGIN:VEVENT
DTSTART;TZID=America/Phoenix:20250829T130000
DTEND;TZID=America/Phoenix:20250829T140000
DTSTAMP:20260424T031541
CREATED:20250717T045957Z
LAST-MODIFIED:20250717T045957Z
UID:10003684-1756472400-1756476000@pimaparenting.org
SUMMARY:Kids in Motion/Niños en Movimiento
DESCRIPTION:Kids in Motion is an active and fun class that promotes your child’s gross motor skill development through energetic and exciting activities.  \nNiños en Movimiento es una clase activa y divertida que promueve el desarrollo de la motricidad gruesa de su hijo a través de actividades enérgicas y emocionantes.
URL:https://pimaparenting.org/event/kids-in-motion-ninos-en-movimiento-24/
LOCATION:Family Resource Center at Los Ranchitos\, 2054 E Ginter Rd\, Tucson\, AZ\, 85706\, United States
CATEGORIES:Families with Children Birth to Five
ATTACH;FMTTYPE=image/jpeg:https://pimaparenting.org/wp-content/uploads/2024/11/Kids-in-Motion-at-SUSD-2.0.jpg
ORGANIZER;CN="Family Resource Center at Los Ranchitos":MAILTO:MyrnaL@susd12.org
END:VEVENT
END:VCALENDAR