BEGIN:VCALENDAR
VERSION:2.0
PRODID:-//Pima County Parenting Coalition - ECPv6.15.16.1//NONSGML v1.0//EN
CALSCALE:GREGORIAN
METHOD:PUBLISH
X-ORIGINAL-URL:https://pimaparenting.org
X-WR-CALDESC:Events for Pima County Parenting Coalition
REFRESH-INTERVAL;VALUE=DURATION:PT1H
X-Robots-Tag:noindex
X-PUBLISHED-TTL:PT1H
BEGIN:VTIMEZONE
TZID:America/Phoenix
BEGIN:STANDARD
TZOFFSETFROM:-0700
TZOFFSETTO:-0700
TZNAME:MST
DTSTART:20240101T000000
END:STANDARD
END:VTIMEZONE
BEGIN:VEVENT
DTSTART;TZID=America/Phoenix:20250902T090000
DTEND;TZID=America/Phoenix:20250902T100000
DTSTAMP:20260424T031640
CREATED:20250815T225633Z
LAST-MODIFIED:20250815T225633Z
UID:10003761-1756803600-1756807200@pimaparenting.org
SUMMARY:Masaje de manos nutritivas para bebés-Los Ranchitos Family Resource Center
DESCRIPTION:Los padres aprenderán varias técnicas de masaje mientras aprenden sobre las ventajas de la terapia de masaje para su bebé. Tenga en cuenta que los padres y el bebé (0-9 meses) deben asistir juntos a esta clase.
URL:https://pimaparenting.org/event/masaje-de-manos-nutritivas-para-bebes-los-ranchitos-family-resource-center-23/
LOCATION:Family Resource Center at Los Ranchitos\, 2054 E Ginter Rd\, Tucson\, AZ\, 85706\, United States
CATEGORIES:Families with Children Birth to Five
ATTACH;FMTTYPE=image/jpeg:https://pimaparenting.org/wp-content/uploads/2024/03/Baby-Massage-at-SUSD.jpg
ORGANIZER;CN="Laura Ontiveros-EBF":MAILTO:lontiveros@blake.easterseals.com
END:VEVENT
BEGIN:VEVENT
DTSTART;TZID=America/Phoenix:20250902T090000
DTEND;TZID=America/Phoenix:20250902T103000
DTSTAMP:20260424T031640
CREATED:20250813T175238Z
LAST-MODIFIED:20250815T181143Z
UID:10003704-1756803600-1756809000@pimaparenting.org
SUMMARY:Stay & Play Preschool - Fun with Math & Science
DESCRIPTION:Join our Stay & Play Preschool class — Fun with Math & Science — designed for families with children ages 3 to 5! This engaging program invites grownups and little ones to explore math and science concepts using a diverse range of materials in an interactive\, playful way. \nBased on Arizona’s Early Learning Standards for Math and Science\, this class introduces concepts and strategies you can use with your child to help build and strengthen their mathematical and scientific thinking skills. All of this happens in a supportive environment where children can explore\, learn\, and make new friends. \nCome enjoy quality time while helping your child thrive in their early learning journey! \n  \n 
URL:https://pimaparenting.org/event/stay-play-preschool-fun-with-math-science/
LOCATION:Family Resource Center at Sahuarita Food Bank\, 17750 S. La Canada\, Sahuarita\, AZ\, 85629\, United States
CATEGORIES:Families with Children Birth to Five
ATTACH;FMTTYPE=image/png:https://pimaparenting.org/wp-content/uploads/2025/07/Stay-and-Play-at-SFB-2.0.png
ORGANIZER;CN="Lela Messick-UWTSA":MAILTO:lmessick@unitedwaytucson.org
END:VEVENT
BEGIN:VEVENT
DTSTART;TZID=America/Phoenix:20250902T103000
DTEND;TZID=America/Phoenix:20250902T113000
DTSTAMP:20260424T031640
CREATED:20250717T040854Z
LAST-MODIFIED:20250821T193552Z
UID:10003655-1756809000-1756812600@pimaparenting.org
SUMMARY:Story School - Family Resource Center at Sahuarita Food Bank
DESCRIPTION:This early reading program for kids and parents/caregivers includes sharing stories\, music and movement\, and activities to do in class and at home. Families receive 20 free books & school supplies. \nVisit www.mystoryschool.org/apply to register today! \n***CLASS IS CURRENTLY FULL*** \n  \n  \n 
URL:https://pimaparenting.org/event/story-school-family-resource-center-at-sahuarita-food-bank-4/
LOCATION:Family Resource Center at Sahuarita Food Bank\, 17750 S. La Canada\, Sahuarita\, AZ\, 85629\, United States
CATEGORIES:Families with Children Birth to Five
ATTACH;FMTTYPE=image/jpeg:https://pimaparenting.org/wp-content/uploads/2024/11/Story-School-at-SFB-2.0.jpg
ORGANIZER;CN="Nando Trujillo-MWFB":MAILTO:nando@makewayforbooks.org
END:VEVENT
BEGIN:VEVENT
DTSTART;TZID=America/Phoenix:20250902T103000
DTEND;TZID=America/Phoenix:20250902T113000
DTSTAMP:20260424T031640
CREATED:20250818T221543Z
LAST-MODIFIED:20250818T221543Z
UID:10003794-1756809000-1756812600@pimaparenting.org
SUMMARY:Baby Signs Too
DESCRIPTION:Come join Parent Aid and Vanessa for a great opportunity to learn sign language with your little one! Learn how to enhance early communication skills\, reduce tantrums\, and promote language development with the addition to nurturing your bond and understanding your child’s needs. Baby Signs Too is designed to be used with families with hearing infants and toddlers. \nRegistration is FREE! \nClass is offered in-person at the Family Resource Center at Robles Elementary. \nWe look forward to seeing you there!
URL:https://pimaparenting.org/event/baby-signs-too-6/
LOCATION:Family Resource Center at Robles Elementary\, 9875 S Sasabe Rd\, Tucson\, AZ\, 85736\, United States
CATEGORIES:All Caregivers,Families with Children Birth to Five
ATTACH;FMTTYPE=image/jpeg:https://pimaparenting.org/wp-content/uploads/2024/11/BST-at-AVSD-2.0.jpg
ORGANIZER;CN="Vanessa Batson- PA":MAILTO:vanessa@parentaid.org
END:VEVENT
BEGIN:VEVENT
DTSTART;TZID=America/Phoenix:20250902T123000
DTEND;TZID=America/Phoenix:20250902T133000
DTSTAMP:20260424T031640
CREATED:20250813T200155Z
LAST-MODIFIED:20250813T200451Z
UID:10003706-1756816200-1756819800@pimaparenting.org
SUMMARY:Soothing Strokes Baby Massage
DESCRIPTION:An infant massage class based on ancient traditions teaches gentle\, rhythmic techniques passed down through generations to promote bonding\, relaxation\, and healthy development for babies. Soothing Strokes is 5 weekly 90-minute sessions. We cover something different each class ending in the culmination being able to do a thorough infant massage. \nInfant massage is focused on children birth to 12 months. \nChild care for your older children can be provided as necessary with notice. \nYou bring your baby and we will bring the oil and the relaxed vibes. See you there!
URL:https://pimaparenting.org/event/soothing-strokes-baby-massage-13/
LOCATION:Family Resource Center at Sahuarita Food Bank\, 17750 S. La Canada\, Sahuarita\, AZ\, 85629\, United States
CATEGORIES:All Caregivers,Families with Children Birth to Five
ATTACH;FMTTYPE=image/png:https://pimaparenting.org/wp-content/uploads/2025/04/Soothing-Strokes-at-SFB.png
ORGANIZER;CN="Amanda Ward McNeal- PA":MAILTO:amanda@parentaid.org
END:VEVENT
BEGIN:VEVENT
DTSTART;TZID=America/Phoenix:20250902T130000
DTEND;TZID=America/Phoenix:20250902T140000
DTSTAMP:20260424T031640
CREATED:20250815T225831Z
LAST-MODIFIED:20250815T225831Z
UID:10003762-1756818000-1756821600@pimaparenting.org
SUMMARY:Fine Arts for Kids- Family Resource Center at Los Ranchitos
DESCRIPTION:Join us for a fun and creative class designed for children and their parents or caregivers! Together\, you’ll explore hands-on activities that encourage focus\, help build self-control and promote teamwork and communication. It’s a great way to bond\, learn\, and get inspired through art!
URL:https://pimaparenting.org/event/fine-arts-for-kids-family-resource-center-at-los-ranchitos-3/
LOCATION:Family Resource Center at Los Ranchitos\, 2054 E Ginter Rd\, Tucson\, AZ\, 85706\, United States
CATEGORIES:Families with Children Birth to Five
ATTACH;FMTTYPE=image/jpeg:https://pimaparenting.org/wp-content/uploads/2024/11/Fine-Arts-at-SUSD-2.0.jpg
ORGANIZER;CN="Stephaine Carl - UACE":MAILTO:sacarl@arizona.edu
END:VEVENT
END:VCALENDAR