BEGIN:VCALENDAR
VERSION:2.0
PRODID:-//Pima County Parenting Coalition - ECPv6.15.16.1//NONSGML v1.0//EN
CALSCALE:GREGORIAN
METHOD:PUBLISH
X-WR-CALNAME:Pima County Parenting Coalition
X-ORIGINAL-URL:https://pimaparenting.org
X-WR-CALDESC:Events for Pima County Parenting Coalition
REFRESH-INTERVAL;VALUE=DURATION:PT1H
X-Robots-Tag:noindex
X-PUBLISHED-TTL:PT1H
BEGIN:VTIMEZONE
TZID:America/Phoenix
BEGIN:STANDARD
TZOFFSETFROM:-0700
TZOFFSETTO:-0700
TZNAME:MST
DTSTART:20240101T000000
END:STANDARD
END:VTIMEZONE
BEGIN:VEVENT
DTSTART;TZID=America/Phoenix:20250910T090000
DTEND;TZID=America/Phoenix:20250910T100000
DTSTAMP:20260424T021715
CREATED:20250813T202126Z
LAST-MODIFIED:20250813T202126Z
UID:10003710-1757494800-1757498400@pimaparenting.org
SUMMARY:Fun Family Fitness
DESCRIPTION:Have fun getting fit with your child while building healthy habits for life! Enjoy playful movement\, games\, and bonding time in a supportive\, active class that makes fitness fun for the whole family. A great way to inspire a lifelong love of wellness—together!
URL:https://pimaparenting.org/event/fun-family-fitness-2/
LOCATION:Family Resource Center at Sahuarita Food Bank\, 17750 S. La Canada\, Sahuarita\, AZ\, 85629\, United States
CATEGORIES:Families with Children Birth to Five
ATTACH;FMTTYPE=image/jpeg:https://pimaparenting.org/wp-content/uploads/2024/11/FFF-at-SFB-2.0.jpg
ORGANIZER;CN="Family Resource Center at Sahuarita Food Bank":MAILTO:irodela@sfb-crc.org
END:VEVENT
BEGIN:VEVENT
DTSTART;TZID=America/Phoenix:20250910T090000
DTEND;TZID=America/Phoenix:20250910T100000
DTSTAMP:20260424T021715
CREATED:20250818T203920Z
LAST-MODIFIED:20250818T203920Z
UID:10003781-1757494800-1757498400@pimaparenting.org
SUMMARY:Wonders of the Desert: Nature Play & Storytime
DESCRIPTION:Wonders of the Desert: Nature Play & Storytime/Sticks \nJoin us for an enriching sensory adventure in Wonders of the Desert\, where young children (ages 2–5) explore the natural world through play-based\, developmentally appropriate outdoor activities. Guided by a trained nature-based educator\, each session offers three to four fun hands-on experiences—like digging\, building\, crafting\, and observing—designed to spark curiosity and build early learning skills. We’ll wrap up with a themed Storytime that ties everything together\, helping little ones connect\, imagine\, and grow in nature. All participants will be given a Family Activity page in English & Spanish to extend the learning and fun at home. \nThis week’s class Sticks- families will explore desert sticks through building\, sorting\, and creating nature art. Children use their senses\, practice fine motor skills\, and\nlearn how sticks are part of the desert environment.
URL:https://pimaparenting.org/event/wonders-of-the-desert-nature-play-storytime-8/
LOCATION:Family Resource Center at Robles Elementary\, 9875 S Sasabe Rd\, Tucson\, AZ\, 85736\, United States
CATEGORIES:Families with Children Birth to Five
ATTACH;FMTTYPE=image/png:https://pimaparenting.org/wp-content/uploads/2025/07/Wonders-of-the-Desert-at-AVSD.png
ORGANIZER;CN="Debi with CFNPPC":MAILTO:debimorgan4@gmail.com
END:VEVENT
BEGIN:VEVENT
DTSTART;TZID=America/Phoenix:20250910T103000
DTEND;TZID=America/Phoenix:20250910T113000
DTSTAMP:20260424T021715
CREATED:20250804T163517Z
LAST-MODIFIED:20250804T164602Z
UID:10003701-1757500200-1757503800@pimaparenting.org
SUMMARY:TMC Ride Safe Kids-Car Seat Safety Class at SAHUARITA FAMILY RESOURCE CENTER
DESCRIPTION:Take the stress out of car seat safety. This friendly\, hands-on session will guide you through everything you need to know to travel safely with your child — from newborn to booster seat. Participants will receive a free car seat or booster seat after attending. Leave with peace of mind\, new knowledge\, and the gear to match. \nRegister at: https://events.tmcaz.com/event/tmc-ride-safe-kids-car-seat-education-class-at-sahuarita-family-resource-center/ \n 
URL:https://pimaparenting.org/event/tmc-ride-safe-kids-car-seat-safety-class/
LOCATION:Family Resource Center at Sahuarita Food Bank\, 17750 S. La Canada\, Sahuarita\, AZ\, 85629\, United States
CATEGORIES:Families with Children Birth to Five
ATTACH;FMTTYPE=image/png:https://pimaparenting.org/wp-content/uploads/2025/08/663097-TMC-for-Children-Ride-Safe-Graphic-scaled.png
ORGANIZER;CN="Family Resource Center at Sahuarita Food Bank":MAILTO:irodela@sfb-crc.org
END:VEVENT
BEGIN:VEVENT
DTSTART;TZID=America/Phoenix:20250910T103000
DTEND;TZID=America/Phoenix:20250910T120000
DTSTAMP:20260424T021715
CREATED:20250717T044847Z
LAST-MODIFIED:20250717T044847Z
UID:10003678-1757500200-1757505600@pimaparenting.org
SUMMARY:Clase de Cocina Nutrición Familiar/Clase #6 Desayuno inteligente / Almuerzo inteligente
DESCRIPTION:¡Los participantes recibirán recursos para crear comidas nutritivas que ¡a tus hijos les encantarán! Asiste a las 8 clases y recibirás una bolsa grande aislada llena de recetas y utensilios de cocina. \nClase #1 Introducción a MiPlato\nClase #2 Elegir más frutas y verduras\nClase #3 Planificar\, saber qué habrá para la cena\nClase #4 Comprar\, obtener lo mejor por menos / Comprar con valor\, revisar las etiquetas\nClase #5 Preparar de manera segura / Preparar rápido\, comer en casa\nClase #6 Desayuno inteligente / Almuerzo inteligente\nClase #7 Elecciones inteligentes de comida rápida\nClase #8 Tomar decisiones inteligentes al comer fuera \n 
URL:https://pimaparenting.org/event/clase-de-cocina-nutricion-familiar-clase-6-desayuno-inteligente-almuerzo-inteligente-2/
LOCATION:Family Resource Center at Los Ranchitos\, 2054 E Ginter Rd\, Tucson\, AZ\, 85706\, United States
CATEGORIES:Families with Children Birth to Five
ATTACH;FMTTYPE=image/jpeg:https://pimaparenting.org/wp-content/uploads/2024/11/Family-Resource-Center-Logo-1.jpg
ORGANIZER;CN="Family Resource Center at Los Ranchitos":MAILTO:MyrnaL@susd12.org
END:VEVENT
BEGIN:VEVENT
DTSTART;TZID=America/Phoenix:20250910T130000
DTEND;TZID=America/Phoenix:20250910T140000
DTSTAMP:20260424T021715
CREATED:20250815T230807Z
LAST-MODIFIED:20250815T230807Z
UID:10003768-1757509200-1757512800@pimaparenting.org
SUMMARY:Kids in Motion/Niños en Movimiento
DESCRIPTION:Kids in Motion is an active and fun class that promotes your child’s gross motor skill development through energetic and exciting activities.  \nNiños en Movimiento es una clase activa y divertida que promueve el desarrollo de la motricidad gruesa de su hijo a través de actividades enérgicas y emocionantes.
URL:https://pimaparenting.org/event/kids-in-motion-ninos-en-movimiento-26/
LOCATION:Family Resource Center at Los Ranchitos\, 2054 E Ginter Rd\, Tucson\, AZ\, 85706\, United States
CATEGORIES:Families with Children Birth to Five
ATTACH;FMTTYPE=image/jpeg:https://pimaparenting.org/wp-content/uploads/2024/11/Kids-in-Motion-at-SUSD-2.0.jpg
ORGANIZER;CN="Jeannette with UWTSA":MAILTO:jlillyrmrz@gmail.com
END:VEVENT
END:VCALENDAR