BEGIN:VCALENDAR
VERSION:2.0
PRODID:-//Pima County Parenting Coalition - ECPv6.15.16.1//NONSGML v1.0//EN
CALSCALE:GREGORIAN
METHOD:PUBLISH
X-WR-CALNAME:Pima County Parenting Coalition
X-ORIGINAL-URL:https://pimaparenting.org
X-WR-CALDESC:Events for Pima County Parenting Coalition
REFRESH-INTERVAL;VALUE=DURATION:PT1H
X-Robots-Tag:noindex
X-PUBLISHED-TTL:PT1H
BEGIN:VTIMEZONE
TZID:America/Phoenix
BEGIN:STANDARD
TZOFFSETFROM:-0700
TZOFFSETTO:-0700
TZNAME:MST
DTSTART:20240101T000000
END:STANDARD
END:VTIMEZONE
BEGIN:VEVENT
DTSTART;TZID=America/Phoenix:20250911T090000
DTEND;TZID=America/Phoenix:20250911T100000
DTSTAMP:20260424T031435
CREATED:20250815T160942Z
LAST-MODIFIED:20250815T160942Z
UID:10003730-1757581200-1757584800@pimaparenting.org
SUMMARY:Garden Discovery Days-Class held at Pima County Cooperative Extension Office 530 E. Whitehouse Canyon Rd. Green Valley\, AZ 85614
DESCRIPTION:This class connects you and your child with the garden\, through hands on activities as you learn where food comes from\, learn about nature and make fun nature crafts.  \nPLEASE NOTE: Class is held at the Pima County Cooperative Extension Office 530 E. Whitehouse Canyon Rd. Green Valley\, AZ 85614
URL:https://pimaparenting.org/event/garden-discovery-days-class-held-at-pima-county-cooperative-extension-office-530-e-whitehouse-canyon-rd-green-valley-az-85614-15/
LOCATION:Family Resource Center at Sahuarita Food Bank\, 17750 S. La Canada\, Sahuarita\, AZ\, 85629\, United States
CATEGORIES:Families with Children Birth to Five
ATTACH;FMTTYPE=image/png:https://pimaparenting.org/wp-content/uploads/2025/04/GDD-at-SFB-2.0.png
ORGANIZER;CN="Cassie Burrel - UACE":MAILTO:cassieb@ag.arizona.edu
END:VEVENT
BEGIN:VEVENT
DTSTART;TZID=America/Phoenix:20250911T103000
DTEND;TZID=America/Phoenix:20250911T113000
DTSTAMP:20260424T031435
CREATED:20250717T041010Z
LAST-MODIFIED:20250821T193504Z
UID:10003658-1757586600-1757590200@pimaparenting.org
SUMMARY:Story School - Family Resource Center at Sahuarita Food Bank
DESCRIPTION:This early reading program for kids and parents/caregivers includes sharing stories\, music and movement\, and activities to do in class and at home. Families receive 20 free books & school supplies. \nVisit www.mystoryschool.org/apply to register today! \n***CLASS IS CURRENTLY FULL*** \n  \n  \n 
URL:https://pimaparenting.org/event/story-school-family-resource-center-at-sahuarita-food-bank-7/
LOCATION:Family Resource Center at Sahuarita Food Bank\, 17750 S. La Canada\, Sahuarita\, AZ\, 85629\, United States
CATEGORIES:Families with Children Birth to Five
ATTACH;FMTTYPE=image/jpeg:https://pimaparenting.org/wp-content/uploads/2024/11/Story-School-at-SFB-2.0.jpg
ORGANIZER;CN="Nando Trujillo-MWFB":MAILTO:nando@makewayforbooks.org
END:VEVENT
BEGIN:VEVENT
DTSTART;TZID=America/Phoenix:20250911T103000
DTEND;TZID=America/Phoenix:20250911T113000
DTSTAMP:20260424T031435
CREATED:20250815T230242Z
LAST-MODIFIED:20250815T230242Z
UID:10003765-1757586600-1757590200@pimaparenting.org
SUMMARY:Zumbini- Los Ranchitos FRC
DESCRIPTION:Come join Vanessa and Parent Aid for a fun hour of music and movement! This class will enhance your child’s development of their social-emotional\, cognitive and physical skills. Zumbini is designed for families with kiddos birth to 5-years old. Zumbini is an interactive activity for Parents and Kiddos! Bring your most comfortable dancing shoes and we’ll see you there! \nRegistration is FREE! \nClass is offered in-person at the Family Resource Center at Los Ranchitos. \n  \n 
URL:https://pimaparenting.org/event/zumbini-los-ranchitos-frc-14/
LOCATION:Family Resource Center at Los Ranchitos\, 2054 E Ginter Rd\, Tucson\, AZ\, 85706\, United States
CATEGORIES:All Caregivers,Families with Children Birth to Five
ATTACH;FMTTYPE=image/jpeg:https://pimaparenting.org/wp-content/uploads/2024/11/Zumbini-at-SUSD-2.0.jpg
ORGANIZER;CN="Vanessa Batson- PA":MAILTO:vanessa@parentaid.org
END:VEVENT
BEGIN:VEVENT
DTSTART;TZID=America/Phoenix:20250911T103000
DTEND;TZID=America/Phoenix:20250911T113000
DTSTAMP:20260424T031435
CREATED:20250818T224020Z
LAST-MODIFIED:20250818T224020Z
UID:10003811-1757586600-1757590200@pimaparenting.org
SUMMARY:Sensory Exploration/ Exploración sensorial
DESCRIPTION:This class will expose your child to different colors\, shapes\, patterns\, materials and fabrics to feel help them accept so many transitions into this big world fill with experiences. \nEsta clase expondrá a su hijo a diferentes colores\, formas\, patrones\, materiales y telas para sentir que lo ayudan a aceptar tantas transiciones a este gran mundo lleno de experiencias.
URL:https://pimaparenting.org/event/sensory-exploration-exploracion-sensorial-6/
LOCATION:Family Resource Center at Robles Elementary\, 9875 S Sasabe Rd\, Tucson\, AZ\, 85736\, United States
CATEGORIES:Families with Children Birth to Five
ATTACH;FMTTYPE=image/jpeg:https://pimaparenting.org/wp-content/uploads/2024/11/Sensory-at-AVSD-2.0.jpg
ORGANIZER;CN="Laura Ontiveros-EBF":MAILTO:lontiveros@blake.easterseals.com
END:VEVENT
BEGIN:VEVENT
DTSTART;TZID=America/Phoenix:20250911T130000
DTEND;TZID=America/Phoenix:20250911T140000
DTSTAMP:20260424T031435
CREATED:20250818T223126Z
LAST-MODIFIED:20250818T223126Z
UID:10003803-1757595600-1757599200@pimaparenting.org
SUMMARY:Fine Arts for Kids- Family Resource Center at Robles Elementary
DESCRIPTION:This fun and interactive class for children and their parents or caregivers is packed with creative activities designed to help little ones develop important life skills like focus\, self-control\, and communication—all while having a great time together!
URL:https://pimaparenting.org/event/fine-arts-for-kids-family-resource-center-at-robles-elementary-2/
LOCATION:Family Resource Center at Robles Elementary\, 9875 S Sasabe Rd\, Tucson\, AZ\, 85736\, United States
CATEGORIES:Families with Children Birth to Five
ATTACH;FMTTYPE=image/jpeg:https://pimaparenting.org/wp-content/uploads/2024/11/Fine-Arts-at-AVSD-2.0.jpg
ORGANIZER;CN="Nataly Quiroz- UACE":MAILTO:natalyquiroz@arizona.edu
END:VEVENT
BEGIN:VEVENT
DTSTART;TZID=America/Phoenix:20250911T140000
DTEND;TZID=America/Phoenix:20250911T150000
DTSTAMP:20260424T031435
CREATED:20250822T210924Z
LAST-MODIFIED:20250822T210924Z
UID:10003821-1757599200-1757602800@pimaparenting.org
SUMMARY:The Dangers of Vaping
DESCRIPTION:Learn about the risks of e-cigarettes\, also known as “vapes.” Learn why youth are using vapes and ways to protect youth in your life.
URL:https://pimaparenting.org/event/the-dangers-of-vaping/2025-09-11/
LOCATION:Zoom\, Arizona
CATEGORIES:All Caregivers,Behavioral Health,Families with Children Birth to Five,Families with School-aged (6-12) Children,Families with Teens,Foster Parents,Grandparents Raising Kids,Providers
ATTACH;FMTTYPE=image/png:https://pimaparenting.org/wp-content/uploads/2025/08/Dangers-of-Vaping-September.png
END:VEVENT
END:VCALENDAR