BEGIN:VCALENDAR
VERSION:2.0
PRODID:-//Pima County Parenting Coalition - ECPv6.15.16.1//NONSGML v1.0//EN
CALSCALE:GREGORIAN
METHOD:PUBLISH
X-WR-CALNAME:Pima County Parenting Coalition
X-ORIGINAL-URL:https://pimaparenting.org
X-WR-CALDESC:Events for Pima County Parenting Coalition
REFRESH-INTERVAL;VALUE=DURATION:PT1H
X-Robots-Tag:noindex
X-PUBLISHED-TTL:PT1H
BEGIN:VTIMEZONE
TZID:America/Phoenix
BEGIN:STANDARD
TZOFFSETFROM:-0700
TZOFFSETTO:-0700
TZNAME:MST
DTSTART:20240101T000000
END:STANDARD
END:VTIMEZONE
BEGIN:VEVENT
DTSTART;TZID=America/Phoenix:20250915T090000
DTEND;TZID=America/Phoenix:20250915T100000
DTSTAMP:20260424T021051
CREATED:20250813T202244Z
LAST-MODIFIED:20250813T202244Z
UID:10003711-1757926800-1757930400@pimaparenting.org
SUMMARY:Fun Family Fitness
DESCRIPTION:Have fun getting fit with your child while building healthy habits for life! Enjoy playful movement\, games\, and bonding time in a supportive\, active class that makes fitness fun for the whole family. A great way to inspire a lifelong love of wellness—together!
URL:https://pimaparenting.org/event/fun-family-fitness-3/
LOCATION:Family Resource Center at Sahuarita Food Bank\, 17750 S. La Canada\, Sahuarita\, AZ\, 85629\, United States
CATEGORIES:Families with Children Birth to Five
ATTACH;FMTTYPE=image/jpeg:https://pimaparenting.org/wp-content/uploads/2024/11/FFF-at-SFB-2.0.jpg
ORGANIZER;CN="Family Resource Center at Sahuarita Food Bank":MAILTO:irodela@sfb-crc.org
END:VEVENT
BEGIN:VEVENT
DTSTART;TZID=America/Phoenix:20250915T090000
DTEND;TZID=America/Phoenix:20250915T100000
DTSTAMP:20260424T021051
CREATED:20250818T224256Z
LAST-MODIFIED:20250818T224256Z
UID:10003813-1757926800-1757930400@pimaparenting.org
SUMMARY:Family Cafe
DESCRIPTION:Parents and caregivers can join us to share about the challenges and successes of raising their children\, provide support for each other\, discuss what they would like to see at the FRC\, and enjoy a nice time with each other. \nLos padres y cuidadores pueden unirse a nosotros para compartir sobre los desafíos y éxitos de criar a sus hijos\, brindarse apoyo mutuo\, discutir lo que les gustaría ver en el FRC y disfrutar de un momento agradable juntos.
URL:https://pimaparenting.org/event/family-cafe/
LOCATION:Family Resource Center at Robles Elementary\, 9875 S Sasabe Rd\, Tucson\, AZ\, 85736\, United States
CATEGORIES:Families with Children Birth to Five
ATTACH;FMTTYPE=image/jpeg:https://pimaparenting.org/wp-content/uploads/2024/11/Family-Cafe-at-AVSD-2.0.jpg
ORGANIZER;CN="Family Resource Center at Robles Elementary":MAILTO:dcordova@avsd.org
END:VEVENT
BEGIN:VEVENT
DTSTART;TZID=America/Phoenix:20250915T103000
DTEND;TZID=America/Phoenix:20250915T113000
DTSTAMP:20260424T021051
CREATED:20250804T164212Z
LAST-MODIFIED:20250804T165809Z
UID:10003702-1757932200-1757935800@pimaparenting.org
SUMMARY:TMC Ride Safe Kids-Car Seat Safety Class at ROBLES EL. FAMILY RESOURCE CENTER
DESCRIPTION:Take the stress out of car seat safety. This friendly\, hands-on session will guide you through everything you need to know to travel safely with your child — from newborn to booster seat. Participants will receive a free car seat or booster seat after attending. Leave with peace of mind\, new knowledge\, and the gear to match. \n  \nREGISTER AT: – https://events.tmcaz.com/event/tmc-ride-safe-kids-car-seat-education-class-at-robles-family-resource-center/ \n  \n  \n  \n  \n 
URL:https://pimaparenting.org/event/tmc-ride-safe-kids-car-seat-safety-class-at-robles-el-family-resource-center/
LOCATION:Family Resource Center at Robles Elementary\, 9875 S Sasabe Rd\, Tucson\, AZ\, 85736\, United States
CATEGORIES:Families with Children Birth to Five
ATTACH;FMTTYPE=image/png:https://pimaparenting.org/wp-content/uploads/2025/08/663097-TMC-for-Children-Ride-Safe-Graphic-scaled.png
ORGANIZER;CN="Family Resource Center at Robles Elementary":MAILTO:dcordova@avsd.org
END:VEVENT
BEGIN:VEVENT
DTSTART;TZID=America/Phoenix:20250915T103000
DTEND;TZID=America/Phoenix:20250915T113000
DTSTAMP:20260424T021051
CREATED:20250815T173851Z
LAST-MODIFIED:20250815T173851Z
UID:10003747-1757932200-1757935800@pimaparenting.org
SUMMARY:Sensory Exploration/ Exploración sensorial
DESCRIPTION:This class will expose your child to different colors\, shapes\, patterns\, materials and fabrics to feel help them accept so many transitions into this big world fill with experiences. \nEsta clase expondrá a su hijo a diferentes colores\, formas\, patrones\, materiales y telas para sentir que lo ayudan a aceptar tantas transiciones a este gran mundo lleno de experiencias.
URL:https://pimaparenting.org/event/sensory-exploration-exploracion-sensorial-4/
LOCATION:Family Resource Center at Sahuarita Food Bank\, 17750 S. La Canada\, Sahuarita\, AZ\, 85629\, United States
CATEGORIES:Families with Children Birth to Five
ATTACH;FMTTYPE=image/jpeg:https://pimaparenting.org/wp-content/uploads/2024/11/Sensory-at-SFB-2.0.jpg
ORGANIZER;CN="Laura Ontiveros-EBF":MAILTO:lontiveros@blake.easterseals.com
END:VEVENT
BEGIN:VEVENT
DTSTART;TZID=America/Phoenix:20250915T103000
DTEND;TZID=America/Phoenix:20250915T113000
DTSTAMP:20260424T021051
CREATED:20250818T215436Z
LAST-MODIFIED:20250818T215436Z
UID:10003790-1757932200-1757935800@pimaparenting.org
SUMMARY:HANDS IN NATURE: Art\, Exploration\, and Creative Play
DESCRIPTION:This is a nature-inspired class for children ages 2-5. Each session invites children to explore unique materials for art\, construction\, science\, literacy\, and more. Whether painting with mud\, building with sticks\, experimenting with water\, or storytelling with found objects\, children will engage in hands-on discovery that nurtures creativity\, problem solving\, and sensory exploration.
URL:https://pimaparenting.org/event/hands-in-nature-art-exploration-and-creative-play-17/
LOCATION:Family Resource Center at Los Ranchitos\, 2054 E Ginter Rd\, Tucson\, AZ\, 85706\, United States
CATEGORIES:Families with Children Birth to Five
ATTACH;FMTTYPE=image/jpeg:https://pimaparenting.org/wp-content/uploads/2024/11/UWTSA-Logo-2024-RBG.jpg
ORGANIZER;CN="Kyla Maciosek":MAILTO:kyla@naturecreatedplay.com
END:VEVENT
BEGIN:VEVENT
DTSTART;TZID=America/Phoenix:20250915T103000
DTEND;TZID=America/Phoenix:20250915T120000
DTSTAMP:20260424T021051
CREATED:20250815T173443Z
LAST-MODIFIED:20250915T164317Z
UID:10003745-1757932200-1757937600@pimaparenting.org
SUMMARY:Postpartum Support Group
DESCRIPTION:A support group for mothers adjusting to the physical\, emotional and relational demands of new parenthood. Becoming a parent is a significant life change. Many women experience perinatal emotional complications that affect the whole family. Having support from professionals and peers can make the transition easier.
URL:https://pimaparenting.org/event/postpartum-support-group-9/
LOCATION:Family Resource Center at Sahuarita Food Bank\, 17750 S. La Canada\, Sahuarita\, AZ\, 85629\, United States
CATEGORIES:Families with Children Birth to Five
ATTACH;FMTTYPE=image/jpeg:https://pimaparenting.org/wp-content/uploads/2024/11/Casa3-at-SFB-2.0.jpg
ORGANIZER;CN="Terry Wilson -CDLN":MAILTO:teresa6@mindspring.com
END:VEVENT
END:VCALENDAR