BEGIN:VCALENDAR
VERSION:2.0
PRODID:-//Pima County Parenting Coalition - ECPv6.15.16.1//NONSGML v1.0//EN
CALSCALE:GREGORIAN
METHOD:PUBLISH
X-WR-CALNAME:Pima County Parenting Coalition
X-ORIGINAL-URL:https://pimaparenting.org
X-WR-CALDESC:Events for Pima County Parenting Coalition
REFRESH-INTERVAL;VALUE=DURATION:PT1H
X-Robots-Tag:noindex
X-PUBLISHED-TTL:PT1H
BEGIN:VTIMEZONE
TZID:America/Phoenix
BEGIN:STANDARD
TZOFFSETFROM:-0700
TZOFFSETTO:-0700
TZNAME:MST
DTSTART:20240101T000000
END:STANDARD
END:VTIMEZONE
BEGIN:VEVENT
DTSTART;TZID=America/Phoenix:20250916T090000
DTEND;TZID=America/Phoenix:20250916T100000
DTSTAMP:20260424T031435
CREATED:20250818T192709Z
LAST-MODIFIED:20250818T192709Z
UID:10003777-1758013200-1758016800@pimaparenting.org
SUMMARY:Masaje de manos nutritivas para bebés-Los Ranchitos Family Resource Center
DESCRIPTION:Los padres aprenderán varias técnicas de masaje mientras aprenden sobre las ventajas de la terapia de masaje para su bebé. Tenga en cuenta que los padres y el bebé (0-9 meses) deben asistir juntos a esta clase.
URL:https://pimaparenting.org/event/masaje-de-manos-nutritivas-para-bebes-los-ranchitos-family-resource-center-25/
LOCATION:Family Resource Center at Los Ranchitos\, 2054 E Ginter Rd\, Tucson\, AZ\, 85706\, United States
CATEGORIES:Families with Children Birth to Five
ATTACH;FMTTYPE=image/jpeg:https://pimaparenting.org/wp-content/uploads/2024/03/Baby-Massage-at-SUSD.jpg
ORGANIZER;CN="Laura Ontiveros-EBF":MAILTO:lontiveros@blake.easterseals.com
END:VEVENT
BEGIN:VEVENT
DTSTART;TZID=America/Phoenix:20250916T103000
DTEND;TZID=America/Phoenix:20250916T113000
DTSTAMP:20260424T031435
CREATED:20250717T041036Z
LAST-MODIFIED:20250821T193457Z
UID:10003659-1758018600-1758022200@pimaparenting.org
SUMMARY:Story School - Family Resource Center at Sahuarita Food Bank
DESCRIPTION:This early reading program for kids and parents/caregivers includes sharing stories\, music and movement\, and activities to do in class and at home. Families receive 20 free books & school supplies. \nVisit www.mystoryschool.org/apply to register today! \n***CLASS IS CURRENTLY FULL*** \n  \n  \n 
URL:https://pimaparenting.org/event/story-school-family-resource-center-at-sahuarita-food-bank-8/
LOCATION:Family Resource Center at Sahuarita Food Bank\, 17750 S. La Canada\, Sahuarita\, AZ\, 85629\, United States
CATEGORIES:Families with Children Birth to Five
ATTACH;FMTTYPE=image/jpeg:https://pimaparenting.org/wp-content/uploads/2024/11/Story-School-at-SFB-2.0.jpg
ORGANIZER;CN="Nando Trujillo-MWFB":MAILTO:nando@makewayforbooks.org
END:VEVENT
BEGIN:VEVENT
DTSTART;TZID=America/Phoenix:20250916T103000
DTEND;TZID=America/Phoenix:20250916T113000
DTSTAMP:20260424T031435
CREATED:20250818T221714Z
LAST-MODIFIED:20250916T031224Z
UID:10003796-1758018600-1758022200@pimaparenting.org
SUMMARY:Baby Signs Too
DESCRIPTION:Come join Parent Aid and Vanessa for a great opportunity to learn sign language with your little one! Learn how to enhance early communication skills\, reduce tantrums\, and promote language development with the addition to nurturing your bond and understanding your child’s needs. Baby Signs Too is designed to be used with families with hearing infants and toddlers. \nRegistration is FREE! \nClass is offered in-person at the Family Resource Center at Robles Elementary. \nWe look forward to seeing you there!
URL:https://pimaparenting.org/event/baby-signs-too-10/
LOCATION:Family Resource Center at Robles Elementary\, 9875 S Sasabe Rd\, Tucson\, AZ\, 85736\, United States
CATEGORIES:All Caregivers,Families with Children Birth to Five
ATTACH;FMTTYPE=image/jpeg:https://pimaparenting.org/wp-content/uploads/2024/11/BST-at-AVSD-2.0.jpg
ORGANIZER;CN="Vanessa Batson- PA":MAILTO:vanessa@parentaid.org
END:VEVENT
BEGIN:VEVENT
DTSTART;TZID=America/Phoenix:20250916T173000
DTEND;TZID=America/Phoenix:20250916T193000
DTSTAMP:20260424T031435
CREATED:20250815T174324Z
LAST-MODIFIED:20250815T174324Z
UID:10003748-1758043800-1758051000@pimaparenting.org
SUMMARY:Understanding Why Parents Spank their Children-VIRTUAL CLASS
DESCRIPTION:This topic is from the Nurturing Parenting Program. \nThere will be discussions around all reasons why parents choose to spank their children\, and non-violent alternative means of discipline with young children \nRegister at Understanding Why Parents Spank their Children ⋆ Casa de los Niños
URL:https://pimaparenting.org/event/understanding-why-parents-spank-their-children-virtual-class/
LOCATION:Family Resource Center at Sahuarita Food Bank\, 17750 S. La Canada\, Sahuarita\, AZ\, 85629\, United States
CATEGORIES:Families with Children Birth to Five
ATTACH;FMTTYPE=image/jpeg:https://pimaparenting.org/wp-content/uploads/2024/11/Casa2-at-SFB-2.0.jpg
ORGANIZER;CN="Mele Ferreira":MAILTO:melef@casadelosninos.org
END:VEVENT
BEGIN:VEVENT
DTSTART;TZID=America/Phoenix:20250916T173000
DTEND;TZID=America/Phoenix:20250916T193000
DTSTAMP:20260424T031435
CREATED:20250815T174454Z
LAST-MODIFIED:20250815T174454Z
UID:10003749-1758043800-1758051000@pimaparenting.org
SUMMARY:Understanding Why Parents Spank their Children-VIRTUAL CLASS
DESCRIPTION:This topic is from the Nurturing Parenting Program. \nThere will be discussions around all reasons why parents choose to spank their children\, and non-violent alternative means of discipline with young children \nRegister at Understanding Why Parents Spank their Children ⋆ Casa de los Niños
URL:https://pimaparenting.org/event/understanding-why-parents-spank-their-children-virtual-class-2/
LOCATION:Family Resource Center at Los Ranchitos\, 2054 E Ginter Rd\, Tucson\, AZ\, 85706\, United States
CATEGORIES:Families with Children Birth to Five
ATTACH;FMTTYPE=image/jpeg:https://pimaparenting.org/wp-content/uploads/2024/11/Casa2-at-SUSD-2.0.jpg
ORGANIZER;CN="Mele Ferreira":MAILTO:melef@casadelosninos.org
END:VEVENT
BEGIN:VEVENT
DTSTART;TZID=America/Phoenix:20250916T173000
DTEND;TZID=America/Phoenix:20250916T193000
DTSTAMP:20260424T031435
CREATED:20250815T174554Z
LAST-MODIFIED:20250815T174554Z
UID:10003750-1758043800-1758051000@pimaparenting.org
SUMMARY:Understanding Why Parents Spank their Children-VIRTUAL CLASS
DESCRIPTION:This topic is from the Nurturing Parenting Program. \nThere will be discussions around all reasons why parents choose to spank their children\, and non-violent alternative means of discipline with young children \nRegister at Understanding Why Parents Spank their Children ⋆ Casa de los Niños
URL:https://pimaparenting.org/event/understanding-why-parents-spank-their-children-virtual-class-3/
LOCATION:Family Resource Center at Robles Elementary\, 9875 S Sasabe Rd\, Tucson\, AZ\, 85736\, United States
CATEGORIES:Families with Children Birth to Five
ATTACH;FMTTYPE=image/jpeg:https://pimaparenting.org/wp-content/uploads/2024/11/Casa2-at-AVSD-2.0.jpg
ORGANIZER;CN="Mele Ferreira":MAILTO:melef@casadelosninos.org
END:VEVENT
END:VCALENDAR