BEGIN:VCALENDAR
VERSION:2.0
PRODID:-//Pima County Parenting Coalition - ECPv6.15.16.1//NONSGML v1.0//EN
CALSCALE:GREGORIAN
METHOD:PUBLISH
X-WR-CALNAME:Pima County Parenting Coalition
X-ORIGINAL-URL:https://pimaparenting.org
X-WR-CALDESC:Events for Pima County Parenting Coalition
REFRESH-INTERVAL;VALUE=DURATION:PT1H
X-Robots-Tag:noindex
X-PUBLISHED-TTL:PT1H
BEGIN:VTIMEZONE
TZID:America/Phoenix
BEGIN:STANDARD
TZOFFSETFROM:-0700
TZOFFSETTO:-0700
TZNAME:MST
DTSTART:20240101T000000
END:STANDARD
END:VTIMEZONE
BEGIN:VEVENT
DTSTART;TZID=America/Phoenix:20250919T093000
DTEND;TZID=America/Phoenix:20250919T110000
DTSTAMP:20260424T021106
CREATED:20250818T215639Z
LAST-MODIFIED:20250818T215639Z
UID:10003791-1758274200-1758279600@pimaparenting.org
SUMMARY:CAFECITO GRUPO DE CRIANZA COMPARTIDA
DESCRIPTION:Un grupo de apoyo para madres que se adaptan a las demandas físicas\, emocionales y relacionales de la maternidad. Convertirse en madres es un cambio significativo en la vida. Muchas mujeres experimentan complicaciones emocionales perinatales que afectan a toda la familia. Contar con el apoyo de profesionales y compañeros puede facilitar la transición.
URL:https://pimaparenting.org/event/cafecito-grupo-de-crianza-compartida-2/
LOCATION:Family Resource Center at Los Ranchitos\, 2054 E Ginter Rd\, Tucson\, AZ\, 85706\, United States
CATEGORIES:Families with Children Birth to Five
ATTACH;FMTTYPE=image/jpeg:https://pimaparenting.org/wp-content/uploads/2024/11/Casa3-at-SUSD-2.0.jpg
ORGANIZER;CN="Terry Wilson -CDLN":MAILTO:teresa6@mindspring.com
END:VEVENT
BEGIN:VEVENT
DTSTART;TZID=America/Phoenix:20250919T100000
DTEND;TZID=America/Phoenix:20250919T110000
DTSTAMP:20260424T021106
CREATED:20250818T225908Z
LAST-MODIFIED:20250818T225908Z
UID:10003815-1758276000-1758279600@pimaparenting.org
SUMMARY:Stay & Play- Family Resource Center at Robles Elementary
DESCRIPTION:Join our Stay and Play class designed for families with children 0-5 years of age and their grownups! This engaging program invites grownups and little ones to play and socialize together using a diverse range of materials aimed at fostering all areas of development. We emphasize social skills\, literacy\, and communication\, creating a supportive environment where children can explore\, learn\, and make new friends. Come enjoy quality time while helping your child thrive in their early learning journey!
URL:https://pimaparenting.org/event/stay-play-family-resource-center-at-robles-elementary/
LOCATION:Family Resource Center at Robles Elementary\, 9875 S Sasabe Rd\, Tucson\, AZ\, 85736\, United States
CATEGORIES:Families with Children Birth to Five
ATTACH;FMTTYPE=image/jpeg:https://pimaparenting.org/wp-content/uploads/2024/12/Stay-and-Play-at-AVSD-2.0.jpg
ORGANIZER;CN="Lela Messick-UWTSA":MAILTO:lmessick@unitedwaytucson.org
END:VEVENT
BEGIN:VEVENT
DTSTART;TZID=America/Phoenix:20250919T103000
DTEND;TZID=America/Phoenix:20250919T113000
DTSTAMP:20260424T021106
CREATED:20250813T222018Z
LAST-MODIFIED:20250815T183145Z
UID:10003719-1758277800-1758281400@pimaparenting.org
SUMMARY:Cardio Beats: Family Drum Fitness
DESCRIPTION:Get ready to move\, groove\, and sweat — Cardio Beats is a high-energy\, family-friendly fitness class designed to bring parents and kids together through rhythm and movement! Led by Noah at Parent Aid\, this unique experience combines upbeat cardio exercises for adults with fun\, age-appropriate drumming for little ones\, creating a shared space for wellness and connection. \nWhether you’re looking to boost your energy\, bond with your child\, or just have a blast — this class is for you!\n👟 Wear comfy clothes and sneakers\n💧 Bring your water bottle\n🎶 And get ready to find your family rhythm! \nFREE in-person class at the Family Resource Center at the Sahuarita Food Bank.\nGot questions? Reach out to Noah — we’re happy to help! \nSpaces are limited — register today and join the beat!
URL:https://pimaparenting.org/event/cardio-beats-family-drum-fitness-7/
LOCATION:Family Resource Center at Sahuarita Food Bank\, 17750 S. La Canada\, Sahuarita\, AZ\, 85629\, United States
CATEGORIES:Families with Children Birth to Five
ATTACH;FMTTYPE=image/png:https://pimaparenting.org/wp-content/uploads/2025/07/Cardio-Beats-at-SFB.png
ORGANIZER;CN="Noah Paul - PA":MAILTO:noah@parentaid.org
END:VEVENT
BEGIN:VEVENT
DTSTART;TZID=America/Phoenix:20250919T123000
DTEND;TZID=America/Phoenix:20250919T133000
DTSTAMP:20260424T021106
CREATED:20250813T200833Z
LAST-MODIFIED:20250821T193733Z
UID:10003707-1758285000-1758288600@pimaparenting.org
SUMMARY:Soothing Strokes Baby Massage
DESCRIPTION:An infant massage class based on ancient traditions teaches gentle\, rhythmic techniques passed down through generations to promote bonding\, relaxation\, and healthy development for babies. Soothing Strokes is 5 weekly 90-minute sessions. We cover something different each class ending in the culmination being able to do a thorough infant massage. \nInfant massage is focused on children birth to 12 months. \nChild care for your older children can be provided as necessary with notice. \nYou bring your baby and we will bring the oil and the relaxed vibes. See you there!
URL:https://pimaparenting.org/event/soothing-strokes-baby-massage-14/
LOCATION:Family Resource Center at Sahuarita Food Bank\, 17750 S. La Canada\, Sahuarita\, AZ\, 85629\, United States
CATEGORIES:All Caregivers,Families with Children Birth to Five
ATTACH;FMTTYPE=image/png:https://pimaparenting.org/wp-content/uploads/2025/04/Soothing-Strokes-at-SFB.png
ORGANIZER;CN="Amanda Ward McNeal- PA":MAILTO:amanda@parentaid.org
END:VEVENT
END:VCALENDAR