BEGIN:VCALENDAR
VERSION:2.0
PRODID:-//Pima County Parenting Coalition - ECPv6.15.16.1//NONSGML v1.0//EN
CALSCALE:GREGORIAN
METHOD:PUBLISH
X-WR-CALNAME:Pima County Parenting Coalition
X-ORIGINAL-URL:https://pimaparenting.org
X-WR-CALDESC:Events for Pima County Parenting Coalition
REFRESH-INTERVAL;VALUE=DURATION:PT1H
X-Robots-Tag:noindex
X-PUBLISHED-TTL:PT1H
BEGIN:VTIMEZONE
TZID:America/Phoenix
BEGIN:STANDARD
TZOFFSETFROM:-0700
TZOFFSETTO:-0700
TZNAME:MST
DTSTART:20240101T000000
END:STANDARD
END:VTIMEZONE
BEGIN:VEVENT
DTSTART;TZID=America/Phoenix:20250923T090000
DTEND;TZID=America/Phoenix:20250923T100000
DTSTAMP:20260424T010950
CREATED:20250815T161052Z
LAST-MODIFIED:20250922T211822Z
UID:10003731-1758618000-1758621600@pimaparenting.org
SUMMARY:Garden Discovery Days-Class held at Pima County Cooperative Extension Office 530 E. Whitehouse Canyon Rd. Green Valley\, AZ 85614
DESCRIPTION:This class connects you and your child with the garden\, through hands on activities as you learn where food comes from\, learn about nature and make fun nature crafts.  \nPLEASE NOTE: Class is held at the Pima County Cooperative Extension Office 530 E. Whitehouse Canyon Rd. Green Valley\, AZ 85614
URL:https://pimaparenting.org/event/garden-discovery-days-class-held-at-pima-county-cooperative-extension-office-530-e-whitehouse-canyon-rd-green-valley-az-85614-16/
LOCATION:Family Resource Center at Sahuarita Food Bank\, 17750 S. La Canada\, Sahuarita\, AZ\, 85629\, United States
CATEGORIES:Families with Children Birth to Five
ATTACH;FMTTYPE=image/png:https://pimaparenting.org/wp-content/uploads/2025/04/GDD-at-SFB-2.0.png
ORGANIZER;CN="Cassie Burrel - UACE":MAILTO:cassieb@ag.arizona.edu
END:VEVENT
BEGIN:VEVENT
DTSTART;TZID=America/Phoenix:20250923T103000
DTEND;TZID=America/Phoenix:20250923T113000
DTSTAMP:20260424T010950
CREATED:20250717T041132Z
LAST-MODIFIED:20250821T185641Z
UID:10003661-1758623400-1758627000@pimaparenting.org
SUMMARY:Story School - Family Resource Center at Sahuarita Food Bank
DESCRIPTION:This early reading program for kids and parents/caregivers includes sharing stories\, music and movement\, and activities to do in class and at home. Families receive 20 free books & school supplies. \nVisit www.mystoryschool.org/apply to register today! \n***CLASS IS CURRENTLY FULL*** \n  \n 
URL:https://pimaparenting.org/event/story-school-family-resource-center-at-sahuarita-food-bank-10/
LOCATION:Family Resource Center at Sahuarita Food Bank\, 17750 S. La Canada\, Sahuarita\, AZ\, 85629\, United States
CATEGORIES:Families with Children Birth to Five
ATTACH;FMTTYPE=image/jpeg:https://pimaparenting.org/wp-content/uploads/2024/11/Story-School-at-SFB-2.0.jpg
ORGANIZER;CN="Nando Trujillo-MWFB":MAILTO:nando@makewayforbooks.org
END:VEVENT
BEGIN:VEVENT
DTSTART;TZID=America/Phoenix:20250923T103000
DTEND;TZID=America/Phoenix:20250923T113000
DTSTAMP:20260424T010950
CREATED:20250818T204416Z
LAST-MODIFIED:20250818T204416Z
UID:10003782-1758623400-1758627000@pimaparenting.org
SUMMARY:Wonders of the Desert: Nature Play & Storytime
DESCRIPTION:Wonders of the Desert: Nature Play & Storytime-Lizards \nJoin us for an enriching sensory adventure in Wonders of the Desert\, where young children (ages 2–5) explore the natural world through play-based\, developmentally appropriate outdoor activities. Guided by a trained nature-based educator\, each session offers three to four fun hands-on experiences—like digging\, building\, crafting\, and observing—designed to spark curiosity and build early learning skills. We’ll wrap up with a themed Storytime that ties everything together\, helping little ones connect\, imagine\, and grow in nature. All participants will be given a Family Activity page in English & Spanish to extend the learning and fun at home. \nThis week’s class Lizards- Families will observe and pretend to be desert lizards\, learning how they move\, stay cool\, and hide in their environment. Through playful games and activities\, children build body awareness\, practice observation skills\, and discover how lizards survive in the desert.
URL:https://pimaparenting.org/event/wonders-of-the-desert-nature-play-storytime-9/
LOCATION:Family Resource Center at Los Ranchitos\, 2054 E Ginter Rd\, Tucson\, AZ\, 85706\, United States
CATEGORIES:Families with Children Birth to Five
ATTACH;FMTTYPE=image/png:https://pimaparenting.org/wp-content/uploads/2025/07/Wonders-of-the-Desert-at-SUSD.png
ORGANIZER;CN="Debi with CFNPPC":MAILTO:debimorgan4@gmail.com
END:VEVENT
BEGIN:VEVENT
DTSTART;TZID=America/Phoenix:20250923T103000
DTEND;TZID=America/Phoenix:20250923T113000
DTSTAMP:20260424T010950
CREATED:20250818T221805Z
LAST-MODIFIED:20250818T221805Z
UID:10003797-1758623400-1758627000@pimaparenting.org
SUMMARY:Baby Signs Too
DESCRIPTION:Come join Parent Aid and Vanessa for a great opportunity to learn sign language with your little one! Learn how to enhance early communication skills\, reduce tantrums\, and promote language development with the addition to nurturing your bond and understanding your child’s needs. Baby Signs Too is designed to be used with families with hearing infants and toddlers. \nRegistration is FREE! \nClass is offered in-person at the Family Resource Center at Robles Elementary. \nWe look forward to seeing you there!
URL:https://pimaparenting.org/event/baby-signs-too-11/
LOCATION:Family Resource Center at Robles Elementary\, 9875 S Sasabe Rd\, Tucson\, AZ\, 85736\, United States
CATEGORIES:All Caregivers,Families with Children Birth to Five
ATTACH;FMTTYPE=image/jpeg:https://pimaparenting.org/wp-content/uploads/2024/11/BST-at-AVSD-2.0.jpg
ORGANIZER;CN="Vanessa Batson- PA":MAILTO:vanessa@parentaid.org
END:VEVENT
BEGIN:VEVENT
DTSTART;TZID=America/Phoenix:20250923T113000
DTEND;TZID=America/Phoenix:20250923T123000
DTSTAMP:20260424T010950
CREATED:20250818T223858Z
LAST-MODIFIED:20250818T223858Z
UID:10003810-1758627000-1758630600@pimaparenting.org
SUMMARY:Happy Hour: Family Playtime
DESCRIPTION:Join Vanessa at Parent Aid for a playful\, stress-free hour of connection\, creativity\, and community! Happy Hour: Family Playtime is a warm and welcoming space where parents and children explore the joy of free play — together. \nThis interactive experience helps little ones build important social skills while giving parents the chance to connect with one another\, share experiences\, and step into their child’s world through play. It’s a perfect blend of bonding\, support\, and fun — no agenda\, no pressure\, just quality time. \n✨ Meet other parents\n🧸 Support your child’s growth through play\n💬 Enjoy thoughtful conversations in a relaxed environment \nCome as you are — stay for the smiles.\nBecause connection is the real happy hour.
URL:https://pimaparenting.org/event/happy-hour-family-playtime-9/
LOCATION:Family Resource Center at Robles Elementary\, 9875 S Sasabe Rd\, Tucson\, AZ\, 85736\, United States
CATEGORIES:Families with Children Birth to Five
ATTACH;FMTTYPE=image/png:https://pimaparenting.org/wp-content/uploads/2025/07/Happy-Hour-at-AVSD.png
ORGANIZER;CN="Vanessa Batson- PA":MAILTO:vanessa@parentaid.org
END:VEVENT
BEGIN:VEVENT
DTSTART;TZID=America/Phoenix:20250923T130000
DTEND;TZID=America/Phoenix:20250923T140000
DTSTAMP:20260424T010950
CREATED:20250815T161638Z
LAST-MODIFIED:20250818T204213Z
UID:10003734-1758632400-1758636000@pimaparenting.org
SUMMARY:Wonders of the Desert: Nature Play & Storytime-CLASS IS NOW HELD ONSITE AT THE SAHUARITA FRC
DESCRIPTION:Wonders of the Desert: Nature Play & Storytime-Lizards \nJoin us for an enriching sensory adventure in Wonders of the Desert\, where young children (ages 2–5) explore the natural world through play-based\, developmentally appropriate outdoor activities. Guided by a trained nature-based educator\, each session offers three to four fun hands-on experiences—like digging\, building\, crafting\, and observing—designed to spark curiosity and build early learning skills. We’ll wrap up with a themed Storytime that ties everything together\, helping little ones connect\, imagine\, and grow in nature. All participants will be given a Family Activity page in English & Spanish to extend the learning and fun at home. \nThis week’s class Lizards- Families will observe and pretend to be desert lizards\, learning how they move\, stay cool\, and hide in their environment. Through playful games and activities\, children build body awareness\, practice observation skills\, and discover how lizards survive in the desert.
URL:https://pimaparenting.org/event/wonders-of-the-desert-nature-play-storytime-class-is-now-held-onsite-at-the-sahuarita-frc-2/
LOCATION:Family Resource Center at Sahuarita Food Bank\, 17750 S. La Canada\, Sahuarita\, AZ\, 85629\, United States
CATEGORIES:Families with Children Birth to Five
ATTACH;FMTTYPE=image/png:https://pimaparenting.org/wp-content/uploads/2025/07/Wonders-of-the-Desert-at-SFB.png
ORGANIZER;CN="Debi with CFNPPC":MAILTO:debimorgan4@gmail.com
END:VEVENT
BEGIN:VEVENT
DTSTART;TZID=America/Phoenix:20250923T130000
DTEND;TZID=America/Phoenix:20250923T140000
DTSTAMP:20260424T010950
CREATED:20250818T214228Z
LAST-MODIFIED:20250818T214228Z
UID:10003787-1758632400-1758636000@pimaparenting.org
SUMMARY:Fine Arts for Kids- Family Resource Center at Los Ranchitos
DESCRIPTION:Join us for a fun and creative class designed for children and their parents or caregivers! Together\, you’ll explore hands-on activities that encourage focus\, help build self-control and promote teamwork and communication. It’s a great way to bond\, learn\, and get inspired through art!
URL:https://pimaparenting.org/event/fine-arts-for-kids-family-resource-center-at-los-ranchitos-5/
LOCATION:Family Resource Center at Los Ranchitos\, 2054 E Ginter Rd\, Tucson\, AZ\, 85706\, United States
CATEGORIES:Families with Children Birth to Five
ATTACH;FMTTYPE=image/jpeg:https://pimaparenting.org/wp-content/uploads/2024/11/Fine-Arts-at-SUSD-2.0.jpg
ORGANIZER;CN="Stephaine Carl - UACE":MAILTO:sacarl@arizona.edu
END:VEVENT
BEGIN:VEVENT
DTSTART;TZID=America/Phoenix:20250923T173000
DTEND;TZID=America/Phoenix:20250923T193000
DTSTAMP:20260424T010950
CREATED:20250815T172702Z
LAST-MODIFIED:20250815T172702Z
UID:10003742-1758648600-1758655800@pimaparenting.org
SUMMARY:Let’s Talk “Time-Out”- VIRTUAL CLASS
DESCRIPTION:This topic is from the Nurturing Parenting Program. \nThis class will discuss what Time-Out is and when to use this technique. \nTime-Out is a temporary isolation from positive reinforcement of a child from others\, when a child chooses to act out inappropriately\, and places them in a non-reinforcing environment. \nTime-Out can be voluntary or involuntary. \nRegister at Let’s Talk “Time-Out” ⋆ Casa de los Niños
URL:https://pimaparenting.org/event/lets-talk-time-out-virtual-class/
LOCATION:Family Resource Center at Sahuarita Food Bank\, 17750 S. La Canada\, Sahuarita\, AZ\, 85629\, United States
CATEGORIES:Families with Children Birth to Five
ATTACH;FMTTYPE=image/jpeg:https://pimaparenting.org/wp-content/uploads/2024/11/Casa4-at-SFB-2.0.jpg
ORGANIZER;CN="Vanessa Villegas-CDLN":MAILTO:vanessac@casadelosninos.org
END:VEVENT
BEGIN:VEVENT
DTSTART;TZID=America/Phoenix:20250923T173000
DTEND;TZID=America/Phoenix:20250923T193000
DTSTAMP:20260424T010950
CREATED:20250815T172811Z
LAST-MODIFIED:20250815T173011Z
UID:10003743-1758648600-1758655800@pimaparenting.org
SUMMARY:Let’s Talk “Time-Out”- VIRTUAL CLASS
DESCRIPTION:This topic is from the Nurturing Parenting Program. \nThis class will discuss what Time-Out is and when to use this technique. \nTime-Out is a temporary isolation from positive reinforcement of a child from others\, when a child chooses to act out inappropriately\, and places them in a non-reinforcing environment. \nTime-Out can be voluntary or involuntary. \nRegister at Let’s Talk “Time-Out” ⋆ Casa de los Niños
URL:https://pimaparenting.org/event/lets-talk-time-out-virtual-class-2/
LOCATION:Family Resource Center at Los Ranchitos\, 2054 E Ginter Rd\, Tucson\, AZ\, 85706\, United States
CATEGORIES:Families with Children Birth to Five
ATTACH;FMTTYPE=image/jpeg:https://pimaparenting.org/wp-content/uploads/2024/11/Casa4-at-SUSD-2.0.jpg
ORGANIZER;CN="Vanessa Villegas-CDLN":MAILTO:vanessac@casadelosninos.org
END:VEVENT
BEGIN:VEVENT
DTSTART;TZID=America/Phoenix:20250923T173000
DTEND;TZID=America/Phoenix:20250923T193000
DTSTAMP:20260424T010950
CREATED:20250815T172926Z
LAST-MODIFIED:20250815T172926Z
UID:10003744-1758648600-1758655800@pimaparenting.org
SUMMARY:Let’s Talk “Time-Out”- VIRTUAL CLASS
DESCRIPTION:This topic is from the Nurturing Parenting Program. \nThis class will discuss what Time-Out is and when to use this technique. \nTime-Out is a temporary isolation from positive reinforcement of a child from others\, when a child chooses to act out inappropriately\, and places them in a non-reinforcing environment. \nTime-Out can be voluntary or involuntary. \nRegister at Let’s Talk “Time-Out” ⋆ Casa de los Niños
URL:https://pimaparenting.org/event/lets-talk-time-out-virtual-class-3/
LOCATION:Family Resource Center at Robles Elementary\, 9875 S Sasabe Rd\, Tucson\, AZ\, 85736\, United States
CATEGORIES:Families with Children Birth to Five
ATTACH;FMTTYPE=image/jpeg:https://pimaparenting.org/wp-content/uploads/2024/11/Casa4-at-AVSD-2.0.jpg
ORGANIZER;CN="Vanessa Villegas-CDLN":MAILTO:vanessac@casadelosninos.org
END:VEVENT
END:VCALENDAR