BEGIN:VCALENDAR
VERSION:2.0
PRODID:-//Pima County Parenting Coalition - ECPv6.15.16.1//NONSGML v1.0//EN
CALSCALE:GREGORIAN
METHOD:PUBLISH
X-WR-CALNAME:Pima County Parenting Coalition
X-ORIGINAL-URL:https://pimaparenting.org
X-WR-CALDESC:Events for Pima County Parenting Coalition
REFRESH-INTERVAL;VALUE=DURATION:PT1H
X-Robots-Tag:noindex
X-PUBLISHED-TTL:PT1H
BEGIN:VTIMEZONE
TZID:America/Phoenix
BEGIN:STANDARD
TZOFFSETFROM:-0700
TZOFFSETTO:-0700
TZNAME:MST
DTSTART:20240101T000000
END:STANDARD
END:VTIMEZONE
BEGIN:VEVENT
DTSTART;TZID=America/Phoenix:20251003T103000
DTEND;TZID=America/Phoenix:20251003T113000
DTSTAMP:20260423T211603
CREATED:20250914T021310Z
LAST-MODIFIED:20250914T021310Z
UID:10003891-1759487400-1759491000@pimaparenting.org
SUMMARY:Zumbini
DESCRIPTION:Come join Amanda and Parent Aid for a fun hour of music and movement! This class will enhance your child’s development of their social-emotional\, cognitive and physical skills. Zumbini is designed for families with kiddos birth to 5-years old. Zumbini is an interactive activity for Parents and Kiddos! Bring your most comfortable dancing shoes and we’ll see you there! \nRegistration is FREE! \nClass is offered in-person at the Family Resource Center at the Sahuarita Food Bank. \nEmail Amanda with any questions you have about the group. \nWe look forward to seeing you there!
URL:https://pimaparenting.org/event/zumbini/
LOCATION:Family Resource Center at Sahuarita Food Bank\, 17750 S. La Canada\, Sahuarita\, AZ\, 85629\, United States
CATEGORIES:All Caregivers,Families with Children Birth to Five
ATTACH;FMTTYPE=image/jpeg:https://pimaparenting.org/wp-content/uploads/2024/11/Zumbini-at-SFB-2.0.jpg
ORGANIZER;CN="Amanda Ward McNeal- PA":MAILTO:amanda@parentaid.org
END:VEVENT
BEGIN:VEVENT
DTSTART;TZID=America/Phoenix:20251003T110000
DTEND;TZID=America/Phoenix:20251003T123000
DTSTAMP:20260423T211603
CREATED:20250914T031645Z
LAST-MODIFIED:20250914T133231Z
UID:10003931-1759489200-1759494600@pimaparenting.org
SUMMARY:Claves para una Digestión Sana
DESCRIPTION:Ofrecemos soluciones simples como recetas que fomentan hábitos saludables para prevenir malestares y sanar tu digestión. Promoviendo más vitalidad y energía. \n 
URL:https://pimaparenting.org/event/claves-para-una-digestion-sana/
LOCATION:Family Resource Center at Los Ranchitos\, 2054 E Ginter Rd\, Tucson\, AZ\, 85706\, United States
CATEGORIES:Families with Children Birth to Five
ATTACH;FMTTYPE=image/png:https://pimaparenting.org/wp-content/uploads/2025/07/Parent-Aid-Logo_Vertical_FULL-COLOR.png
ORGANIZER;CN="Martha Luz with Parent Aid":MAILTO:marthaluz@parentaid.org
END:VEVENT
BEGIN:VEVENT
DTSTART;TZID=America/Phoenix:20251003T140000
DTEND;TZID=America/Phoenix:20251003T150000
DTSTAMP:20260423T211603
CREATED:20250913T233034Z
LAST-MODIFIED:20250914T131531Z
UID:10003806-1759500000-1759503600@pimaparenting.org
SUMMARY:Move and Groove Playtime
DESCRIPTION:This interactive class for children ages 2-5 and their parents. Through music\, dancing\, and playful movement\, kids\ndevelop coordination\, balance\, and creativity while strengthening their bond with parents. Colorful props and lively\ntunes make each session exciting and engaging\, promoting physical development and social skills in a safe\,\nsupportive environment. Perfect for little ones who love to move and groove!
URL:https://pimaparenting.org/event/move-and-groove-playtime-9/
LOCATION:Family Resource Center at Robles Elementary\, 9875 S Sasabe Rd\, Tucson\, AZ\, 85736\, United States
CATEGORIES:Families with Children Birth to Five
ATTACH;FMTTYPE=image/jpeg:https://pimaparenting.org/wp-content/uploads/2024/11/Family-Resource-Center-Logo-1.jpg
ORGANIZER;CN="Maggie McKiernan - UWTSA":MAILTO:mggqt.2010@gmail.com
END:VEVENT
END:VCALENDAR