BEGIN:VCALENDAR
VERSION:2.0
PRODID:-//Pima County Parenting Coalition - ECPv6.15.16.1//NONSGML v1.0//EN
CALSCALE:GREGORIAN
METHOD:PUBLISH
X-WR-CALNAME:Pima County Parenting Coalition
X-ORIGINAL-URL:https://pimaparenting.org
X-WR-CALDESC:Events for Pima County Parenting Coalition
REFRESH-INTERVAL;VALUE=DURATION:PT1H
X-Robots-Tag:noindex
X-PUBLISHED-TTL:PT1H
BEGIN:VTIMEZONE
TZID:America/Phoenix
BEGIN:STANDARD
TZOFFSETFROM:-0700
TZOFFSETTO:-0700
TZNAME:MST
DTSTART:20240101T000000
END:STANDARD
END:VTIMEZONE
BEGIN:VEVENT
DTSTART;TZID=America/Phoenix:20251009T090000
DTEND;TZID=America/Phoenix:20251009T100000
DTSTAMP:20260424T010950
CREATED:20250914T024416Z
LAST-MODIFIED:20250914T024416Z
UID:10003910-1760000400-1760004000@pimaparenting.org
SUMMARY:Stay & Play- Toddler Time / Family Resource Center at Sahuarita Food Bank
DESCRIPTION:Join us for our Toddler Time class\, designed for families with children from infants to 2 years old! In this interactive environment\, grownups and little ones will engage in play and socialization using a variety of carefully selected materials that promote holistic development. Our focus is on enhancing social skills\, literacy\, and communication\, providing a nurturing space for toddlers to explore and grow together with their caregivers. Come enjoy the fun while fostering essential skills for your child’s early years!
URL:https://pimaparenting.org/event/stay-play-toddler-time-family-resource-center-at-sahuarita-food-bank-2/
LOCATION:Family Resource Center at Sahuarita Food Bank\, 17750 S. La Canada\, Sahuarita\, AZ\, 85629\, United States
CATEGORIES:Families with Children Birth to Five
ATTACH;FMTTYPE=image/jpeg:https://pimaparenting.org/wp-content/uploads/2024/12/Toddler-Time-at-SFB-2.0.jpg
ORGANIZER;CN="Lela Messick-UWTSA":MAILTO:lmessick@unitedwaytucson.org
END:VEVENT
BEGIN:VEVENT
DTSTART;TZID=America/Phoenix:20251009T110000
DTEND;TZID=America/Phoenix:20251009T130000
DTSTAMP:20260424T010950
CREATED:20250815T175801Z
LAST-MODIFIED:20250815T180035Z
UID:10003753-1760007600-1760014800@pimaparenting.org
SUMMARY:The Incredible Years: Babies/ Class #3 (This series has a total of 8 classes)
DESCRIPTION:This parenting program is designed for parents with children 0-9 months old.  Class offers strategies to strengthen parenting skills and promote children’s optimal social\, emotional\, physical\, and academic development. Childcare available for children ages 1 – 5 years of age. \nClass 1: Overview of the Program \n Class 2: Becoming a Parent Part 1 \n Class 3: Becoming a Parent Part 2 \n Class 4: Physical and Visual Stimulation \n Class 5: Reading Babies Minds \n Class 6: Gaining Support \n Class 7: Emerging Sense of Self \n Class 8: Graduation
URL:https://pimaparenting.org/event/the-incredible-years-babies-class-3-this-series-has-a-total-of-8-classes/
LOCATION:Family Resource Center at Sahuarita Food Bank\, 17750 S. La Canada\, Sahuarita\, AZ\, 85629\, United States
CATEGORIES:All Caregivers,Families with Children Birth to Five
ATTACH;FMTTYPE=image/jpeg:https://pimaparenting.org/wp-content/uploads/2024/11/IY-at-SFB-2.0.jpg
ORGANIZER;CN="Laura Ontiveros-EBF":MAILTO:lontiveros@blake.easterseals.com
END:VEVENT
BEGIN:VEVENT
DTSTART;TZID=America/Phoenix:20251009T173000
DTEND;TZID=America/Phoenix:20251009T193000
DTSTAMP:20260424T010950
CREATED:20250914T041003Z
LAST-MODIFIED:20250914T125256Z
UID:10003953-1760031000-1760038200@pimaparenting.org
SUMMARY:Etapas y Fases del Crecimiento Para Infantes y Niños Pequeños /CLASE VIRTUAL
DESCRIPTION:Nurturing Parenting Program \nEl Objectivo principal de esta clase es aumentar la conciencia de los padres sobre las expectativas apropiadas. \nRegístrate en Etapas y Fases del Cremiento Para Infantes y Ninos Pequeno ⋆ Casa de los Niños \n  \n 
URL:https://pimaparenting.org/event/etapas-y-fases-del-crecimiento-para-infantes-y-ninos-pequenos-clase-virtual/
LOCATION:Family Resource Center at Sahuarita Food Bank\, 17750 S. La Canada\, Sahuarita\, AZ\, 85629\, United States
CATEGORIES:Families with Children Birth to Five
ATTACH;FMTTYPE=image/jpeg:https://pimaparenting.org/wp-content/uploads/2024/11/Casa2-at-SFB-2.0.jpg
ORGANIZER;CN="Casa de los Ninos":MAILTO:cbolger@casadelosninos.org
END:VEVENT
BEGIN:VEVENT
DTSTART;TZID=America/Phoenix:20251009T173000
DTEND;TZID=America/Phoenix:20251009T193000
DTSTAMP:20260424T010950
CREATED:20250914T041112Z
LAST-MODIFIED:20250914T041112Z
UID:10003954-1760031000-1760038200@pimaparenting.org
SUMMARY:ETAPAS Y FASES DEL CRECIMIENTO PARA INFANTES Y NIÑOS PEQUEÑOS /CLASE VIRTUAL
DESCRIPTION:Nurturing Parenting Program \nEl Objectivo principal de esta clase es aumentar la conciencia de los padres sobre las expectativas apropiadas. \nRegístrate en Etapas y Fases del Cremiento Para Infantes y Ninos Pequeno ⋆ Casa de los Niños
URL:https://pimaparenting.org/event/etapas-y-fases-del-crecimiento-para-infantes-y-ninos-pequenos-clase-virtual-2/
LOCATION:Family Resource Center at Robles Elementary\, 9875 S Sasabe Rd\, Tucson\, AZ\, 85736\, United States
CATEGORIES:Families with Children Birth to Five
ATTACH;FMTTYPE=image/jpeg:https://pimaparenting.org/wp-content/uploads/2024/11/Casa2-at-AVSD-2.0.jpg
ORGANIZER;CN="Casa de los Ninos":MAILTO:cbolger@casadelosninos.org
END:VEVENT
BEGIN:VEVENT
DTSTART;TZID=America/Phoenix:20251009T173000
DTEND;TZID=America/Phoenix:20251009T193000
DTSTAMP:20260424T010950
CREATED:20250914T041212Z
LAST-MODIFIED:20250914T041212Z
UID:10003955-1760031000-1760038200@pimaparenting.org
SUMMARY:ETAPAS Y FASES DEL CRECIMIENTO PARA INFANTES Y NIÑOS PEQUEÑOS /CLASE VIRTUAL
DESCRIPTION:Nurturing Parenting Program \nEl Objectivo principal de esta clase es aumentar la conciencia de los padres sobre las expectativas apropiadas. \nRegístrate en Etapas y Fases del Cremiento Para Infantes y Ninos Pequeno ⋆ Casa de los Niños
URL:https://pimaparenting.org/event/etapas-y-fases-del-crecimiento-para-infantes-y-ninos-pequenos-clase-virtual-3/
LOCATION:Family Resource Center at Los Ranchitos\, 2054 E Ginter Rd\, Tucson\, AZ\, 85706\, United States
CATEGORIES:Families with Children Birth to Five
ATTACH;FMTTYPE=image/jpeg:https://pimaparenting.org/wp-content/uploads/2024/11/Casa2-at-SUSD-2.0.jpg
ORGANIZER;CN="Casa de los Ninos":MAILTO:cbolger@casadelosninos.org
END:VEVENT
END:VCALENDAR