BEGIN:VCALENDAR
VERSION:2.0
PRODID:-//Pima County Parenting Coalition - ECPv6.15.16.1//NONSGML v1.0//EN
CALSCALE:GREGORIAN
METHOD:PUBLISH
X-WR-CALNAME:Pima County Parenting Coalition
X-ORIGINAL-URL:https://pimaparenting.org
X-WR-CALDESC:Events for Pima County Parenting Coalition
REFRESH-INTERVAL;VALUE=DURATION:PT1H
X-Robots-Tag:noindex
X-PUBLISHED-TTL:PT1H
BEGIN:VTIMEZONE
TZID:America/Phoenix
BEGIN:STANDARD
TZOFFSETFROM:-0700
TZOFFSETTO:-0700
TZNAME:MST
DTSTART:20240101T000000
END:STANDARD
END:VTIMEZONE
BEGIN:VEVENT
DTSTART;TZID=America/Phoenix:20251014T090000
DTEND;TZID=America/Phoenix:20251014T100000
DTSTAMP:20260424T010952
CREATED:20250914T031854Z
LAST-MODIFIED:20250914T031854Z
UID:10003932-1760432400-1760436000@pimaparenting.org
SUMMARY:Masaje de manos nutritivas para bebés-Los Ranchitos Family Resource Center
DESCRIPTION:Los padres aprenderán varias técnicas de masaje mientras aprenden sobre las ventajas de la terapia de masaje para su bebé. Tenga en cuenta que los padres y el bebé (0-9 meses) deben asistir juntos a esta clase.
URL:https://pimaparenting.org/event/masaje-de-manos-nutritivas-para-bebes-los-ranchitos-family-resource-center-28/
LOCATION:Family Resource Center at Los Ranchitos\, 2054 E Ginter Rd\, Tucson\, AZ\, 85706\, United States
CATEGORIES:Families with Children Birth to Five
ATTACH;FMTTYPE=image/jpeg:https://pimaparenting.org/wp-content/uploads/2024/03/Baby-Massage-at-SUSD.jpg
ORGANIZER;CN="Laura Ontiveros-EBF":MAILTO:lontiveros@blake.easterseals.com
END:VEVENT
BEGIN:VEVENT
DTSTART;TZID=America/Phoenix:20251014T103000
DTEND;TZID=America/Phoenix:20251014T113000
DTSTAMP:20260424T010952
CREATED:20250913T234253Z
LAST-MODIFIED:20250913T234253Z
UID:10003872-1760437800-1760441400@pimaparenting.org
SUMMARY:Cardio Beats: Family Drum Fitness
DESCRIPTION:Get ready to move\, groove\, and sweat — Cardio Beats is a high-energy\, family-friendly fitness class designed to bring parents and kids together through rhythm and movement! Led by Noah at Parent Aid\, this unique experience combines upbeat cardio exercises for adults with fun\, age-appropriate drumming for little ones\, creating a shared space for wellness and connection. \nWhether you’re looking to boost your energy\, bond with your child\, or just have a blast — this class is for you!\n👟 Wear comfy clothes and sneakers\n💧 Bring your water bottle\n🎶 And get ready to find your family rhythm! \nFREE in-person class at the Family Resource Center at the Sahuarita Food Bank.\nGot questions? Reach out to Noah — we’re happy to help! \nSpaces are limited — register today and join the beat!
URL:https://pimaparenting.org/event/cardio-beats-family-drum-fitness-9/
LOCATION:Family Resource Center at Robles Elementary\, 9875 S Sasabe Rd\, Tucson\, AZ\, 85736\, United States
CATEGORIES:Families with Children Birth to Five
ATTACH;FMTTYPE=image/png:https://pimaparenting.org/wp-content/uploads/2025/07/Cardio-Beats-AVSD.png
ORGANIZER;CN="Noah Paul - PA":MAILTO:noah@parentaid.org
END:VEVENT
BEGIN:VEVENT
DTSTART;TZID=America/Phoenix:20251014T103000
DTEND;TZID=America/Phoenix:20251014T113000
DTSTAMP:20260424T010952
CREATED:20250914T024047Z
LAST-MODIFIED:20250914T024047Z
UID:10003907-1760437800-1760441400@pimaparenting.org
SUMMARY:Fine Arts for Kids
DESCRIPTION:This fun and interactive class for children and their parents or caregivers is packed with creative activities designed to help little ones develop important life skills like focus\, self-control\, and communication—all while having a great time together!
URL:https://pimaparenting.org/event/fine-arts-for-kids-2/
LOCATION:Family Resource Center at Sahuarita Food Bank\, 17750 S. La Canada\, Sahuarita\, AZ\, 85629\, United States
CATEGORIES:Families with Children Birth to Five
ATTACH;FMTTYPE=image/jpeg:https://pimaparenting.org/wp-content/uploads/2024/11/Fine-Arts-at-SFB-2.0.jpg
ORGANIZER;CN="Nataly Quiroz- UACE":MAILTO:natalyquiroz@arizona.edu
END:VEVENT
BEGIN:VEVENT
DTSTART;TZID=America/Phoenix:20251014T103000
DTEND;TZID=America/Phoenix:20251014T113000
DTSTAMP:20260424T010952
CREATED:20250914T032306Z
LAST-MODIFIED:20250914T032306Z
UID:10003935-1760437800-1760441400@pimaparenting.org
SUMMARY:Wonders of the Desert: Nature Play & Storytime
DESCRIPTION:Wonders of the Desert: Nature Play & Storytime-Bats – We’ve gone Batty! \nJoin us for an enriching sensory adventure in Wonders of the Desert\, where young children (ages 2–5) explore the natural world through play-based\, developmentally appropriate outdoor activities. Guided by a trained nature-based educator\, each session offers three to four fun hands-on experiences—like digging\, building\, crafting\, and observing—designed to spark curiosity and build early learning skills. We’ll wrap up with a themed Storytime that ties everything together\, helping little ones connect\, imagine\, and grow in nature. All participants will be given a Family Activity page in English & Spanish to extend the learning and fun at home. \nFamilies will learn how desert bats live\, including how they fly\, sleep upside down\, and use echolocation to find food. Children will discover the important role bats play in the desert ecosystem by controlling insect populations\, and they’ll develop curiosity and understanding about these unique nighttime animals.
URL:https://pimaparenting.org/event/wonders-of-the-desert-nature-play-storytime-13/
LOCATION:Family Resource Center at Los Ranchitos\, 2054 E Ginter Rd\, Tucson\, AZ\, 85706\, United States
CATEGORIES:Families with Children Birth to Five
ATTACH;FMTTYPE=image/png:https://pimaparenting.org/wp-content/uploads/2025/07/Wonders-of-the-Desert-at-SUSD.png
ORGANIZER;CN="Debi with CFNPPC":MAILTO:debimorgan4@gmail.com
END:VEVENT
BEGIN:VEVENT
DTSTART;TZID=America/Phoenix:20251014T123000
DTEND;TZID=America/Phoenix:20251014T133000
DTSTAMP:20260424T010952
CREATED:20250914T024522Z
LAST-MODIFIED:20250914T024522Z
UID:10003911-1760445000-1760448600@pimaparenting.org
SUMMARY:Soothing Strokes Baby Massage
DESCRIPTION:An infant massage class based on ancient traditions teaches gentle\, rhythmic techniques passed down through generations to promote bonding\, relaxation\, and healthy development for babies. Soothing Strokes is 5 weekly 90-minute sessions. We cover something different each class ending in the culmination being able to do a thorough infant massage. \nInfant massage is focused on children birth to 12 months. \nChild care for your older children can be provided as necessary with notice. \nYou bring your baby and we will bring the oil and the relaxed vibes. See you there!
URL:https://pimaparenting.org/event/soothing-strokes-baby-massage-16/
LOCATION:Family Resource Center at Sahuarita Food Bank\, 17750 S. La Canada\, Sahuarita\, AZ\, 85629\, United States
CATEGORIES:All Caregivers,Families with Children Birth to Five
ATTACH;FMTTYPE=image/png:https://pimaparenting.org/wp-content/uploads/2025/04/Soothing-Strokes-at-SFB.png
ORGANIZER;CN="Amanda Ward McNeal- PA":MAILTO:amanda@parentaid.org
END:VEVENT
BEGIN:VEVENT
DTSTART;TZID=America/Phoenix:20251014T130000
DTEND;TZID=America/Phoenix:20251014T140000
DTSTAMP:20260424T010952
CREATED:20250914T024908Z
LAST-MODIFIED:20250914T024908Z
UID:10003913-1760446800-1760450400@pimaparenting.org
SUMMARY:Wonders of the Desert: Nature Play & Storytime-CLASS IS NOW HELD ONSITE AT THE SAHUARITA FRC
DESCRIPTION:Wonders of the Desert: Nature Play & Storytime-Bats – We’ve gone Batty! \nJoin us for an enriching sensory adventure in Wonders of the Desert\, where young children (ages 2–5) explore the natural world through play-based\, developmentally appropriate outdoor activities. Guided by a trained nature-based educator\, each session offers three to four fun hands-on experiences—like digging\, building\, crafting\, and observing—designed to spark curiosity and build early learning skills. We’ll wrap up with a themed Storytime that ties everything together\, helping little ones connect\, imagine\, and grow in nature. All participants will be given a Family Activity page in English & Spanish to extend the learning and fun at home. \nFamilies will learn how desert bats live\, including how they fly\, sleep upside down\, and use echolocation to find food. Children will discover the important role bats play in the desert ecosystem by controlling insect populations\, and they’ll develop curiosity and understanding about these unique nighttime animals
URL:https://pimaparenting.org/event/wonders-of-the-desert-nature-play-storytime-class-is-now-held-onsite-at-the-sahuarita-frc-3/
LOCATION:Family Resource Center at Sahuarita Food Bank\, 17750 S. La Canada\, Sahuarita\, AZ\, 85629\, United States
CATEGORIES:Families with Children Birth to Five
ATTACH;FMTTYPE=image/png:https://pimaparenting.org/wp-content/uploads/2025/07/Wonders-of-the-Desert-at-SFB.png
ORGANIZER;CN="Debi with CFNPPC":MAILTO:debimorgan4@gmail.com
END:VEVENT
BEGIN:VEVENT
DTSTART;TZID=America/Phoenix:20251014T173000
DTEND;TZID=America/Phoenix:20251014T193000
DTSTAMP:20260424T010952
CREATED:20250914T041731Z
LAST-MODIFIED:20250914T041731Z
UID:10003956-1760463000-1760470200@pimaparenting.org
SUMMARY:Establishing Nurturing Parenting Routines/VIRTUAL CLASS
DESCRIPTION:This topic is from the Nurturing Parenting Program \nThis class focuses on how nurturing routines can be established for many of the daily tasks you\, and your child experience- such as: Diapering and Dressing times; Bathtimes; and Bedtime. \nRegister at Establishing Nurturing Parenting Routines ⋆ Casa de los Niños \n 
URL:https://pimaparenting.org/event/establishing-nurturing-parenting-routines-virtual-class/
LOCATION:Family Resource Center at Sahuarita Food Bank\, 17750 S. La Canada\, Sahuarita\, AZ\, 85629\, United States
CATEGORIES:Families with Children Birth to Five
ATTACH;FMTTYPE=image/jpeg:https://pimaparenting.org/wp-content/uploads/2024/03/Casa-logo.jpg
ORGANIZER;CN="Casa de los Ninos":MAILTO:cbolger@casadelosninos.org
END:VEVENT
BEGIN:VEVENT
DTSTART;TZID=America/Phoenix:20251014T173000
DTEND;TZID=America/Phoenix:20251014T193000
DTSTAMP:20260424T010952
CREATED:20250914T041814Z
LAST-MODIFIED:20250914T041830Z
UID:10003957-1760463000-1760470200@pimaparenting.org
SUMMARY:Establishing Nurturing Parenting Routines/VIRTUAL CLASS
DESCRIPTION:This topic is from the Nurturing Parenting Program \nThis class focuses on how nurturing routines can be established for many of the daily tasks you\, and your child experience- such as: Diapering and Dressing times; Bathtimes; and Bedtime. \nRegister at Establishing Nurturing Parenting Routines ⋆ Casa de los Niños \n 
URL:https://pimaparenting.org/event/establishing-nurturing-parenting-routines-virtual-class-2/
LOCATION:Family Resource Center at Robles Elementary\, 9875 S Sasabe Rd\, Tucson\, AZ\, 85736\, United States
CATEGORIES:Families with Children Birth to Five
ATTACH;FMTTYPE=image/jpeg:https://pimaparenting.org/wp-content/uploads/2024/03/Casa-logo.jpg
ORGANIZER;CN="Casa de los Ninos":MAILTO:cbolger@casadelosninos.org
END:VEVENT
BEGIN:VEVENT
DTSTART;TZID=America/Phoenix:20251014T173000
DTEND;TZID=America/Phoenix:20251014T193000
DTSTAMP:20260424T010952
CREATED:20250914T041849Z
LAST-MODIFIED:20250914T041849Z
UID:10003958-1760463000-1760470200@pimaparenting.org
SUMMARY:Establishing Nurturing Parenting Routines/VIRTUAL CLASS
DESCRIPTION:This topic is from the Nurturing Parenting Program \nThis class focuses on how nurturing routines can be established for many of the daily tasks you\, and your child experience- such as: Diapering and Dressing times; Bathtimes; and Bedtime. \nRegister at Establishing Nurturing Parenting Routines ⋆ Casa de los Niños \n 
URL:https://pimaparenting.org/event/establishing-nurturing-parenting-routines-virtual-class-3/
LOCATION:Family Resource Center at Los Ranchitos\, 2054 E Ginter Rd\, Tucson\, AZ\, 85706\, United States
CATEGORIES:Families with Children Birth to Five
ATTACH;FMTTYPE=image/jpeg:https://pimaparenting.org/wp-content/uploads/2024/03/Casa-logo.jpg
ORGANIZER;CN="Casa de los Ninos":MAILTO:cbolger@casadelosninos.org
END:VEVENT
END:VCALENDAR