BEGIN:VCALENDAR
VERSION:2.0
PRODID:-//Pima County Parenting Coalition - ECPv6.15.16.1//NONSGML v1.0//EN
CALSCALE:GREGORIAN
METHOD:PUBLISH
X-ORIGINAL-URL:https://pimaparenting.org
X-WR-CALDESC:Events for Pima County Parenting Coalition
REFRESH-INTERVAL;VALUE=DURATION:PT1H
X-Robots-Tag:noindex
X-PUBLISHED-TTL:PT1H
BEGIN:VTIMEZONE
TZID:America/Phoenix
BEGIN:STANDARD
TZOFFSETFROM:-0700
TZOFFSETTO:-0700
TZNAME:MST
DTSTART:20240101T000000
END:STANDARD
END:VTIMEZONE
BEGIN:VEVENT
DTSTART;TZID=America/Phoenix:20251016T090000
DTEND;TZID=America/Phoenix:20251016T100000
DTSTAMP:20260423T220947
CREATED:20250914T032819Z
LAST-MODIFIED:20250914T032819Z
UID:10003938-1760605200-1760608800@pimaparenting.org
SUMMARY:Garden Discovery Days
DESCRIPTION:This class connects you and your child to the garden through hands-on activities\, where you’ll learn where food comes from\, explore nature\, and create fun nature-inspired crafts. \n  \n 
URL:https://pimaparenting.org/event/garden-discovery-days-5/
LOCATION:Family Resource Center at Los Ranchitos\, 2054 E Ginter Rd\, Tucson\, AZ\, 85706\, United States
CATEGORIES:Families with Children Birth to Five
ATTACH;FMTTYPE=image/png:https://pimaparenting.org/wp-content/uploads/2025/07/GDD-at-SUSD-2.0.png
ORGANIZER;CN="Cassie Burrel - UACE":MAILTO:cassieb@ag.arizona.edu
END:VEVENT
BEGIN:VEVENT
DTSTART;TZID=America/Phoenix:20251016T093000
DTEND;TZID=America/Phoenix:20251016T103000
DTSTAMP:20260423T220947
CREATED:20250914T025243Z
LAST-MODIFIED:20250914T025243Z
UID:10003915-1760607000-1760610600@pimaparenting.org
SUMMARY:Family Connect & Play
DESCRIPTION:Come relax\, connect\, and let the kids play! Join other parents and caregivers for an informal time to share the ups and downs of raising children\, connect over coffee\, and enjoy support from fellow families. While kids enjoy supervised free play in our playroom\, grown-ups can chat\, share resources\, and discuss what programs or support they’d like to see at the Family Resource Center. Occasionally\, we’ll welcome special guest speakers on parenting\, child development\, and more. \n 
URL:https://pimaparenting.org/event/family-connect-play-3/
LOCATION:Family Resource Center at Sahuarita Food Bank\, 17750 S. La Canada\, Sahuarita\, AZ\, 85629\, United States
CATEGORIES:Families with Children Birth to Five
ATTACH;FMTTYPE=image/jpeg:https://pimaparenting.org/wp-content/uploads/2024/11/Family-Cafe-at-SFB-2.0.jpg
ORGANIZER;CN="Family Resource Center at Sahuarita Food Bank":MAILTO:irodela@sfb-crc.org
END:VEVENT
BEGIN:VEVENT
DTSTART;TZID=America/Phoenix:20251016T103000
DTEND;TZID=America/Phoenix:20251016T113000
DTSTAMP:20260423T220947
CREATED:20250914T030344Z
LAST-MODIFIED:20250914T133829Z
UID:10003923-1760610600-1760614200@pimaparenting.org
SUMMARY:Baby Signs Too
DESCRIPTION:Come join Parent Aid and Vanessa for a great opportunity to learn sign language with your little one! Learn how to enhance early communication skills\, reduce tantrums\, and promote language development with the addition to nurturing your bond and understanding your child’s needs. Baby Signs Too is designed to be used with families with hearing infants and toddlers. \nRegistration is FREE! \nClass is offered in-person at the Family Resource Center at Los Ranchitos. \nWe look forward to seeing you there!
URL:https://pimaparenting.org/event/baby-signs-too-14/
LOCATION:Family Resource Center at Los Ranchitos\, 2054 E Ginter Rd\, Tucson\, AZ\, 85706\, United States
CATEGORIES:All Caregivers,Families with Children Birth to Five
ATTACH;FMTTYPE=image/jpeg:https://pimaparenting.org/wp-content/uploads/2024/11/BST-at-SUSD-2.0.jpg
ORGANIZER;CN="Vanessa Batson- PA":MAILTO:vanessa@parentaid.org
END:VEVENT
BEGIN:VEVENT
DTSTART;TZID=America/Phoenix:20251016T113000
DTEND;TZID=America/Phoenix:20251016T123000
DTSTAMP:20260423T220947
CREATED:20250914T030824Z
LAST-MODIFIED:20250914T030824Z
UID:10003927-1760614200-1760617800@pimaparenting.org
SUMMARY:Happy Hour: Family Playtime/Hora Feliz: Tiempo de Juego en Familia
DESCRIPTION:Join Vanessa at Parent Aid for a playful\, stress-free hour of connection\, creativity\, and community! Happy Hour: Family Playtime is a warm and welcoming space where parents and children explore the joy of free play — together. \nThis interactive experience helps little ones build important social skills while giving parents the chance to connect with one another\, share experiences\, and step into their child’s world through play. It’s a perfect blend of bonding\, support\, and fun — no agenda\, no pressure\, just quality time. \n✨ Meet other parents\n🧸 Support your child’s growth through play\n💬 Enjoy thoughtful conversations in a relaxed environment \nCome as you are — stay for the smiles.\nBecause connection is the real happy hour. \n  \n¡Únete a Vanessa en Parent Aid para una hora lúdica y sin estrés de conexión\, creatividad y comunidad! Happy Hour: Tiempo de Juego Familiar es un espacio cálido y acogedor donde padres e hijos exploran la alegría del juego libre\, juntos. \nEsta experiencia interactiva ayuda a los más pequeños a construir habilidades sociales importantes\, al mismo tiempo que ofrece a los padres la oportunidad de conectarse entre sí\, compartir experiencias y entrar en el mundo de sus hijos a través del juego. Es una mezcla perfecta de unión\, apoyo y diversión: sin agenda\, sin presión\, solo tiempo de calidad.
URL:https://pimaparenting.org/event/happy-hour-family-playtime-hora-feliz-tiempo-de-juego-en-familia-5/
LOCATION:Family Resource Center at Los Ranchitos\, 2054 E Ginter Rd\, Tucson\, AZ\, 85706\, United States
CATEGORIES:Families with Children Birth to Five
ATTACH;FMTTYPE=image/png:https://pimaparenting.org/wp-content/uploads/2025/07/Happy-Hour-at-SUSD.png
ORGANIZER;CN="Vanessa Batson- PA":MAILTO:vanessa@parentaid.org
END:VEVENT
BEGIN:VEVENT
DTSTART;TZID=America/Phoenix:20251016T130000
DTEND;TZID=America/Phoenix:20251016T140000
DTSTAMP:20260423T220947
CREATED:20250914T131944Z
LAST-MODIFIED:20250914T131944Z
UID:10003971-1760619600-1760623200@pimaparenting.org
SUMMARY:Fine Arts for Kids- Family Resource Center at Robles Elementary
DESCRIPTION:This fun and interactive class for children and their parents or caregivers is packed with creative activities designed to help little ones develop important life skills like focus\, self-control\, and communication—all while having a great time together!
URL:https://pimaparenting.org/event/fine-arts-for-kids-family-resource-center-at-robles-elementary-8/
LOCATION:Family Resource Center at Robles Elementary\, 9875 S Sasabe Rd\, Tucson\, AZ\, 85736\, United States
CATEGORIES:Families with Children Birth to Five
ATTACH;FMTTYPE=image/jpeg:https://pimaparenting.org/wp-content/uploads/2024/11/Fine-Arts-at-AVSD-2.0.jpg
ORGANIZER;CN="Nataly Quiroz- UACE":MAILTO:natalyquiroz@arizona.edu
END:VEVENT
BEGIN:VEVENT
DTSTART;TZID=America/Phoenix:20251016T173000
DTEND;TZID=America/Phoenix:20251016T190000
DTSTAMP:20260423T220947
CREATED:20250908T235232Z
LAST-MODIFIED:20250909T000321Z
UID:10003854-1760635800-1760641200@pimaparenting.org
SUMMARY:GED Todas las Materias
DESCRIPTION:El GED es un diploma de equivalencia de educación prepatoria. Las clases ayudan a los adultos a estudiar en todas las áreas temáticas (artes del lenguaje\, estudios sociales\, ciencias y matemáticas) para que puedan aprobar los exámenes en Español. \nNO HAY CUIDADO DISPONIBLE PARA NIÑOS
URL:https://pimaparenting.org/event/ged-todas-las-materias-3/
LOCATION:Family Resource Center at Los Ranchitos\, 2054 E Ginter Rd\, Tucson\, AZ\, 85706\, United States
CATEGORIES:Families with Children Birth to Five
ATTACH;FMTTYPE=image/png:https://pimaparenting.org/wp-content/uploads/2025/09/LC-Logo.png
ORGANIZER;CN="Lizzy Studstill":MAILTO:lstudstill@literacyconnects.org
END:VEVENT
BEGIN:VEVENT
DTSTART;TZID=America/Phoenix:20251016T173000
DTEND;TZID=America/Phoenix:20251016T193000
DTSTAMP:20260423T220947
CREATED:20250815T175900Z
LAST-MODIFIED:20250815T175900Z
UID:10003754-1760635800-1760643000@pimaparenting.org
SUMMARY:The Incredible Years: Babies/ Class #4 (This series has a total of 8 classes)
DESCRIPTION:This parenting program is designed for parents with children 0-9 months old.  Class offers strategies to strengthen parenting skills and promote children’s optimal social\, emotional\, physical\, and academic development. Childcare available for children ages 1 – 5 years of age. \nClass 1: Overview of the Program \n Class 2: Becoming a Parent Part 1 \n Class 3: Becoming a Parent Part 2 \n Class 4: Physical and Visual Stimulation \n Class 5: Reading Babies Minds \n Class 6: Gaining Support \n Class 7: Emerging Sense of Self \n Class 8: Graduation
URL:https://pimaparenting.org/event/the-incredible-years-babies-class-4-this-series-has-a-total-of-8-classes/
LOCATION:Family Resource Center at Sahuarita Food Bank\, 17750 S. La Canada\, Sahuarita\, AZ\, 85629\, United States
CATEGORIES:All Caregivers,Families with Children Birth to Five
ATTACH;FMTTYPE=image/jpeg:https://pimaparenting.org/wp-content/uploads/2024/11/IY-at-SFB-2.0.jpg
ORGANIZER;CN="Laura Ontiveros-EBF":MAILTO:lontiveros@blake.easterseals.com
END:VEVENT
BEGIN:VEVENT
DTSTART;TZID=America/Phoenix:20251016T173000
DTEND;TZID=America/Phoenix:20251016T193000
DTSTAMP:20260423T220947
CREATED:20250914T042204Z
LAST-MODIFIED:20250914T042441Z
UID:10003959-1760635800-1760643000@pimaparenting.org
SUMMARY:Estableciendo Rutinas de Crianza Nutritivas/CLASE VIRTUAL
DESCRIPTION:Nurturing Parenting Program \nEsta clase se centra en cómo se pueden establecer rutinas de cuidado para muchas de las tareas diarias que tú y tu hijo experimentan\, tales como: el cambio de pañales y el vestir; los tiempos de baño; y la hora de dormir. \nRegístrate en Estableciendo Rutinas de Crianza Nutritivas ⋆ Casa de los Niños
URL:https://pimaparenting.org/event/estableciendo-rutinas-de-crianza-nutritivas-clase-virtual/
LOCATION:Family Resource Center at Robles Elementary\, 9875 S Sasabe Rd\, Tucson\, AZ\, 85736\, United States
CATEGORIES:Families with Children Birth to Five
ATTACH;FMTTYPE=image/jpeg:https://pimaparenting.org/wp-content/uploads/2024/03/Casa-logo.jpg
ORGANIZER;CN="Casa de los Ninos":MAILTO:cbolger@casadelosninos.org
END:VEVENT
BEGIN:VEVENT
DTSTART;TZID=America/Phoenix:20251016T173000
DTEND;TZID=America/Phoenix:20251016T193000
DTSTAMP:20260423T220947
CREATED:20250914T042311Z
LAST-MODIFIED:20250914T042447Z
UID:10003960-1760635800-1760643000@pimaparenting.org
SUMMARY:Estableciendo Rutinas de Crianza Nutritivas/CLASE VIRTUAL
DESCRIPTION:Nurturing Parenting Program \nEsta clase se centra en cómo se pueden establecer rutinas de cuidado para muchas de las tareas diarias que tú y tu hijo experimentan\, tales como: el cambio de pañales y el vestir; los tiempos de baño; y la hora de dormir. \nRegístrate en Estableciendo Rutinas de Crianza Nutritivas ⋆ Casa de los Niños
URL:https://pimaparenting.org/event/estableciendo-rutinas-de-crianza-nutritivas-clase-virtual-2/
LOCATION:Family Resource Center at Los Ranchitos\, 2054 E Ginter Rd\, Tucson\, AZ\, 85706\, United States
CATEGORIES:Families with Children Birth to Five
ATTACH;FMTTYPE=image/jpeg:https://pimaparenting.org/wp-content/uploads/2024/03/Casa-logo.jpg
ORGANIZER;CN="Casa de los Ninos":MAILTO:cbolger@casadelosninos.org
END:VEVENT
BEGIN:VEVENT
DTSTART;TZID=America/Phoenix:20251016T173000
DTEND;TZID=America/Phoenix:20251016T193000
DTSTAMP:20260423T220947
CREATED:20250914T042613Z
LAST-MODIFIED:20250914T042613Z
UID:10003961-1760635800-1760643000@pimaparenting.org
SUMMARY:Estableciendo Rutinas de Crianza Nutritivas/CLASE VIRTUAL
DESCRIPTION:Nurturing Parenting Program \nEsta clase se centra en cómo se pueden establecer rutinas de cuidado para muchas de las tareas diarias que tú y tu hijo experimentan\, tales como: el cambio de pañales y el vestir; los tiempos de baño; y la hora de dormir. \nRegístrate en Estableciendo Rutinas de Crianza Nutritivas ⋆ Casa de los Niños
URL:https://pimaparenting.org/event/estableciendo-rutinas-de-crianza-nutritivas-clase-virtual-3/
LOCATION:Family Resource Center at Sahuarita Food Bank\, 17750 S. La Canada\, Sahuarita\, AZ\, 85629\, United States
CATEGORIES:Families with Children Birth to Five
ATTACH;FMTTYPE=image/jpeg:https://pimaparenting.org/wp-content/uploads/2024/03/Casa-logo.jpg
ORGANIZER;CN="Casa de los Ninos":MAILTO:cbolger@casadelosninos.org
END:VEVENT
END:VCALENDAR