BEGIN:VCALENDAR
VERSION:2.0
PRODID:-//Pima County Parenting Coalition - ECPv6.15.16.1//NONSGML v1.0//EN
CALSCALE:GREGORIAN
METHOD:PUBLISH
X-ORIGINAL-URL:https://pimaparenting.org
X-WR-CALDESC:Events for Pima County Parenting Coalition
REFRESH-INTERVAL;VALUE=DURATION:PT1H
X-Robots-Tag:noindex
X-PUBLISHED-TTL:PT1H
BEGIN:VTIMEZONE
TZID:America/Phoenix
BEGIN:STANDARD
TZOFFSETFROM:-0700
TZOFFSETTO:-0700
TZNAME:MST
DTSTART:20240101T000000
END:STANDARD
END:VTIMEZONE
BEGIN:VEVENT
DTSTART;TZID=America/Phoenix:20251021T090000
DTEND;TZID=America/Phoenix:20251021T100000
DTSTAMP:20260423T211758
CREATED:20250914T031948Z
LAST-MODIFIED:20250914T032003Z
UID:10003933-1761037200-1761040800@pimaparenting.org
SUMMARY:Masaje de manos nutritivas para bebés-Los Ranchitos Family Resource Center
DESCRIPTION:Los padres aprenderán varias técnicas de masaje mientras aprenden sobre las ventajas de la terapia de masaje para su bebé. Tenga en cuenta que los padres y el bebé (0-9 meses) deben asistir juntos a esta clase.
URL:https://pimaparenting.org/event/masaje-de-manos-nutritivas-para-bebes-los-ranchitos-family-resource-center-29/
LOCATION:Family Resource Center at Los Ranchitos\, 2054 E Ginter Rd\, Tucson\, AZ\, 85706\, United States
CATEGORIES:Families with Children Birth to Five
ATTACH;FMTTYPE=image/jpeg:https://pimaparenting.org/wp-content/uploads/2024/03/Baby-Massage-at-SUSD.jpg
ORGANIZER;CN="Laura Ontiveros-EBF":MAILTO:lontiveros@blake.easterseals.com
END:VEVENT
BEGIN:VEVENT
DTSTART;TZID=America/Phoenix:20251021T103000
DTEND;TZID=America/Phoenix:20251021T113000
DTSTAMP:20260423T211758
CREATED:20250913T234418Z
LAST-MODIFIED:20250913T234418Z
UID:10003873-1761042600-1761046200@pimaparenting.org
SUMMARY:Cardio Beats: Family Drum Fitness
DESCRIPTION:Get ready to move\, groove\, and sweat — Cardio Beats is a high-energy\, family-friendly fitness class designed to bring parents and kids together through rhythm and movement! Led by Noah at Parent Aid\, this unique experience combines upbeat cardio exercises for adults with fun\, age-appropriate drumming for little ones\, creating a shared space for wellness and connection. \nWhether you’re looking to boost your energy\, bond with your child\, or just have a blast — this class is for you!\n👟 Wear comfy clothes and sneakers\n💧 Bring your water bottle\n🎶 And get ready to find your family rhythm! \nFREE in-person class at the Family Resource Center at the Sahuarita Food Bank.\nGot questions? Reach out to Noah — we’re happy to help! \nSpaces are limited — register today and join the beat!
URL:https://pimaparenting.org/event/cardio-beats-family-drum-fitness-10/
LOCATION:Family Resource Center at Robles Elementary\, 9875 S Sasabe Rd\, Tucson\, AZ\, 85736\, United States
CATEGORIES:Families with Children Birth to Five
ATTACH;FMTTYPE=image/png:https://pimaparenting.org/wp-content/uploads/2025/07/Cardio-Beats-AVSD.png
ORGANIZER;CN="Noah Paul - PA":MAILTO:noah@parentaid.org
END:VEVENT
BEGIN:VEVENT
DTSTART;TZID=America/Phoenix:20251021T103000
DTEND;TZID=America/Phoenix:20251021T113000
DTSTAMP:20260423T211758
CREATED:20250914T024147Z
LAST-MODIFIED:20250914T024147Z
UID:10003908-1761042600-1761046200@pimaparenting.org
SUMMARY:Fine Arts for Kids
DESCRIPTION:This fun and interactive class for children and their parents or caregivers is packed with creative activities designed to help little ones develop important life skills like focus\, self-control\, and communication—all while having a great time together!
URL:https://pimaparenting.org/event/fine-arts-for-kids-3/
LOCATION:Family Resource Center at Sahuarita Food Bank\, 17750 S. La Canada\, Sahuarita\, AZ\, 85629\, United States
CATEGORIES:Families with Children Birth to Five
ATTACH;FMTTYPE=image/jpeg:https://pimaparenting.org/wp-content/uploads/2024/11/Fine-Arts-at-SFB-2.0.jpg
ORGANIZER;CN="Nataly Quiroz- UACE":MAILTO:natalyquiroz@arizona.edu
END:VEVENT
BEGIN:VEVENT
DTSTART;TZID=America/Phoenix:20251021T113000
DTEND;TZID=America/Phoenix:20251021T123000
DTSTAMP:20260423T211758
CREATED:20250913T235813Z
LAST-MODIFIED:20250913T235813Z
UID:10003877-1761046200-1761049800@pimaparenting.org
SUMMARY:Happy Hour: Family Playtime
DESCRIPTION:Join Vanessa at Parent Aid for a playful\, stress-free hour of connection\, creativity\, and community! Happy Hour: Family Playtime is a warm and welcoming space where parents and children explore the joy of free play — together. \nThis interactive experience helps little ones build important social skills while giving parents the chance to connect with one another\, share experiences\, and step into their child’s world through play. It’s a perfect blend of bonding\, support\, and fun — no agenda\, no pressure\, just quality time. \n✨ Meet other parents\n🧸 Support your child’s growth through play\n💬 Enjoy thoughtful conversations in a relaxed environment \nCome as you are — stay for the smiles.\nBecause connection is the real happy hour.
URL:https://pimaparenting.org/event/happy-hour-family-playtime-10/
LOCATION:Family Resource Center at Robles Elementary\, 9875 S Sasabe Rd\, Tucson\, AZ\, 85736\, United States
CATEGORIES:Families with Children Birth to Five
ATTACH;FMTTYPE=image/png:https://pimaparenting.org/wp-content/uploads/2025/07/Happy-Hour-at-AVSD.png
ORGANIZER;CN="Vanessa Batson- PA":MAILTO:vanessa@parentaid.org
END:VEVENT
BEGIN:VEVENT
DTSTART;TZID=America/Phoenix:20251021T173000
DTEND;TZID=America/Phoenix:20251021T193000
DTSTAMP:20260423T211758
CREATED:20250914T042855Z
LAST-MODIFIED:20250914T125616Z
UID:10003962-1761067800-1761075000@pimaparenting.org
SUMMARY:Developing Family Morals\, Values and Rules/VIRTUAL CLASS
DESCRIPTION:This topic is from the Nurturing Parenting Program \nThe focus of this class is for parents to learn the importance of developing family guidelines and linking them to discipline. \nRegister at Developing Family Morals\, Values and Rules ⋆ Casa de los Niños
URL:https://pimaparenting.org/event/developing-family-morals-values-and-rules/
LOCATION:Family Resource Center at Sahuarita Food Bank\, 17750 S. La Canada\, Sahuarita\, AZ\, 85629\, United States
CATEGORIES:Families with Children Birth to Five
ATTACH;FMTTYPE=image/jpeg:https://pimaparenting.org/wp-content/uploads/2024/03/Casa-logo.jpg
ORGANIZER;CN="Casa de los Ninos":MAILTO:cbolger@casadelosninos.org
END:VEVENT
BEGIN:VEVENT
DTSTART;TZID=America/Phoenix:20251021T173000
DTEND;TZID=America/Phoenix:20251021T193000
DTSTAMP:20260423T211758
CREATED:20250914T042935Z
LAST-MODIFIED:20250914T132124Z
UID:10003963-1761067800-1761075000@pimaparenting.org
SUMMARY:Developing Family Morals\, Values and Rules/VIRTUAL CLASS
DESCRIPTION:This topic is from the Nurturing Parenting Program \nThe focus of this class is for parents to learn the importance of developing family guidelines and linking them to discipline. \nRegister at Developing Family Morals\, Values and Rules ⋆ Casa de los Niños
URL:https://pimaparenting.org/event/developing-family-morals-values-and-rules-2/
LOCATION:Family Resource Center at Robles Elementary\, 9875 S Sasabe Rd\, Tucson\, AZ\, 85736\, United States
CATEGORIES:Families with Children Birth to Five
ATTACH;FMTTYPE=image/jpeg:https://pimaparenting.org/wp-content/uploads/2024/03/Casa-logo.jpg
ORGANIZER;CN="Casa de los Ninos":MAILTO:cbolger@casadelosninos.org
END:VEVENT
BEGIN:VEVENT
DTSTART;TZID=America/Phoenix:20251021T173000
DTEND;TZID=America/Phoenix:20251021T193000
DTSTAMP:20260423T211758
CREATED:20250914T043001Z
LAST-MODIFIED:20250914T132032Z
UID:10003964-1761067800-1761075000@pimaparenting.org
SUMMARY:Developing Family Morals\, Values and Rules/VIRTUAL CLASS
DESCRIPTION:This topic is from the Nurturing Parenting Program \nThe focus of this class is for parents to learn the importance of developing family guidelines and linking them to discipline. \nRegister at Developing Family Morals\, Values and Rules ⋆ Casa de los Niños
URL:https://pimaparenting.org/event/developing-family-morals-values-and-rules-3/
LOCATION:Family Resource Center at Los Ranchitos\, 2054 E Ginter Rd\, Tucson\, AZ\, 85706\, United States
CATEGORIES:Families with Children Birth to Five
ATTACH;FMTTYPE=image/jpeg:https://pimaparenting.org/wp-content/uploads/2024/03/Casa-logo.jpg
ORGANIZER;CN="Casa de los Ninos":MAILTO:cbolger@casadelosninos.org
END:VEVENT
END:VCALENDAR