BEGIN:VCALENDAR
VERSION:2.0
PRODID:-//Pima County Parenting Coalition - ECPv6.15.16.1//NONSGML v1.0//EN
CALSCALE:GREGORIAN
METHOD:PUBLISH
X-ORIGINAL-URL:https://pimaparenting.org
X-WR-CALDESC:Events for Pima County Parenting Coalition
REFRESH-INTERVAL;VALUE=DURATION:PT1H
X-Robots-Tag:noindex
X-PUBLISHED-TTL:PT1H
BEGIN:VTIMEZONE
TZID:America/Phoenix
BEGIN:STANDARD
TZOFFSETFROM:-0700
TZOFFSETTO:-0700
TZNAME:MST
DTSTART:20240101T000000
END:STANDARD
END:VTIMEZONE
BEGIN:VEVENT
DTSTART;TZID=America/Phoenix:20251028T103000
DTEND;TZID=America/Phoenix:20251028T113000
DTSTAMP:20260423T200654
CREATED:20250913T234505Z
LAST-MODIFIED:20250913T234505Z
UID:10003874-1761647400-1761651000@pimaparenting.org
SUMMARY:Cardio Beats: Family Drum Fitness
DESCRIPTION:Get ready to move\, groove\, and sweat — Cardio Beats is a high-energy\, family-friendly fitness class designed to bring parents and kids together through rhythm and movement! Led by Noah at Parent Aid\, this unique experience combines upbeat cardio exercises for adults with fun\, age-appropriate drumming for little ones\, creating a shared space for wellness and connection. \nWhether you’re looking to boost your energy\, bond with your child\, or just have a blast — this class is for you!\n👟 Wear comfy clothes and sneakers\n💧 Bring your water bottle\n🎶 And get ready to find your family rhythm! \nFREE in-person class at the Family Resource Center at the Sahuarita Food Bank.\nGot questions? Reach out to Noah — we’re happy to help! \nSpaces are limited — register today and join the beat!
URL:https://pimaparenting.org/event/cardio-beats-family-drum-fitness-11/
LOCATION:Family Resource Center at Robles Elementary\, 9875 S Sasabe Rd\, Tucson\, AZ\, 85736\, United States
CATEGORIES:Families with Children Birth to Five
ATTACH;FMTTYPE=image/png:https://pimaparenting.org/wp-content/uploads/2025/07/Cardio-Beats-AVSD.png
ORGANIZER;CN="Noah Paul - PA":MAILTO:noah@parentaid.org
END:VEVENT
BEGIN:VEVENT
DTSTART;TZID=America/Phoenix:20251028T103000
DTEND;TZID=America/Phoenix:20251028T113000
DTSTAMP:20260423T200654
CREATED:20250914T024244Z
LAST-MODIFIED:20250914T024244Z
UID:10003909-1761647400-1761651000@pimaparenting.org
SUMMARY:Fine Arts for Kids
DESCRIPTION:This fun and interactive class for children and their parents or caregivers is packed with creative activities designed to help little ones develop important life skills like focus\, self-control\, and communication—all while having a great time together!
URL:https://pimaparenting.org/event/fine-arts-for-kids-4/
LOCATION:Family Resource Center at Sahuarita Food Bank\, 17750 S. La Canada\, Sahuarita\, AZ\, 85629\, United States
CATEGORIES:Families with Children Birth to Five
ATTACH;FMTTYPE=image/jpeg:https://pimaparenting.org/wp-content/uploads/2024/11/Fine-Arts-at-SFB-2.0.jpg
ORGANIZER;CN="Nataly Quiroz- UACE":MAILTO:natalyquiroz@arizona.edu
END:VEVENT
BEGIN:VEVENT
DTSTART;TZID=America/Phoenix:20251028T103000
DTEND;TZID=America/Phoenix:20251028T113000
DTSTAMP:20260423T200654
CREATED:20250914T032513Z
LAST-MODIFIED:20250914T032513Z
UID:10003936-1761647400-1761651000@pimaparenting.org
SUMMARY:Wonders of the Desert: Nature Play & Storytime
DESCRIPTION:Wonders of the Desert: Nature Play & Storytime- Gourds and Pumpkins \nJoin us for an enriching sensory adventure in Wonders of the Desert\, where young children (ages 2–5) explore the natural world through play-based\, developmentally appropriate outdoor activities. Guided by a trained nature-based educator\, each session offers three to four fun hands-on experiences—like digging\, building\, crafting\, and observing—designed to spark curiosity and build early learning skills. We’ll wrap up with a themed Storytime that ties everything together\, helping little ones connect\, imagine\, and grow in nature. All participants will be given a Family Activity page in English & Spanish to extend the learning and fun at home. \nChildren and caregivers learn about the different shapes\, colors\, and textures of gourds and pumpkins\, how they grow\, and their role in nature and culture. This experience supports sensory development\, early math skills\, and a deeper connection to plants and the seasons.
URL:https://pimaparenting.org/event/wonders-of-the-desert-nature-play-storytime-14/
LOCATION:Family Resource Center at Los Ranchitos\, 2054 E Ginter Rd\, Tucson\, AZ\, 85706\, United States
CATEGORIES:Families with Children Birth to Five
ATTACH;FMTTYPE=image/png:https://pimaparenting.org/wp-content/uploads/2025/07/Wonders-of-the-Desert-at-SUSD.png
ORGANIZER;CN="Debi with CFNPPC":MAILTO:debimorgan4@gmail.com
END:VEVENT
BEGIN:VEVENT
DTSTART;TZID=America/Phoenix:20251028T123000
DTEND;TZID=America/Phoenix:20251028T133000
DTSTAMP:20260423T200654
CREATED:20250914T024620Z
LAST-MODIFIED:20250914T024620Z
UID:10003912-1761654600-1761658200@pimaparenting.org
SUMMARY:Soothing Strokes Baby Massage
DESCRIPTION:An infant massage class based on ancient traditions teaches gentle\, rhythmic techniques passed down through generations to promote bonding\, relaxation\, and healthy development for babies. Soothing Strokes is 5 weekly 90-minute sessions. We cover something different each class ending in the culmination being able to do a thorough infant massage. \nInfant massage is focused on children birth to 12 months. \nChild care for your older children can be provided as necessary with notice. \nYou bring your baby and we will bring the oil and the relaxed vibes. See you there!
URL:https://pimaparenting.org/event/soothing-strokes-baby-massage-17/
LOCATION:Family Resource Center at Sahuarita Food Bank\, 17750 S. La Canada\, Sahuarita\, AZ\, 85629\, United States
CATEGORIES:All Caregivers,Families with Children Birth to Five
ATTACH;FMTTYPE=image/png:https://pimaparenting.org/wp-content/uploads/2025/04/Soothing-Strokes-at-SFB.png
ORGANIZER;CN="Amanda Ward McNeal- PA":MAILTO:amanda@parentaid.org
END:VEVENT
BEGIN:VEVENT
DTSTART;TZID=America/Phoenix:20251028T130000
DTEND;TZID=America/Phoenix:20251028T140000
DTSTAMP:20260423T200654
CREATED:20250914T025032Z
LAST-MODIFIED:20250914T025032Z
UID:10003914-1761656400-1761660000@pimaparenting.org
SUMMARY:Wonders of the Desert: Nature Play & Storytime-CLASS IS NOW HELD ONSITE AT THE SAHUARITA FRC
DESCRIPTION:Wonders of the Desert: Nature Play & Storytime-Gourds and Pumpkins \nJoin us for an enriching sensory adventure in Wonders of the Desert\, where young children (ages 2–5) explore the natural world through play-based\, developmentally appropriate outdoor activities. Guided by a trained nature-based educator\, each session offers three to four fun hands-on experiences—like digging\, building\, crafting\, and observing—designed to spark curiosity and build early learning skills. We’ll wrap up with a themed Storytime that ties everything together\, helping little ones connect\, imagine\, and grow in nature. All participants will be given a Family Activity page in English & Spanish to extend the learning and fun at home. \nChildren and caregivers learn about the different shapes\, colors\, and textures of gourds and pumpkins\, how they grow\, and their role in nature and culture. This experience supports sensory development\, early math skills\, and a deeper connection to plants and the seasons
URL:https://pimaparenting.org/event/wonders-of-the-desert-nature-play-storytime-class-is-now-held-onsite-at-the-sahuarita-frc-4/
LOCATION:Family Resource Center at Sahuarita Food Bank\, 17750 S. La Canada\, Sahuarita\, AZ\, 85629\, United States
CATEGORIES:Families with Children Birth to Five
ATTACH;FMTTYPE=image/png:https://pimaparenting.org/wp-content/uploads/2025/07/Wonders-of-the-Desert-at-SFB.png
ORGANIZER;CN="Debi with CFNPPC":MAILTO:debimorgan4@gmail.com
END:VEVENT
BEGIN:VEVENT
DTSTART;TZID=America/Phoenix:20251028T173000
DTEND;TZID=America/Phoenix:20251028T193000
DTSTAMP:20260423T200654
CREATED:20250914T043625Z
LAST-MODIFIED:20250914T043625Z
UID:10003965-1761672600-1761679800@pimaparenting.org
SUMMARY:Praising Children and their Behavior/VIRTUAL CLASS
DESCRIPTION:This topic is from the Nurturing Parenting Program \nThis class focuses on the importance of giving praise to children. \nRegister at Praising Children and their Behavior ⋆ Casa de los Niños
URL:https://pimaparenting.org/event/praising-children-and-their-behavior-virtual-class-4/
LOCATION:Family Resource Center at Sahuarita Food Bank\, 17750 S. La Canada\, Sahuarita\, AZ\, 85629\, United States
CATEGORIES:Families with Children Birth to Five
ATTACH;FMTTYPE=image/jpeg:https://pimaparenting.org/wp-content/uploads/2024/03/Casa-logo.jpg
ORGANIZER;CN="Casa de los Ninos":MAILTO:cbolger@casadelosninos.org
END:VEVENT
BEGIN:VEVENT
DTSTART;TZID=America/Phoenix:20251028T173000
DTEND;TZID=America/Phoenix:20251028T193000
DTSTAMP:20260423T200654
CREATED:20250914T043704Z
LAST-MODIFIED:20250914T043704Z
UID:10003966-1761672600-1761679800@pimaparenting.org
SUMMARY:Praising Children and their Behavior/VIRTUAL CLASS
DESCRIPTION:This topic is from the Nurturing Parenting Program \nThis class focuses on the importance of giving praise to children. \nRegister at Praising Children and their Behavior ⋆ Casa de los Niños
URL:https://pimaparenting.org/event/praising-children-and-their-behavior-virtual-class-5/
LOCATION:Family Resource Center at Robles Elementary\, 9875 S Sasabe Rd\, Tucson\, AZ\, 85736\, United States
CATEGORIES:Families with Children Birth to Five
ATTACH;FMTTYPE=image/jpeg:https://pimaparenting.org/wp-content/uploads/2024/03/Casa-logo.jpg
ORGANIZER;CN="Casa de los Ninos":MAILTO:cbolger@casadelosninos.org
END:VEVENT
BEGIN:VEVENT
DTSTART;TZID=America/Phoenix:20251028T173000
DTEND;TZID=America/Phoenix:20251028T193000
DTSTAMP:20260423T200654
CREATED:20250914T043724Z
LAST-MODIFIED:20250914T043724Z
UID:10003967-1761672600-1761679800@pimaparenting.org
SUMMARY:Praising Children and their Behavior/VIRTUAL CLASS
DESCRIPTION:This topic is from the Nurturing Parenting Program \nThis class focuses on the importance of giving praise to children. \nRegister at Praising Children and their Behavior ⋆ Casa de los Niños
URL:https://pimaparenting.org/event/praising-children-and-their-behavior-virtual-class-6/
LOCATION:Family Resource Center at Los Ranchitos\, 2054 E Ginter Rd\, Tucson\, AZ\, 85706\, United States
CATEGORIES:Families with Children Birth to Five
ATTACH;FMTTYPE=image/jpeg:https://pimaparenting.org/wp-content/uploads/2024/03/Casa-logo.jpg
ORGANIZER;CN="Casa de los Ninos":MAILTO:cbolger@casadelosninos.org
END:VEVENT
END:VCALENDAR