BEGIN:VCALENDAR
VERSION:2.0
PRODID:-//Pima County Parenting Coalition - ECPv6.15.16.1//NONSGML v1.0//EN
CALSCALE:GREGORIAN
METHOD:PUBLISH
X-WR-CALNAME:Pima County Parenting Coalition
X-ORIGINAL-URL:https://pimaparenting.org
X-WR-CALDESC:Events for Pima County Parenting Coalition
REFRESH-INTERVAL;VALUE=DURATION:PT1H
X-Robots-Tag:noindex
X-PUBLISHED-TTL:PT1H
BEGIN:VTIMEZONE
TZID:America/Phoenix
BEGIN:STANDARD
TZOFFSETFROM:-0700
TZOFFSETTO:-0700
TZNAME:MST
DTSTART:20240101T000000
END:STANDARD
END:VTIMEZONE
BEGIN:VEVENT
DTSTART;TZID=America/Phoenix:20251101T093000
DTEND;TZID=America/Phoenix:20251101T103000
DTSTAMP:20260423T200535
CREATED:20251013T183234Z
LAST-MODIFIED:20251013T183234Z
UID:10003972-1761989400-1761993000@pimaparenting.org
SUMMARY:The Secret to Gentle Parenting - Virtual Class
DESCRIPTION:Effective parenting is possible without yelling\, threatening and harsh punishments. Explore the skills and strategies of “Conscious Discipline” and receive valuable resources to help you in your parenting journey.
URL:https://pimaparenting.org/event/the-secret-to-gentle-parenting-virtual-class-31/
LOCATION:Family Resource Center at Los Ranchitos\, 2054 E Ginter Rd\, Tucson\, AZ\, 85706\, United States
CATEGORIES:All Caregivers,Families with Children Birth to Five
ATTACH;FMTTYPE=image/jpeg:https://pimaparenting.org/wp-content/uploads/2024/03/EBF-logo.jpg
ORGANIZER;CN="Jeanne  Velasquez- EBF":MAILTO:jvelasquez@amphi.com
END:VEVENT
BEGIN:VEVENT
DTSTART;TZID=America/Phoenix:20251101T093000
DTEND;TZID=America/Phoenix:20251101T103000
DTSTAMP:20260423T200535
CREATED:20251013T184056Z
LAST-MODIFIED:20251013T184056Z
UID:10003973-1761989400-1761993000@pimaparenting.org
SUMMARY:The Secret to Gentle Parenting - Virtual Class
DESCRIPTION:Effective parenting is possible without yelling\, threatening and harsh punishments. Explore the skills and strategies of “Conscious Discipline” and receive valuable resources to help you in your parenting journey.
URL:https://pimaparenting.org/event/the-secret-to-gentle-parenting-virtual-class-32/
LOCATION:Family Resource Center at Robles Elementary\, 9875 S Sasabe Rd\, Tucson\, AZ\, 85736\, United States
CATEGORIES:All Caregivers,Families with Children Birth to Five
ATTACH;FMTTYPE=image/jpeg:https://pimaparenting.org/wp-content/uploads/2024/03/EBF-logo.jpg
ORGANIZER;CN="Jeanne  Velasquez- EBF":MAILTO:jvelasquez@amphi.com
END:VEVENT
BEGIN:VEVENT
DTSTART;TZID=America/Phoenix:20251101T093000
DTEND;TZID=America/Phoenix:20251101T103000
DTSTAMP:20260423T200535
CREATED:20251013T184133Z
LAST-MODIFIED:20251013T184133Z
UID:10003974-1761989400-1761993000@pimaparenting.org
SUMMARY:The Secret to Gentle Parenting - Virtual Class
DESCRIPTION:Effective parenting is possible without yelling\, threatening and harsh punishments. Explore the skills and strategies of “Conscious Discipline” and receive valuable resources to help you in your parenting journey.
URL:https://pimaparenting.org/event/the-secret-to-gentle-parenting-virtual-class-33/
LOCATION:Family Resource Center at Sahuarita Food Bank\, 17750 S. La Canada\, Sahuarita\, AZ\, 85629\, United States
CATEGORIES:All Caregivers,Families with Children Birth to Five
ATTACH;FMTTYPE=image/jpeg:https://pimaparenting.org/wp-content/uploads/2024/03/EBF-logo.jpg
ORGANIZER;CN="Jeanne  Velasquez- EBF":MAILTO:jvelasquez@amphi.com
END:VEVENT
END:VCALENDAR