BEGIN:VCALENDAR
VERSION:2.0
PRODID:-//Pima County Parenting Coalition - ECPv6.15.16.1//NONSGML v1.0//EN
CALSCALE:GREGORIAN
METHOD:PUBLISH
X-ORIGINAL-URL:https://pimaparenting.org
X-WR-CALDESC:Events for Pima County Parenting Coalition
REFRESH-INTERVAL;VALUE=DURATION:PT1H
X-Robots-Tag:noindex
X-PUBLISHED-TTL:PT1H
BEGIN:VTIMEZONE
TZID:America/Phoenix
BEGIN:STANDARD
TZOFFSETFROM:-0700
TZOFFSETTO:-0700
TZNAME:MST
DTSTART:20240101T000000
END:STANDARD
END:VTIMEZONE
BEGIN:VEVENT
DTSTART;TZID=America/Phoenix:20251104T090000
DTEND;TZID=America/Phoenix:20251104T100000
DTSTAMP:20260424T001300
CREATED:20251013T233946Z
LAST-MODIFIED:20251013T233946Z
UID:10004043-1762246800-1762250400@pimaparenting.org
SUMMARY:Masaje de manos nutritivas para bebés-Los Ranchitos Family Resource Center
DESCRIPTION:Los padres aprenderán varias técnicas de masaje mientras aprenden sobre las ventajas de la terapia de masaje para su bebé. Tenga en cuenta que los padres y el bebé (0-9 meses) deben asistir juntos a esta clase.
URL:https://pimaparenting.org/event/masaje-de-manos-nutritivas-para-bebes-los-ranchitos-family-resource-center-31/
LOCATION:Family Resource Center at Los Ranchitos\, 2054 E Ginter Rd\, Tucson\, AZ\, 85706\, United States
CATEGORIES:Families with Children Birth to Five
ATTACH;FMTTYPE=image/jpeg:https://pimaparenting.org/wp-content/uploads/2024/03/Baby-Massage-at-SUSD.jpg
ORGANIZER;CN="Laura Ontiveros-EBF":MAILTO:lontiveros@blake.easterseals.com
END:VEVENT
BEGIN:VEVENT
DTSTART;TZID=America/Phoenix:20251104T090000
DTEND;TZID=America/Phoenix:20251104T103000
DTSTAMP:20260424T001300
CREATED:20251014T163404Z
LAST-MODIFIED:20251014T163404Z
UID:10004072-1762246800-1762252200@pimaparenting.org
SUMMARY:Kinship & Foster Parent Cafe
DESCRIPTION:A welcoming space for kinship and foster caregivers to connect with others who share similar experiences. Together\, participants offer encouragement\, comfort\, and practical resources. Each gathering includes a basic support item provided by Aviva Children’s Services. Children ages 0–5 are welcome.
URL:https://pimaparenting.org/event/kinship-foster-parent-cafe/
LOCATION:Family Resource Center at Robles Elementary\, 9875 S Sasabe Rd\, Tucson\, AZ\, 85736\, United States
CATEGORIES:Families with Children Birth to Five
ATTACH;FMTTYPE=image/png:https://pimaparenting.org/wp-content/uploads/2025/10/EBF-Aviva.png
ORGANIZER;CN="Christina Greenberg":MAILTO:cgreenberg@avivatucson.org
END:VEVENT
BEGIN:VEVENT
DTSTART;TZID=America/Phoenix:20251104T103000
DTEND;TZID=America/Phoenix:20251104T113000
DTSTAMP:20260424T001300
CREATED:20251013T205254Z
LAST-MODIFIED:20251013T205254Z
UID:10004004-1762252200-1762255800@pimaparenting.org
SUMMARY:Emotional Intelligence 101
DESCRIPTION:Learn how to help your little ones recognize their own feelings and those of others.  Learn simple coping skills to model and manage emotions effectively.
URL:https://pimaparenting.org/event/emotional-intelligence-101-2/
LOCATION:Family Resource Center at Robles Elementary\, 9875 S Sasabe Rd\, Tucson\, AZ\, 85736\, United States
CATEGORIES:Families with Children Birth to Five
ATTACH;FMTTYPE=image/png:https://pimaparenting.org/wp-content/uploads/2025/07/Parent-Aid-Logo_Vertical_FULL-COLOR.png
ORGANIZER;CN="Rebecca with Parent Aid":MAILTO:rebecca@parentaid.org
END:VEVENT
BEGIN:VEVENT
DTSTART;TZID=America/Phoenix:20251104T113000
DTEND;TZID=America/Phoenix:20251104T123000
DTSTAMP:20260424T001300
CREATED:20251013T230848Z
LAST-MODIFIED:20251013T230848Z
UID:10004023-1762255800-1762259400@pimaparenting.org
SUMMARY:Happy Hour: Family Playtime
DESCRIPTION:Join Vanessa at Parent Aid for a playful\, stress-free hour of connection\, creativity\, and community! Happy Hour: Family Playtime is a warm and welcoming space where parents and children explore the joy of free play — together. \nThis interactive experience helps little ones build important social skills while giving parents the chance to connect with one another\, share experiences\, and step into their child’s world through play. It’s a perfect blend of bonding\, support\, and fun — no agenda\, no pressure\, just quality time. \n✨ Meet other parents\n🧸 Support your child’s growth through play\n💬 Enjoy thoughtful conversations in a relaxed environment \nCome as you are — stay for the smiles.\nBecause connection is the real happy hour.
URL:https://pimaparenting.org/event/happy-hour-family-playtime-15/
LOCATION:Family Resource Center at Robles Elementary\, 9875 S Sasabe Rd\, Tucson\, AZ\, 85736\, United States
CATEGORIES:Families with Children Birth to Five
ATTACH;FMTTYPE=image/png:https://pimaparenting.org/wp-content/uploads/2025/07/Happy-Hour-at-AVSD.png
ORGANIZER;CN="Vanessa Batson- PA":MAILTO:vanessa@parentaid.org
END:VEVENT
BEGIN:VEVENT
DTSTART;TZID=America/Phoenix:20251104T173000
DTEND;TZID=America/Phoenix:20251104T193000
DTSTAMP:20260424T001300
CREATED:20251013T212356Z
LAST-MODIFIED:20251013T212356Z
UID:10004008-1762277400-1762284600@pimaparenting.org
SUMMARY:Discipline\, Rewards & Punishment-VIRTUAL CLASS
DESCRIPTION:This topic is from the Nurturing Parenting Program. This class will discuss strategies to create a disciplined\, caring\, family home. \nRegister at Discipline\, Rewards & Punishment ⋆ Casa de los Niños
URL:https://pimaparenting.org/event/discipline-rewards-punishment-virtual-class-4/
LOCATION:Family Resource Center at Sahuarita Food Bank\, 17750 S. La Canada\, Sahuarita\, AZ\, 85629\, United States
CATEGORIES:Families with Children Birth to Five
ATTACH;FMTTYPE=image/jpeg:https://pimaparenting.org/wp-content/uploads/2024/11/Casa4-at-SFB-2.0.jpg
ORGANIZER;CN="Casa de los Ninos":MAILTO:cbolger@casadelosninos.org
END:VEVENT
BEGIN:VEVENT
DTSTART;TZID=America/Phoenix:20251104T173000
DTEND;TZID=America/Phoenix:20251104T193000
DTSTAMP:20260424T001300
CREATED:20251013T212511Z
LAST-MODIFIED:20251013T212511Z
UID:10004009-1762277400-1762284600@pimaparenting.org
SUMMARY:Discipline\, Rewards & Punishment-VIRTUAL CLASS
DESCRIPTION:This topic is from the Nurturing Parenting Program. This class will discuss strategies to create a disciplined\, caring\, family home. \nRegister at Discipline\, Rewards & Punishment ⋆ Casa de los Niños
URL:https://pimaparenting.org/event/discipline-rewards-punishment-virtual-class-5/
LOCATION:Family Resource Center at Robles Elementary\, 9875 S Sasabe Rd\, Tucson\, AZ\, 85736\, United States
CATEGORIES:Families with Children Birth to Five
ATTACH;FMTTYPE=image/jpeg:https://pimaparenting.org/wp-content/uploads/2024/11/Casa4-at-AVSD-2.0.jpg
ORGANIZER;CN="Casa de los Ninos":MAILTO:cbolger@casadelosninos.org
END:VEVENT
BEGIN:VEVENT
DTSTART;TZID=America/Phoenix:20251104T173000
DTEND;TZID=America/Phoenix:20251104T193000
DTSTAMP:20260424T001300
CREATED:20251013T212611Z
LAST-MODIFIED:20251013T212611Z
UID:10004010-1762277400-1762284600@pimaparenting.org
SUMMARY:Discipline\, Rewards & Punishment-VIRTUAL CLASS
DESCRIPTION:This topic is from the Nurturing Parenting Program. This class will discuss strategies to create a disciplined\, caring\, family home. \nRegister at Discipline\, Rewards & Punishment ⋆ Casa de los Niños
URL:https://pimaparenting.org/event/discipline-rewards-punishment-virtual-class-6/
LOCATION:Family Resource Center at Los Ranchitos\, 2054 E Ginter Rd\, Tucson\, AZ\, 85706\, United States
CATEGORIES:Families with Children Birth to Five
ATTACH;FMTTYPE=image/jpeg:https://pimaparenting.org/wp-content/uploads/2024/11/Casa4-at-SUSD-2.0.jpg
ORGANIZER;CN="Casa de los Ninos":MAILTO:cbolger@casadelosninos.org
END:VEVENT
END:VCALENDAR