BEGIN:VCALENDAR
VERSION:2.0
PRODID:-//Pima County Parenting Coalition - ECPv6.15.16.1//NONSGML v1.0//EN
CALSCALE:GREGORIAN
METHOD:PUBLISH
X-WR-CALNAME:Pima County Parenting Coalition
X-ORIGINAL-URL:https://pimaparenting.org
X-WR-CALDESC:Events for Pima County Parenting Coalition
REFRESH-INTERVAL;VALUE=DURATION:PT1H
X-Robots-Tag:noindex
X-PUBLISHED-TTL:PT1H
BEGIN:VTIMEZONE
TZID:America/Phoenix
BEGIN:STANDARD
TZOFFSETFROM:-0700
TZOFFSETTO:-0700
TZNAME:MST
DTSTART:20240101T000000
END:STANDARD
END:VTIMEZONE
BEGIN:VEVENT
DTSTART;TZID=America/Phoenix:20251107T090000
DTEND;TZID=America/Phoenix:20251107T103000
DTSTAMP:20260423T200537
CREATED:20251013T235007Z
LAST-MODIFIED:20251013T235007Z
UID:10004056-1762506000-1762511400@pimaparenting.org
SUMMARY:Sunny Ranch Family Cafe
DESCRIPTION:Parents and caregivers can join us to share about the challenges and successes of raising their children\, provide support for each other\, discuss what they would like to see at the FRC\, and enjoy a nice time with each other. \nLos padres y cuidadores pueden unirse a nosotros para compartir sobre los desafíos y éxitos de criar a sus hijos\, brindarse apoyo mutuo\, discutir lo que les gustaría ver en el FRC y disfrutar de un momento agradable juntos.
URL:https://pimaparenting.org/event/sunny-ranch-family-cafe-2/
LOCATION:Family Resource Center at Los Ranchitos\, 2054 E Ginter Rd\, Tucson\, AZ\, 85706\, United States
CATEGORIES:Families with Children Birth to Five
ATTACH;FMTTYPE=image/jpeg:https://pimaparenting.org/wp-content/uploads/2024/11/Family-Cafe-at-SUSD-2.0.jpg
ORGANIZER;CN="Family Resource Center at Los Ranchitos":MAILTO:MyrnaL@susd12.org
END:VEVENT
BEGIN:VEVENT
DTSTART;TZID=America/Phoenix:20251107T103000
DTEND;TZID=America/Phoenix:20251107T113000
DTSTAMP:20260423T200537
CREATED:20251013T194938Z
LAST-MODIFIED:20251013T230613Z
UID:10003991-1762511400-1762515000@pimaparenting.org
SUMMARY:Potty Training Today
DESCRIPTION:Come join Amanda and Parent Aid for a fun hour on Potty Training Today! This class will equip you with the best practices on your journey to the no diaper life. All participants will receive a FREE toddler potty and training pants! \nRegistration is FREE! \nClass is offered in-person at the Family Resource Center at the Sahuarita Food Bank. \nEmail amanda@parentaid.org with any questions you have about the group. \nWe look forward to seeing you there!
URL:https://pimaparenting.org/event/potty-training-today/
LOCATION:Family Resource Center at Sahuarita Food Bank\, 17750 S. La Canada\, Sahuarita\, AZ\, 85629\, United States
CATEGORIES:All Caregivers,Families with Children Birth to Five
ATTACH;FMTTYPE=image/png:https://pimaparenting.org/wp-content/uploads/2025/09/Potty-at-SFB-2.0.png
ORGANIZER;CN="Amanda Ward McNeal- PA":MAILTO:amanda@parentaid.org
END:VEVENT
BEGIN:VEVENT
DTSTART;TZID=America/Phoenix:20251107T110000
DTEND;TZID=America/Phoenix:20251107T120000
DTSTAMP:20260423T200537
CREATED:20251013T235143Z
LAST-MODIFIED:20251013T235143Z
UID:10004057-1762513200-1762516800@pimaparenting.org
SUMMARY:Entrenamiento para ir al baño hoy
DESCRIPTION:¡Únase a Martha Luz y Parent Aid para una hora divertida sobre el entrenamiento para ir al baño hoy! Esta clase lo equipará con las mejores prácticas en su viaje hacia una vida sin pañales. Todos los participantes recibirán GRATIS un orinal para niños pequeños\, una copia de “The First-Time Parent’s Guide to Potty Training” de Jazmine McCoy\, PsyD. \n¡La inscripción es GRATIS! \nLa clase se ofrece en persona en el Family Resource Center de Los Ranchitos \nEsperamos verlos allí!
URL:https://pimaparenting.org/event/entrenamiento-para-ir-al-bano-hoy/
LOCATION:Family Resource Center at Los Ranchitos\, 2054 E Ginter Rd\, Tucson\, AZ\, 85706\, United States
CATEGORIES:All Caregivers,Families with Children Birth to Five
ATTACH;FMTTYPE=image/png:https://pimaparenting.org/wp-content/uploads/2024/11/Potty-at-SUSD-2.0.png
ORGANIZER;CN="Martha Luz with Parent Aid":MAILTO:marthaluz@parentaid.org
END:VEVENT
BEGIN:VEVENT
DTSTART;TZID=America/Phoenix:20251107T113000
DTEND;TZID=America/Phoenix:20251107T123000
DTSTAMP:20260423T200537
CREATED:20251013T195125Z
LAST-MODIFIED:20251013T195125Z
UID:10003992-1762515000-1762518600@pimaparenting.org
SUMMARY:Happy Hour: Family Playtime
DESCRIPTION:Join Amanda at Parent Aid for a playful\, stress-free hour of connection\, creativity\, and community! Happy Hour: Family Playtime is a warm and welcoming space where parents and children explore the joy of free play — together. \nThis interactive experience helps little ones build important social skills while giving parents the chance to connect with one another\, share experiences\, and step into their child’s world through play. It’s a perfect blend of bonding\, support\, and fun — no agenda\, no pressure\, just quality time. \n✨ Meet other parents\n🧸 Support your child’s growth through play\n💬 Enjoy thoughtful conversations in a relaxed environment \nCome as you are — stay for the smiles.\nBecause connection is the real happy hour.
URL:https://pimaparenting.org/event/happy-hour-family-playtime-13/
LOCATION:Family Resource Center at Sahuarita Food Bank\, 17750 S. La Canada\, Sahuarita\, AZ\, 85629\, United States
CATEGORIES:Families with Children Birth to Five
ATTACH;FMTTYPE=image/png:https://pimaparenting.org/wp-content/uploads/2025/07/Happy-Hour-at-SFB.png
ORGANIZER;CN="Amanda Ward McNeal- PA":MAILTO:amanda@parentaid.org
END:VEVENT
BEGIN:VEVENT
DTSTART;TZID=America/Phoenix:20251107T130000
DTEND;TZID=America/Phoenix:20251107T140000
DTSTAMP:20260423T200537
CREATED:20251013T231706Z
LAST-MODIFIED:20251013T231706Z
UID:10004027-1762520400-1762524000@pimaparenting.org
SUMMARY:Garden Discovery Days
DESCRIPTION:This class connects you and your child to the garden through hands-on activities\, where you’ll learn where food comes from\, explore nature\, and create fun nature-inspired crafts. \n  \n 
URL:https://pimaparenting.org/event/garden-discovery-days-8/
LOCATION:Family Resource Center at Robles Elementary\, 9875 S Sasabe Rd\, Tucson\, AZ\, 85736\, United States
CATEGORIES:Families with Children Birth to Five
ATTACH;FMTTYPE=image/jpeg:https://pimaparenting.org/wp-content/uploads/2024/11/GDD-at-AVSD-2.0.jpg
ORGANIZER;CN="Cassie Burrel - UACE":MAILTO:cassieb@ag.arizona.edu
END:VEVENT
BEGIN:VEVENT
DTSTART;TZID=America/Phoenix:20251107T130000
DTEND;TZID=America/Phoenix:20251107T140000
DTSTAMP:20260423T200537
CREATED:20251013T234654Z
LAST-MODIFIED:20251013T234654Z
UID:10004051-1762520400-1762524000@pimaparenting.org
SUMMARY:Story School - Family Resource Center at Los Ranchitos
DESCRIPTION:This early reading program for kids and parents/caregivers includes sharing stories\, music and movement\, and activities to do in class and at home. Families receive 20 free books & school supplies. \nVisit www.mystoryschool.org/apply to register today! \n  \n  \n  \n 
URL:https://pimaparenting.org/event/story-school-family-resource-center-at-los-ranchitos-6/
LOCATION:Family Resource Center at Los Ranchitos\, 2054 E Ginter Rd\, Tucson\, AZ\, 85706\, United States
CATEGORIES:Families with Children Birth to Five
ATTACH;FMTTYPE=image/png:https://pimaparenting.org/wp-content/uploads/2025/07/Story-School-at-SUSD-2.0.png
ORGANIZER;CN="Nando Trujillo-MWFB":MAILTO:nando@makewayforbooks.org
END:VEVENT
BEGIN:VEVENT
DTSTART;TZID=America/Phoenix:20251107T140000
DTEND;TZID=America/Phoenix:20251107T150000
DTSTAMP:20260423T200537
CREATED:20251013T232220Z
LAST-MODIFIED:20251013T232220Z
UID:10004032-1762524000-1762527600@pimaparenting.org
SUMMARY:Move and Groove Playtime
DESCRIPTION:This interactive class for children ages 2-5 and their parents. Through music\, dancing\, and playful movement\, kids\ndevelop coordination\, balance\, and creativity while strengthening their bond with parents. Colorful props and lively\ntunes make each session exciting and engaging\, promoting physical development and social skills in a safe\,\nsupportive environment. Perfect for little ones who love to move and groove!
URL:https://pimaparenting.org/event/move-and-groove-playtime-11/
LOCATION:Family Resource Center at Robles Elementary\, 9875 S Sasabe Rd\, Tucson\, AZ\, 85736\, United States
CATEGORIES:Families with Children Birth to Five
ATTACH;FMTTYPE=image/jpeg:https://pimaparenting.org/wp-content/uploads/2024/11/Family-Resource-Center-Logo-1.jpg
ORGANIZER;CN="Maggie McKiernan - UWTSA":MAILTO:mggqt.2010@gmail.com
END:VEVENT
END:VCALENDAR