BEGIN:VCALENDAR
VERSION:2.0
PRODID:-//Pima County Parenting Coalition - ECPv6.15.16.1//NONSGML v1.0//EN
CALSCALE:GREGORIAN
METHOD:PUBLISH
X-WR-CALNAME:Pima County Parenting Coalition
X-ORIGINAL-URL:https://pimaparenting.org
X-WR-CALDESC:Events for Pima County Parenting Coalition
REFRESH-INTERVAL;VALUE=DURATION:PT1H
X-Robots-Tag:noindex
X-PUBLISHED-TTL:PT1H
BEGIN:VTIMEZONE
TZID:America/Phoenix
BEGIN:STANDARD
TZOFFSETFROM:-0700
TZOFFSETTO:-0700
TZNAME:MST
DTSTART:20240101T000000
END:STANDARD
END:VTIMEZONE
BEGIN:VEVENT
DTSTART;TZID=America/Phoenix:20251112T090000
DTEND;TZID=America/Phoenix:20251112T100000
DTSTAMP:20260423T211602
CREATED:20251013T185138Z
LAST-MODIFIED:20251013T185138Z
UID:10003982-1762938000-1762941600@pimaparenting.org
SUMMARY:Fun Family Fitness
DESCRIPTION:Have fun getting fit with your child while building healthy habits for life! Enjoy playful movement\, games\, and bonding time in a supportive\, active class that makes fitness fun for the whole family. A great way to inspire a lifelong love of wellness—together!
URL:https://pimaparenting.org/event/fun-family-fitness-11/
LOCATION:Family Resource Center at Sahuarita Food Bank\, 17750 S. La Canada\, Sahuarita\, AZ\, 85629\, United States
CATEGORIES:Families with Children Birth to Five
ATTACH;FMTTYPE=image/jpeg:https://pimaparenting.org/wp-content/uploads/2024/11/FFF-at-SFB-2.0.jpg
ORGANIZER;CN="Julia with UWTSA":MAILTO:bootcampmama16@yahoo.com
END:VEVENT
BEGIN:VEVENT
DTSTART;TZID=America/Phoenix:20251112T090000
DTEND;TZID=America/Phoenix:20251112T100000
DTSTAMP:20260423T211602
CREATED:20251013T234038Z
LAST-MODIFIED:20251013T234038Z
UID:10004044-1762938000-1762941600@pimaparenting.org
SUMMARY:Masaje de manos nutritivas para bebés-Los Ranchitos Family Resource Center
DESCRIPTION:Los padres aprenderán varias técnicas de masaje mientras aprenden sobre las ventajas de la terapia de masaje para su bebé. Tenga en cuenta que los padres y el bebé (0-9 meses) deben asistir juntos a esta clase.
URL:https://pimaparenting.org/event/masaje-de-manos-nutritivas-para-bebes-los-ranchitos-family-resource-center-32/
LOCATION:Family Resource Center at Los Ranchitos\, 2054 E Ginter Rd\, Tucson\, AZ\, 85706\, United States
CATEGORIES:Families with Children Birth to Five
ATTACH;FMTTYPE=image/jpeg:https://pimaparenting.org/wp-content/uploads/2024/03/Baby-Massage-at-SUSD.jpg
ORGANIZER;CN="Laura Ontiveros-EBF":MAILTO:lontiveros@blake.easterseals.com
END:VEVENT
BEGIN:VEVENT
DTSTART;TZID=America/Phoenix:20251112T103000
DTEND;TZID=America/Phoenix:20251112T113000
DTSTAMP:20260423T211602
CREATED:20251013T194323Z
LAST-MODIFIED:20251112T062347Z
UID:10003987-1762943400-1762947000@pimaparenting.org
SUMMARY:Musical Expressions
DESCRIPTION:This class will encourage children to artistically express what they feel through music onto paper and through fun dance moves. Art and music invigorate young children’s minds to be creative\, imaginative\, expressive\, confident\, engaged and so much more!
URL:https://pimaparenting.org/event/musical-expressions/
LOCATION:Family Resource Center at Sahuarita Food Bank\, 17750 S. La Canada\, Sahuarita\, AZ\, 85629\, United States
CATEGORIES:Families with Children Birth to Five
ATTACH;FMTTYPE=image/jpeg:https://pimaparenting.org/wp-content/uploads/2024/11/Music-Exp-at-SFB-2.0.jpg
ORGANIZER;CN="Nataly Quiroz- UACE":MAILTO:natalyquiroz@arizona.edu
END:VEVENT
BEGIN:VEVENT
DTSTART;TZID=America/Phoenix:20251112T103000
DTEND;TZID=America/Phoenix:20251112T113000
DTSTAMP:20260423T211602
CREATED:20251013T234318Z
LAST-MODIFIED:20251013T234318Z
UID:10004047-1762943400-1762947000@pimaparenting.org
SUMMARY:Kids in Motion/Niños en Movimiento
DESCRIPTION:Kids in Motion is an active and fun class that promotes your child’s gross motor skill development through energetic and exciting activities.  \nNiños en Movimiento es una clase activa y divertida que promueve el desarrollo de la motricidad gruesa de su hijo a través de actividades enérgicas y emocionantes.
URL:https://pimaparenting.org/event/kids-in-motion-ninos-en-movimiento-34/
LOCATION:Family Resource Center at Los Ranchitos\, 2054 E Ginter Rd\, Tucson\, AZ\, 85706\, United States
CATEGORIES:Families with Children Birth to Five
ATTACH;FMTTYPE=image/jpeg:https://pimaparenting.org/wp-content/uploads/2024/11/Kids-in-Motion-at-SUSD-2.0.jpg
ORGANIZER;CN="Garrett Lilly-Ramirez - UWTSA":MAILTO:gkidsinmotion@gmail.com
END:VEVENT
BEGIN:VEVENT
DTSTART;TZID=America/Phoenix:20251112T130000
DTEND;TZID=America/Phoenix:20251112T140000
DTSTAMP:20260423T211602
CREATED:20251013T234742Z
LAST-MODIFIED:20251013T234742Z
UID:10004052-1762952400-1762956000@pimaparenting.org
SUMMARY:Story School - Family Resource Center at Los Ranchitos
DESCRIPTION:This early reading program for kids and parents/caregivers includes sharing stories\, music and movement\, and activities to do in class and at home. Families receive 20 free books & school supplies. \nVisit www.mystoryschool.org/apply to register today! \n  \n  \n  \n 
URL:https://pimaparenting.org/event/story-school-family-resource-center-at-los-ranchitos-7/
LOCATION:Family Resource Center at Los Ranchitos\, 2054 E Ginter Rd\, Tucson\, AZ\, 85706\, United States
CATEGORIES:Families with Children Birth to Five
ATTACH;FMTTYPE=image/png:https://pimaparenting.org/wp-content/uploads/2025/07/Story-School-at-SUSD-2.0.png
ORGANIZER;CN="Nando Trujillo-MWFB":MAILTO:nando@makewayforbooks.org
END:VEVENT
END:VCALENDAR