BEGIN:VCALENDAR
VERSION:2.0
PRODID:-//Pima County Parenting Coalition - ECPv6.15.16.1//NONSGML v1.0//EN
CALSCALE:GREGORIAN
METHOD:PUBLISH
X-ORIGINAL-URL:https://pimaparenting.org
X-WR-CALDESC:Events for Pima County Parenting Coalition
REFRESH-INTERVAL;VALUE=DURATION:PT1H
X-Robots-Tag:noindex
X-PUBLISHED-TTL:PT1H
BEGIN:VTIMEZONE
TZID:America/Phoenix
BEGIN:STANDARD
TZOFFSETFROM:-0700
TZOFFSETTO:-0700
TZNAME:MST
DTSTART:20240101T000000
END:STANDARD
END:VTIMEZONE
BEGIN:VEVENT
DTSTART;TZID=America/Phoenix:20251113T090000
DTEND;TZID=America/Phoenix:20251113T100000
DTSTAMP:20260423T211745
CREATED:20251013T192937Z
LAST-MODIFIED:20251014T203324Z
UID:10003985-1763024400-1763028000@pimaparenting.org
SUMMARY:Stay & Play- Toddler Time / Family Resource Center at Sahuarita Food Bank
DESCRIPTION:Join us for our Toddler Time class\, designed for families with children from infants to 2 years old! In this interactive environment\, grownups and little ones will engage in play and socialization using a variety of carefully selected materials that promote holistic development. Our focus is on enhancing social skills\, literacy\, and communication\, providing a nurturing space for toddlers to explore and grow together with their caregivers. Come enjoy the fun while fostering essential skills for your child’s early years!
URL:https://pimaparenting.org/event/stay-play-toddler-time-family-resource-center-at-sahuarita-food-bank-3/
LOCATION:Family Resource Center at Sahuarita Food Bank\, 17750 S. La Canada\, Sahuarita\, AZ\, 85629\, United States
CATEGORIES:Families with Children Birth to Five
ATTACH;FMTTYPE=image/jpeg:https://pimaparenting.org/wp-content/uploads/2024/12/Toddler-Time-at-SFB-2.0.jpg
ORGANIZER;CN="Lela Messick-UWTSA":MAILTO:lmessick@unitedwaytucson.org
END:VEVENT
BEGIN:VEVENT
DTSTART;TZID=America/Phoenix:20251113T103000
DTEND;TZID=America/Phoenix:20251113T113000
DTSTAMP:20260423T211745
CREATED:20251013T184913Z
LAST-MODIFIED:20251013T184913Z
UID:10003980-1763029800-1763033400@pimaparenting.org
SUMMARY:Sensory Exploration/ Exploración sensorial
DESCRIPTION:This class will expose your child to different colors\, shapes\, patterns\, materials and fabrics to feel help them accept so many transitions into this big world fill with experiences. \nEsta clase expondrá a su hijo a diferentes colores\, formas\, patrones\, materiales y telas para sentir que lo ayudan a aceptar tantas transiciones a este gran mundo lleno de experiencias.
URL:https://pimaparenting.org/event/sensory-exploration-exploracion-sensorial-13/
LOCATION:Family Resource Center at Robles Elementary\, 9875 S Sasabe Rd\, Tucson\, AZ\, 85736\, United States
CATEGORIES:Families with Children Birth to Five
ATTACH;FMTTYPE=image/jpeg:https://pimaparenting.org/wp-content/uploads/2024/11/Sensory-at-AVSD-2.0.jpg
ORGANIZER;CN="Laura Ontiveros-EBF":MAILTO:lontiveros@blake.easterseals.com
END:VEVENT
BEGIN:VEVENT
DTSTART;TZID=America/Phoenix:20251113T103000
DTEND;TZID=America/Phoenix:20251113T113000
DTSTAMP:20260423T211745
CREATED:20251013T205554Z
LAST-MODIFIED:20251013T205554Z
UID:10004005-1763029800-1763033400@pimaparenting.org
SUMMARY:Inteligencia Emocional 101
DESCRIPTION:Aprende cómo ayudar a tus pequeños a reconocer sus propios sentimientos y los de los demás.  Aprenda habilidades de afrontamiento sencillas para modelar y gestionar las emociones de forma eficaz. \n 
URL:https://pimaparenting.org/event/inteligencia-emocional-101/
LOCATION:Family Resource Center at Los Ranchitos\, 2054 E Ginter Rd\, Tucson\, AZ\, 85706\, United States
CATEGORIES:Families with Children Birth to Five
ATTACH;FMTTYPE=image/png:https://pimaparenting.org/wp-content/uploads/2025/07/Parent-Aid-Logo_Vertical_FULL-COLOR.png
ORGANIZER;CN="Martha Luz with Parent Aid":MAILTO:marthaluz@parentaid.org
END:VEVENT
BEGIN:VEVENT
DTSTART;TZID=America/Phoenix:20251113T110000
DTEND;TZID=America/Phoenix:20251113T130000
DTSTAMP:20260423T211745
CREATED:20250815T180308Z
LAST-MODIFIED:20250815T180603Z
UID:10003758-1763031600-1763038800@pimaparenting.org
SUMMARY:The Incredible Years: Babies/ Class #8 (This series has a total of 8 classes)
DESCRIPTION:This parenting program is designed for parents with children 0-9 months old.  Class offers strategies to strengthen parenting skills and promote children’s optimal social\, emotional\, physical\, and academic development. Childcare available for children ages 1 – 5 years of age. \nClass 1: Overview of the Program \n Class 2: Becoming a Parent Part 1 \n Class 3: Becoming a Parent Part 2 \n Class 4: Physical and Visual Stimulation \n Class 5: Reading Babies Minds \n Class 6: Gaining Support \n Class 7: Emerging Sense of Self \n Class 8: Graduation
URL:https://pimaparenting.org/event/the-incredible-years-babies-class-8-this-series-has-a-total-of-8-classes/
LOCATION:Family Resource Center at Sahuarita Food Bank\, 17750 S. La Canada\, Sahuarita\, AZ\, 85629\, United States
CATEGORIES:All Caregivers,Families with Children Birth to Five
ATTACH;FMTTYPE=image/jpeg:https://pimaparenting.org/wp-content/uploads/2024/11/IY-at-SFB-2.0.jpg
ORGANIZER;CN="Laura Ontiveros-EBF":MAILTO:lontiveros@blake.easterseals.com
END:VEVENT
BEGIN:VEVENT
DTSTART;TZID=America/Phoenix:20251113T113000
DTEND;TZID=America/Phoenix:20251113T123000
DTSTAMP:20260423T211745
CREATED:20251013T235909Z
LAST-MODIFIED:20251112T231529Z
UID:10004061-1763033400-1763037000@pimaparenting.org
SUMMARY:Happy Hour: Family Playtime/Hora Feliz: Tiempo de Juego en Familia
DESCRIPTION:Join Vanessa at Parent Aid for a playful\, stress-free hour of connection\, creativity\, and community! Happy Hour: Family Playtime is a warm and welcoming space where parents and children explore the joy of free play — together. \nThis interactive experience helps little ones build important social skills while giving parents the chance to connect with one another\, share experiences\, and step into their child’s world through play. It’s a perfect blend of bonding\, support\, and fun — no agenda\, no pressure\, just quality time. \n✨ Meet other parents\n🧸 Support your child’s growth through play\n💬 Enjoy thoughtful conversations in a relaxed environment \nCome as you are — stay for the smiles.\nBecause connection is the real happy hour. \n  \n¡Únete a Vanessa en Parent Aid para una hora lúdica y sin estrés de conexión\, creatividad y comunidad! Happy Hour: Tiempo de Juego Familiar es un espacio cálido y acogedor donde padres e hijos exploran la alegría del juego libre\, juntos. \nEsta experiencia interactiva ayuda a los más pequeños a construir habilidades sociales importantes\, al mismo tiempo que ofrece a los padres la oportunidad de conectarse entre sí\, compartir experiencias y entrar en el mundo de sus hijos a través del juego. Es una mezcla perfecta de unión\, apoyo y diversión: sin agenda\, sin presión\, solo tiempo de calidad.
URL:https://pimaparenting.org/event/happy-hour-family-playtime-hora-feliz-tiempo-de-juego-en-familia-7/
LOCATION:Family Resource Center at Los Ranchitos\, 2054 E Ginter Rd\, Tucson\, AZ\, 85706\, United States
CATEGORIES:Families with Children Birth to Five
ATTACH;FMTTYPE=image/png:https://pimaparenting.org/wp-content/uploads/2025/07/Happy-Hour-at-SUSD.png
ORGANIZER;CN="Vanessa Batson- PA":MAILTO:vanessa@parentaid.org
END:VEVENT
BEGIN:VEVENT
DTSTART;TZID=America/Phoenix:20251113T130000
DTEND;TZID=America/Phoenix:20251113T140000
DTSTAMP:20260423T211745
CREATED:20251013T194507Z
LAST-MODIFIED:20251013T230158Z
UID:10003988-1763038800-1763042400@pimaparenting.org
SUMMARY:Garden Discovery Days-Class held at Pima County Cooperative Extension Office 530 E. Whitehouse Canyon Rd. Green Valley\, AZ 85614
DESCRIPTION:This class connects you and your child with the garden\, through hands on activities as you learn where food comes from\, learn about nature and make fun nature crafts.  \nPLEASE NOTE: Class is held at the Pima County Cooperative Extension Office 530 E. Whitehouse Canyon Rd. Green Valley\, AZ 85614
URL:https://pimaparenting.org/event/garden-discovery-days-class-held-at-pima-county-cooperative-extension-office-530-e-whitehouse-canyon-rd-green-valley-az-85614/
LOCATION:Family Resource Center at Sahuarita Food Bank\, 17750 S. La Canada\, Sahuarita\, AZ\, 85629\, United States
CATEGORIES:Families with Children Birth to Five
ATTACH;FMTTYPE=image/png:https://pimaparenting.org/wp-content/uploads/2025/04/GDD-at-SFB-2.0.png
ORGANIZER;CN="Cassie Burrel - UACE":MAILTO:cassieb@ag.arizona.edu
END:VEVENT
BEGIN:VEVENT
DTSTART;TZID=America/Phoenix:20251113T130000
DTEND;TZID=America/Phoenix:20251113T140000
DTSTAMP:20260423T211745
CREATED:20251013T232120Z
LAST-MODIFIED:20251013T232120Z
UID:10004031-1763038800-1763042400@pimaparenting.org
SUMMARY:Fine Arts for Kids- Family Resource Center at Robles Elementary
DESCRIPTION:This fun and interactive class for children and their parents or caregivers is packed with creative activities designed to help little ones develop important life skills like focus\, self-control\, and communication—all while having a great time together!
URL:https://pimaparenting.org/event/fine-arts-for-kids-family-resource-center-at-robles-elementary-10/
LOCATION:Family Resource Center at Robles Elementary\, 9875 S Sasabe Rd\, Tucson\, AZ\, 85736\, United States
CATEGORIES:Families with Children Birth to Five
ATTACH;FMTTYPE=image/jpeg:https://pimaparenting.org/wp-content/uploads/2024/11/Fine-Arts-at-AVSD-2.0.jpg
ORGANIZER;CN="Stephaine Carl - UACE":MAILTO:sacarl@arizona.edu
END:VEVENT
BEGIN:VEVENT
DTSTART;TZID=America/Phoenix:20251113T150000
DTEND;TZID=America/Phoenix:20251113T170000
DTSTAMP:20260423T211745
CREATED:20251014T001205Z
LAST-MODIFIED:20251014T001627Z
UID:10004067-1763046000-1763053200@pimaparenting.org
SUMMARY:Read\, Grow\, Bloom: Explore the Magic of Nature Through Literacy/Leer\, Crecer\, Florecer: Descubre la Magia de la Naturaleza a Través de la Lectura
DESCRIPTION:Join us for a fun and enriching family literacy event where books come to life and nature sparks the imagination! Read\, Grow\, Bloom invites children and families to discover the wonders of the natural world through stories\, hands-on activities\, and engaging special guests. \n🌿 Special Guests: \n\n\nReid Park Zoo Outreach Program – Get up close with fascinating animal ambassadors and learn how literacy connects us to the world of wildlife. \n\n\nMr. Nature – Enjoy interactive songs\, storytelling\, and outdoor exploration that bring nature and learning together in joyful harmony. \n\n\n📚 Free Books & Literacy MaterialsEvery child will receive free books and literacy resources to take home\, helping to cultivate a lifelong love of reading and learning. \nThis event is perfect for families with young children. Come grow your imagination\, bloom with knowledge\, and read your way into nature’s magic! \n¡Acompáñanos en un evento familiar de alfabetización lleno de diversión y aprendizaje\, donde los libros cobran vida y la naturaleza despierta la imaginación! Leer\, Crecer\, Florecer invita a niños y familias a explorar las maravillas del mundo natural mediante cuentos\, actividades prácticas e invitados especiales. \n🌿 Invitados Especiales: \n\n\nPrograma de Extensión del Zoológico Reid Park – Conoce de cerca a increíbles animales y descubre cómo la lectura nos conecta con el mundo salvaje. \n\n\nMr. Nature – Disfruta de canciones interactivas\, narración de cuentos y exploración al aire libre que combinan la naturaleza con el aprendizaje de una manera divertida. \n\n\n📚 Libros y Materiales de Lectura GratisCada niño recibirá libros y recursos educativos gratuitos para llevar a casa\, fomentando el amor por la lectura y el aprendizaje desde temprana edad. \nEste evento es ideal para familias con niños pequeños. ¡Ven a hacer crecer tu imaginación\, florecer con el conocimiento y leer para descubrir la magia de la naturaleza!
URL:https://pimaparenting.org/event/read-grow-bloom-family-literacy-event/
LOCATION:Family Resource Center at Los Ranchitos\, 2054 E Ginter Rd\, Tucson\, AZ\, 85706\, United States
CATEGORIES:Families with Children Birth to Five
ATTACH;FMTTYPE=image/jpeg:https://pimaparenting.org/wp-content/uploads/2024/11/Family-Resource-Center-Logo-1.jpg
ORGANIZER;CN="Family Resource Center at Los Ranchitos":MAILTO:MyrnaL@susd12.org
END:VEVENT
BEGIN:VEVENT
DTSTART;TZID=America/Phoenix:20251113T173000
DTEND;TZID=America/Phoenix:20251113T193000
DTSTAMP:20260423T211745
CREATED:20251013T214111Z
LAST-MODIFIED:20251013T214202Z
UID:10004014-1763055000-1763062200@pimaparenting.org
SUMMARY:Alternativas a las Nalgadas - Clase Virtual
DESCRIPTION:Esta clase analiza metodos no violentos de disciplina para ninos y se centra en la empatia\, el respeto mutuo y el desarrollo de la autoestima. \nRegístrese en Alternativas a las Nalgadas ⋆ Casa de los Niños \n 
URL:https://pimaparenting.org/event/alternativas-a-las-nalgadas-clase-virtual/
LOCATION:Family Resource Center at Sahuarita Food Bank\, 17750 S. La Canada\, Sahuarita\, AZ\, 85629\, United States
CATEGORIES:Families with Children Birth to Five
ATTACH;FMTTYPE=image/jpeg:https://pimaparenting.org/wp-content/uploads/2024/11/Casa4-at-SFB-2.0.jpg
ORGANIZER;CN="Casa de los Ninos":MAILTO:cbolger@casadelosninos.org
END:VEVENT
BEGIN:VEVENT
DTSTART;TZID=America/Phoenix:20251113T173000
DTEND;TZID=America/Phoenix:20251113T193000
DTSTAMP:20260423T211745
CREATED:20251013T214318Z
LAST-MODIFIED:20251013T214318Z
UID:10004015-1763055000-1763062200@pimaparenting.org
SUMMARY:Alternativas a las Nalgadas- Clase Virtual
DESCRIPTION:Esta clase analiza metodos no violentos de disciplina para ninos y se centra en la empatia\, el respeto mutuo y el desarrollo de la autoestima. \nRegístrese en Alternativas a las Nalgadas ⋆ Casa de los Niños \n  \n 
URL:https://pimaparenting.org/event/alternativas-a-las-nalgadas-clase-virtual-2/
LOCATION:Family Resource Center at Los Ranchitos\, 2054 E Ginter Rd\, Tucson\, AZ\, 85706\, United States
CATEGORIES:Families with Children Birth to Five
ATTACH;FMTTYPE=image/jpeg:https://pimaparenting.org/wp-content/uploads/2024/11/Casa4-at-SUSD-2.0.jpg
ORGANIZER;CN="Casa de los Ninos":MAILTO:cbolger@casadelosninos.org
END:VEVENT
BEGIN:VEVENT
DTSTART;TZID=America/Phoenix:20251113T173000
DTEND;TZID=America/Phoenix:20251113T193000
DTSTAMP:20260423T211745
CREATED:20251013T214422Z
LAST-MODIFIED:20251013T214422Z
UID:10004016-1763055000-1763062200@pimaparenting.org
SUMMARY:Alternativas a las Nalgadas- Clase Virtual
DESCRIPTION:Esta clase analiza metodos no violentos de disciplina para ninos y se centra en la empatia\, el respeto mutuo y el desarrollo de la autoestima. \nRegístrese en Alternativas a las Nalgadas ⋆ Casa de los Niños \n  \n 
URL:https://pimaparenting.org/event/alternativas-a-las-nalgadas-clase-virtual-3/
LOCATION:Family Resource Center at Robles Elementary\, 9875 S Sasabe Rd\, Tucson\, AZ\, 85736\, United States
CATEGORIES:Families with Children Birth to Five
ATTACH;FMTTYPE=image/jpeg:https://pimaparenting.org/wp-content/uploads/2024/11/Casa4-at-AVSD-2.0.jpg
ORGANIZER;CN="Casa de los Ninos":MAILTO:cbolger@casadelosninos.org
END:VEVENT
END:VCALENDAR