BEGIN:VCALENDAR
VERSION:2.0
PRODID:-//Pima County Parenting Coalition - ECPv6.15.16.1//NONSGML v1.0//EN
CALSCALE:GREGORIAN
METHOD:PUBLISH
X-ORIGINAL-URL:https://pimaparenting.org
X-WR-CALDESC:Events for Pima County Parenting Coalition
REFRESH-INTERVAL;VALUE=DURATION:PT1H
X-Robots-Tag:noindex
X-PUBLISHED-TTL:PT1H
BEGIN:VTIMEZONE
TZID:America/Phoenix
BEGIN:STANDARD
TZOFFSETFROM:-0700
TZOFFSETTO:-0700
TZNAME:MST
DTSTART:20240101T000000
END:STANDARD
END:VTIMEZONE
BEGIN:VEVENT
DTSTART;TZID=America/Phoenix:20251122T090000
DTEND;TZID=America/Phoenix:20251122T120000
DTSTAMP:20260423T200653
CREATED:20251013T211449Z
LAST-MODIFIED:20251013T211449Z
UID:10004006-1763802000-1763812800@pimaparenting.org
SUMMARY:Moms Giving Clothing Swap
DESCRIPTION:Families are invited to trade gently used clothes\, shoes\, and accessories their children have outgrown (ages birth – 10 years old). Whether you’re downsizing or looking for something new\, this event makes it easy and fun to meet your little ones’ changing needs.  No items to bring? Feel free to come and browse! \nPlease drop off items on November 10\, 12\, 17\, & 19.  Donations will not be accepted on the day of this event. \n 
URL:https://pimaparenting.org/event/moms-giving-clothing-swap/
LOCATION:Family Resource Center at Sahuarita Food Bank\, 17750 S. La Canada\, Sahuarita\, AZ\, 85629\, United States
CATEGORIES:Families with Children Birth to Five
ATTACH;FMTTYPE=image/jpeg:https://pimaparenting.org/wp-content/uploads/2023/09/Family-Resource-Center-Logo-1-e1704477308334.jpg
ORGANIZER;CN="Family Resource Center at Sahuarita Food Bank":MAILTO:irodela@sfb-crc.org
END:VEVENT
BEGIN:VEVENT
DTSTART;TZID=America/Phoenix:20251122T093000
DTEND;TZID=America/Phoenix:20251122T103000
DTSTAMP:20260423T200653
CREATED:20251013T195459Z
LAST-MODIFIED:20251013T195459Z
UID:10003994-1763803800-1763807400@pimaparenting.org
SUMMARY:Joyful Journeys in Art
DESCRIPTION:In this class\, the emphasis is on the joy of creation rather than the final product. Each session is designed to spark curiosity and encourage self-expression as children engage in hands-on\nactivities like finger painting\, nature collages\, texture explorations\, and more.
URL:https://pimaparenting.org/event/joyful-journeys-in-art-4/
LOCATION:Family Resource Center at Sahuarita Food Bank\, 17750 S. La Canada\, Sahuarita\, AZ\, 85629\, United States
CATEGORIES:Families with Children Birth to Five
ATTACH;FMTTYPE=image/jpeg:https://pimaparenting.org/wp-content/uploads/2024/11/Joyful-Journeys-at-SFB-2.0.jpg
ORGANIZER;CN="Andrea Loomis":MAILTO:andiszooB@msn.com
END:VEVENT
END:VCALENDAR