BEGIN:VCALENDAR
VERSION:2.0
PRODID:-//Pima County Parenting Coalition - ECPv6.15.16.1//NONSGML v1.0//EN
CALSCALE:GREGORIAN
METHOD:PUBLISH
X-WR-CALNAME:Pima County Parenting Coalition
X-ORIGINAL-URL:https://pimaparenting.org
X-WR-CALDESC:Events for Pima County Parenting Coalition
REFRESH-INTERVAL;VALUE=DURATION:PT1H
X-Robots-Tag:noindex
X-PUBLISHED-TTL:PT1H
BEGIN:VTIMEZONE
TZID:America/Phoenix
BEGIN:STANDARD
TZOFFSETFROM:-0700
TZOFFSETTO:-0700
TZNAME:MST
DTSTART:20240101T000000
END:STANDARD
END:VTIMEZONE
BEGIN:VEVENT
DTSTART;TZID=America/Phoenix:20251204T090000
DTEND;TZID=America/Phoenix:20251204T100000
DTSTAMP:20260423T190347
CREATED:20251120T182555Z
LAST-MODIFIED:20251120T182555Z
UID:10004101-1764838800-1764842400@pimaparenting.org
SUMMARY:Stay & Play- Toddler Time / Family Resource Center at Sahuarita Food Bank
DESCRIPTION:Join us for our Toddler Time class\, designed for families with children from infants to 2 years old! In this interactive environment\, grownups and little ones will engage in play and socialization using a variety of carefully selected materials that promote holistic development. Our focus is on enhancing social skills\, literacy\, and communication\, providing a nurturing space for toddlers to explore and grow together with their caregivers. Come enjoy the fun while fostering essential skills for your child’s early years!
URL:https://pimaparenting.org/event/stay-play-toddler-time-family-resource-center-at-sahuarita-food-bank-4/
LOCATION:Family Resource Center at Sahuarita Food Bank\, 17750 S. La Canada\, Sahuarita\, AZ\, 85629\, United States
CATEGORIES:Families with Children Birth to Five
ATTACH;FMTTYPE=image/jpeg:https://pimaparenting.org/wp-content/uploads/2024/12/Toddler-Time-at-SFB-2.0.jpg
ORGANIZER;CN="Lela Messick-UWTSA":MAILTO:lmessick@unitedwaytucson.org
END:VEVENT
BEGIN:VEVENT
DTSTART;TZID=America/Phoenix:20251204T103000
DTEND;TZID=America/Phoenix:20251204T113000
DTSTAMP:20260423T190347
CREATED:20251121T164737Z
LAST-MODIFIED:20251121T164737Z
UID:10004155-1764844200-1764847800@pimaparenting.org
SUMMARY:Garden Discovery Days
DESCRIPTION:This class connects you and your child to the garden through hands-on activities\, where you’ll learn where food comes from\, explore nature\, and create fun nature-inspired crafts. \n  \n 
URL:https://pimaparenting.org/event/garden-discovery-days-11/
LOCATION:Family Resource Center at Los Ranchitos\, 2054 E Ginter Rd\, Tucson\, AZ\, 85706\, United States
CATEGORIES:Families with Children Birth to Five
ATTACH;FMTTYPE=image/png:https://pimaparenting.org/wp-content/uploads/2025/07/GDD-at-SUSD-2.0.png
ORGANIZER;CN="Cassie Burrel - UACE":MAILTO:cassieb@ag.arizona.edu
END:VEVENT
BEGIN:VEVENT
DTSTART;TZID=America/Phoenix:20251204T120000
DTEND;TZID=America/Phoenix:20251204T140000
DTSTAMP:20260423T190347
CREATED:20251103T231044Z
LAST-MODIFIED:20251117T193506Z
UID:10004076-1764849600-1764856800@pimaparenting.org
SUMMARY:Programa de Crianza Positiva-Serie Triple P-Clase 2: Ayudando al Desarrollo de los Niños
DESCRIPTION:Los participantes aprenderán por qué los niños se comportan de cierta manera\, cómo enseñar nuevas habilidades y comportamientos positivos\, herramientas para manejar el mal comportamiento y cómo planificar con anticipación situaciones de alto riesgo. \nClase 1: Crianza Positiva \nClase 2: Ayudando al Desarrollo de los Niños \nClase 3: Manejo del Mal Comportamiento \nClase 4: Planificación Anticipada \nSe proporcionará cuidado infantil para niños de 2 a 5 años y habrá almuerzo disponible. \n 
URL:https://pimaparenting.org/event/programa-de-crianza-positiva-serie-triple-p-clase-2-ayudando-al-desarrollo-de-los-ninos/
LOCATION:Family Resource Center at Los Ranchitos\, 2054 E Ginter Rd\, Tucson\, AZ\, 85706\, United States
CATEGORIES:Families with Children Birth to Five
ATTACH;FMTTYPE=image/jpeg:https://pimaparenting.org/wp-content/uploads/2024/11/PPP-at-SUSD-2.0.jpg
ORGANIZER;CN="Nataly Quiroz- UACE":MAILTO:natalyquiroz@arizona.edu
END:VEVENT
BEGIN:VEVENT
DTSTART;TZID=America/Phoenix:20251204T130000
DTEND;TZID=America/Phoenix:20251204T140000
DTSTAMP:20260423T190347
CREATED:20251120T182725Z
LAST-MODIFIED:20251120T182725Z
UID:10004102-1764853200-1764856800@pimaparenting.org
SUMMARY:Garden Discovery Days-Class held at Pima County Cooperative Extension Office 530 E. Whitehouse Canyon Rd. Green Valley\, AZ 85614
DESCRIPTION:This class connects you and your child with the garden\, through hands on activities as you learn where food comes from\, learn about nature and make fun nature crafts.  \nPLEASE NOTE: Class is held at the Pima County Cooperative Extension Office 530 E. Whitehouse Canyon Rd. Green Valley\, AZ 85614
URL:https://pimaparenting.org/event/garden-discovery-days-class-held-at-pima-county-cooperative-extension-office-530-e-whitehouse-canyon-rd-green-valley-az-85614-18/
LOCATION:Family Resource Center at Sahuarita Food Bank\, 17750 S. La Canada\, Sahuarita\, AZ\, 85629\, United States
CATEGORIES:Families with Children Birth to Five
ATTACH;FMTTYPE=image/png:https://pimaparenting.org/wp-content/uploads/2025/04/GDD-at-SFB-2.0.png
ORGANIZER;CN="Cassie Burrel - UACE":MAILTO:cassieb@ag.arizona.edu
END:VEVENT
BEGIN:VEVENT
DTSTART;TZID=America/Phoenix:20251204T130000
DTEND;TZID=America/Phoenix:20251204T140000
DTSTAMP:20260423T190347
CREATED:20251122T234644Z
LAST-MODIFIED:20251122T234644Z
UID:10004181-1764853200-1764856800@pimaparenting.org
SUMMARY:Fine Arts for Kids- Family Resource Center at Robles Elementary
DESCRIPTION:This fun and interactive class for children and their parents or caregivers is packed with creative activities designed to help little ones develop important life skills like focus\, self-control\, and communication—all while having a great time together!
URL:https://pimaparenting.org/event/fine-arts-for-kids-family-resource-center-at-robles-elementary-14/
LOCATION:Family Resource Center at Robles Elementary\, 9875 S Sasabe Rd\, Tucson\, AZ\, 85736\, United States
CATEGORIES:Families with Children Birth to Five
ATTACH;FMTTYPE=image/jpeg:https://pimaparenting.org/wp-content/uploads/2024/11/Fine-Arts-at-AVSD-2.0.jpg
ORGANIZER;CN="Stephaine Carl - UACE":MAILTO:sacarl@arizona.edu
END:VEVENT
BEGIN:VEVENT
DTSTART;TZID=America/Phoenix:20251204T173000
DTEND;TZID=America/Phoenix:20251204T193000
DTSTAMP:20260423T190347
CREATED:20251120T212420Z
LAST-MODIFIED:20251120T212420Z
UID:10004116-1764869400-1764876600@pimaparenting.org
SUMMARY:Holiday Sing-Along
DESCRIPTION:Join Parent Aid for a night of family fun and connection. We will be singing along to some of the Christmas classics\, as well as enjoying some sweet treats! You WON’T want to miss it.
URL:https://pimaparenting.org/event/holiday-sing-along-2/
LOCATION:Family Resource Center at Los Ranchitos\, 2054 E Ginter Rd\, Tucson\, AZ\, 85706\, United States
CATEGORIES:Families with Children Birth to Five
ATTACH;FMTTYPE=image/png:https://pimaparenting.org/wp-content/uploads/2025/07/Parent-Aid-Logo_Vertical_FULL-COLOR.png
ORGANIZER;CN="Noah Paul - PA":MAILTO:noah@parentaid.org
END:VEVENT
BEGIN:VEVENT
DTSTART;TZID=America/Phoenix:20251204T173000
DTEND;TZID=America/Phoenix:20251204T193000
DTSTAMP:20260423T190347
CREATED:20251120T222909Z
LAST-MODIFIED:20251120T222909Z
UID:10004130-1764869400-1764876600@pimaparenting.org
SUMMARY:Nutriendonos a Nosotros Mismos/CLASE VIRTUAL
DESCRIPTION:Esta clase analiza la importancia de criar y aumentar la capacidad de los padres para nutrirse a simismos. \nRegistrarse en Nutriendonos a Nosotros Mismos ⋆ Casa de los Niños \n 
URL:https://pimaparenting.org/event/nutriendonos-a-nosotros-mismos-clase-virtual/
LOCATION:Family Resource Center at Sahuarita Food Bank\, 17750 S. La Canada\, Sahuarita\, AZ\, 85629\, United States
CATEGORIES:Families with Children Birth to Five
ATTACH;FMTTYPE=image/jpeg:https://pimaparenting.org/wp-content/uploads/2024/03/Casa-logo.jpg
ORGANIZER;CN="Casa de los Ninos":MAILTO:cbolger@casadelosninos.org
END:VEVENT
BEGIN:VEVENT
DTSTART;TZID=America/Phoenix:20251204T173000
DTEND;TZID=America/Phoenix:20251204T193000
DTSTAMP:20260423T190347
CREATED:20251120T222959Z
LAST-MODIFIED:20251120T222959Z
UID:10004131-1764869400-1764876600@pimaparenting.org
SUMMARY:Nutriendonos a Nosotros Mismos/CLASE VIRTUAL
DESCRIPTION:Esta clase analiza la importancia de criar y aumentar la capacidad de los padres para nutrirse a simismos. \nRegistrarse en Nutriendonos a Nosotros Mismos ⋆ Casa de los Niños \n 
URL:https://pimaparenting.org/event/nutriendonos-a-nosotros-mismos-clase-virtual-2/
LOCATION:Family Resource Center at Robles Elementary\, 9875 S Sasabe Rd\, Tucson\, AZ\, 85736\, United States
CATEGORIES:Families with Children Birth to Five
ATTACH;FMTTYPE=image/jpeg:https://pimaparenting.org/wp-content/uploads/2024/03/Casa-logo.jpg
ORGANIZER;CN="Casa de los Ninos":MAILTO:cbolger@casadelosninos.org
END:VEVENT
BEGIN:VEVENT
DTSTART;TZID=America/Phoenix:20251204T173000
DTEND;TZID=America/Phoenix:20251204T193000
DTSTAMP:20260423T190347
CREATED:20251120T223038Z
LAST-MODIFIED:20251120T223038Z
UID:10004132-1764869400-1764876600@pimaparenting.org
SUMMARY:Nutriendonos a Nosotros Mismos/CLASE VIRTUAL
DESCRIPTION:Esta clase analiza la importancia de criar y aumentar la capacidad de los padres para nutrirse a simismos. \nRegistrarse en Nutriendonos a Nosotros Mismos ⋆ Casa de los Niños \n 
URL:https://pimaparenting.org/event/nutriendonos-a-nosotros-mismos-clase-virtual-3/
LOCATION:Family Resource Center at Los Ranchitos\, 2054 E Ginter Rd\, Tucson\, AZ\, 85706\, United States
CATEGORIES:Families with Children Birth to Five
ATTACH;FMTTYPE=image/jpeg:https://pimaparenting.org/wp-content/uploads/2024/03/Casa-logo.jpg
ORGANIZER;CN="Casa de los Ninos":MAILTO:cbolger@casadelosninos.org
END:VEVENT
END:VCALENDAR