BEGIN:VCALENDAR
VERSION:2.0
PRODID:-//Pima County Parenting Coalition - ECPv6.15.16.1//NONSGML v1.0//EN
CALSCALE:GREGORIAN
METHOD:PUBLISH
X-WR-CALNAME:Pima County Parenting Coalition
X-ORIGINAL-URL:https://pimaparenting.org
X-WR-CALDESC:Events for Pima County Parenting Coalition
REFRESH-INTERVAL;VALUE=DURATION:PT1H
X-Robots-Tag:noindex
X-PUBLISHED-TTL:PT1H
BEGIN:VTIMEZONE
TZID:America/Phoenix
BEGIN:STANDARD
TZOFFSETFROM:-0700
TZOFFSETTO:-0700
TZNAME:MST
DTSTART:20240101T000000
END:STANDARD
END:VTIMEZONE
BEGIN:VEVENT
DTSTART;TZID=America/Phoenix:20251205T090000
DTEND;TZID=America/Phoenix:20251205T103000
DTSTAMP:20260423T190346
CREATED:20251121T164939Z
LAST-MODIFIED:20251121T164939Z
UID:10004157-1764925200-1764930600@pimaparenting.org
SUMMARY:Sunny Ranch Family Cafe
DESCRIPTION:Parents and caregivers can join us to share about the challenges and successes of raising their children\, provide support for each other\, discuss what they would like to see at the FRC\, and enjoy a nice time with each other. \nLos padres y cuidadores pueden unirse a nosotros para compartir sobre los desafíos y éxitos de criar a sus hijos\, brindarse apoyo mutuo\, discutir lo que les gustaría ver en el FRC y disfrutar de un momento agradable juntos.
URL:https://pimaparenting.org/event/sunny-ranch-family-cafe-3/
LOCATION:Family Resource Center at Los Ranchitos\, 2054 E Ginter Rd\, Tucson\, AZ\, 85706\, United States
CATEGORIES:Families with Children Birth to Five
ATTACH;FMTTYPE=image/jpeg:https://pimaparenting.org/wp-content/uploads/2024/11/Family-Cafe-at-SUSD-2.0.jpg
ORGANIZER;CN="Family Resource Center at Los Ranchitos":MAILTO:MyrnaL@susd12.org
END:VEVENT
BEGIN:VEVENT
DTSTART;TZID=America/Phoenix:20251205T103000
DTEND;TZID=America/Phoenix:20251205T113000
DTSTAMP:20260423T190346
CREATED:20251120T214535Z
LAST-MODIFIED:20251120T214535Z
UID:10004124-1764930600-1764934200@pimaparenting.org
SUMMARY:Positive Discipline
DESCRIPTION:Join us in learning some effective practical tools to provide guidance to your children and foster cooperation\, reduce power struggles and build a stronger\, happier bond with your children.
URL:https://pimaparenting.org/event/positive-discipline/
LOCATION:Family Resource Center at Sahuarita Food Bank\, 17750 S. La Canada\, Sahuarita\, AZ\, 85629\, United States
CATEGORIES:Families with Children Birth to Five
ATTACH;FMTTYPE=image/png:https://pimaparenting.org/wp-content/uploads/2025/07/Parent-Aid-Logo_Vertical_FULL-COLOR.png
ORGANIZER;CN="Rebecca with Parent Aid":MAILTO:rebecca@parentaid.org
END:VEVENT
BEGIN:VEVENT
DTSTART;TZID=America/Phoenix:20251205T130000
DTEND;TZID=America/Phoenix:20251205T140000
DTSTAMP:20260423T190346
CREATED:20251121T164402Z
LAST-MODIFIED:20251121T164402Z
UID:10004154-1764939600-1764943200@pimaparenting.org
SUMMARY:Story School - Family Resource Center at Los Ranchitos
DESCRIPTION:This early reading program for kids and parents/caregivers includes sharing stories\, music and movement\, and activities to do in class and at home. Families receive 20 free books & school supplies. \nVisit www.mystoryschool.org/apply to register today! \n  \n  \n  \n 
URL:https://pimaparenting.org/event/story-school-family-resource-center-at-los-ranchitos-12/
LOCATION:Family Resource Center at Los Ranchitos\, 2054 E Ginter Rd\, Tucson\, AZ\, 85706\, United States
CATEGORIES:Families with Children Birth to Five
ATTACH;FMTTYPE=image/png:https://pimaparenting.org/wp-content/uploads/2025/07/Story-School-at-SUSD-2.0.png
ORGANIZER;CN="Nando Trujillo-MWFB":MAILTO:nando@makewayforbooks.org
END:VEVENT
BEGIN:VEVENT
DTSTART;TZID=America/Phoenix:20251205T140000
DTEND;TZID=America/Phoenix:20251205T150000
DTSTAMP:20260423T190347
CREATED:20251121T165727Z
LAST-MODIFIED:20251121T165727Z
UID:10004164-1764943200-1764946800@pimaparenting.org
SUMMARY:Move and Groove Playtime
DESCRIPTION:This interactive class for children ages 2-5 and their parents. Through music\, dancing\, and playful movement\, kids develop coordination\, balance\, and creativity while strengthening their bond with parents. Colorful props and lively tunes make each session exciting and engaging\, promoting physical development and social skills in a safe\, supportive environment. Perfect for little ones who love to move and groove!
URL:https://pimaparenting.org/event/move-and-groove-playtime-14/
LOCATION:Family Resource Center at Robles Elementary\, 9875 S Sasabe Rd\, Tucson\, AZ\, 85736\, United States
CATEGORIES:Families with Children Birth to Five
ATTACH;FMTTYPE=image/jpeg:https://pimaparenting.org/wp-content/uploads/2024/11/Family-Resource-Center-Logo-1.jpg
ORGANIZER;CN="Maggie McKiernan - UWTSA":MAILTO:mggqt.2010@gmail.com
END:VEVENT
BEGIN:VEVENT
DTSTART;TZID=America/Phoenix:20251205T150000
DTEND;TZID=America/Phoenix:20251205T170000
DTSTAMP:20260423T190347
CREATED:20251120T185520Z
LAST-MODIFIED:20251120T200937Z
UID:10004106-1764946800-1764954000@pimaparenting.org
SUMMARY:Santa's Workshop: Fun for Little Hands/Family Event
DESCRIPTION:Join us for an afternoon of holiday magic! Little ones can enjoy festive activities\, crafts\, and special moments with Santa himself. Capture adorable photos\, create merry memories\, and celebrate the joy of the season in Santa’s cheerful workshop. \n 
URL:https://pimaparenting.org/event/santas-workshop-fun-for-little-hands-family-event/
LOCATION:Family Resource Center at Sahuarita Food Bank\, 17750 S. La Canada\, Sahuarita\, AZ\, 85629\, United States
CATEGORIES:Families with Children Birth to Five
ATTACH;FMTTYPE=image/png:https://pimaparenting.org/wp-content/uploads/2024/03/UW-FRC.png
ORGANIZER;CN="Family Resource Center at Sahuarita Food Bank":MAILTO:irodela@sfb-crc.org
END:VEVENT
END:VCALENDAR