BEGIN:VCALENDAR
VERSION:2.0
PRODID:-//Pima County Parenting Coalition - ECPv6.15.16.1//NONSGML v1.0//EN
CALSCALE:GREGORIAN
METHOD:PUBLISH
X-WR-CALNAME:Pima County Parenting Coalition
X-ORIGINAL-URL:https://pimaparenting.org
X-WR-CALDESC:Events for Pima County Parenting Coalition
REFRESH-INTERVAL;VALUE=DURATION:PT1H
X-Robots-Tag:noindex
X-PUBLISHED-TTL:PT1H
BEGIN:VTIMEZONE
TZID:America/Phoenix
BEGIN:STANDARD
TZOFFSETFROM:-0700
TZOFFSETTO:-0700
TZNAME:MST
DTSTART:20240101T000000
END:STANDARD
END:VTIMEZONE
BEGIN:VEVENT
DTSTART;TZID=America/Phoenix:20251208T103000
DTEND;TZID=America/Phoenix:20251208T113000
DTSTAMP:20260423T191139
CREATED:20251121T165607Z
LAST-MODIFIED:20251121T165607Z
UID:10004163-1765189800-1765193400@pimaparenting.org
SUMMARY:Move and Groove Playtime
DESCRIPTION:This interactive class for children ages 2-5 and their parents. Through music\, dancing\, and playful movement\, kids develop coordination\, balance\, and creativity while strengthening their bond with parents. Colorful props and lively tunes make each session exciting and engaging\, promoting physical development and social skills in a safe\, supportive environment. Perfect for little ones who love to move and groove!
URL:https://pimaparenting.org/event/move-and-groove-playtime-13/
LOCATION:Family Resource Center at Los Ranchitos\, 2054 E Ginter Rd\, Tucson\, AZ\, 85706\, United States
CATEGORIES:Families with Children Birth to Five
ATTACH;FMTTYPE=image/jpeg:https://pimaparenting.org/wp-content/uploads/2024/11/Family-Resource-Center-Logo-1.jpg
ORGANIZER;CN="Maggie McKiernan - UWTSA":MAILTO:mggqt.2010@gmail.com
END:VEVENT
BEGIN:VEVENT
DTSTART;TZID=America/Phoenix:20251208T103000
DTEND;TZID=America/Phoenix:20251208T113000
DTSTAMP:20260423T191139
CREATED:20251121T165956Z
LAST-MODIFIED:20251121T165956Z
UID:10004166-1765189800-1765193400@pimaparenting.org
SUMMARY:Sensory Exploration/ Exploración sensorial
DESCRIPTION:This class will expose your child to different colors\, shapes\, patterns\, materials and fabrics to feel help them accept so many transitions into this big world fill with experiences. \nEsta clase expondrá a su hijo a diferentes colores\, formas\, patrones\, materiales y telas para sentir que lo ayudan a aceptar tantas transiciones a este gran mundo lleno de experiencias.
URL:https://pimaparenting.org/event/sensory-exploration-exploracion-sensorial-15/
LOCATION:Family Resource Center at Robles Elementary\, 9875 S Sasabe Rd\, Tucson\, AZ\, 85736\, United States
CATEGORIES:Families with Children Birth to Five
ATTACH;FMTTYPE=image/jpeg:https://pimaparenting.org/wp-content/uploads/2024/11/Sensory-at-AVSD-2.0.jpg
ORGANIZER;CN="Laura Ontiveros-EBF":MAILTO:lontiveros@blake.easterseals.com
END:VEVENT
BEGIN:VEVENT
DTSTART;TZID=America/Phoenix:20251208T103000
DTEND;TZID=America/Phoenix:20251208T120000
DTSTAMP:20260423T191139
CREATED:20251014T161710Z
LAST-MODIFIED:20251205T220849Z
UID:10004070-1765189800-1765195200@pimaparenting.org
SUMMARY:BEYOND BIRTH: Nurtured Motherhood Support Group
DESCRIPTION:This nurturing support group is designed especially for mothers in the early stages of parenthood. Through thoughtful conversation\, guided activities\, and shared experiences\, participants are invited to connect\, reflect\, and grow together. The group offers a safe and supportive space to explore the emotional\, physical\, and mental transitions that come with welcoming a new baby.
URL:https://pimaparenting.org/event/beyond-birth-nurtured-motherhood-support-group-3/
LOCATION:Family Resource Center at Sahuarita Food Bank\, 17750 S. La Canada\, Sahuarita\, AZ\, 85629\, United States
CATEGORIES:Families with Children Birth to Five
ATTACH;FMTTYPE=image/jpeg:https://pimaparenting.org/wp-content/uploads/2024/11/Family-Resource-Center-Logo-1.jpg
ORGANIZER;CN="Chrissi Engstrom":MAILTO:chrissi@azdoulas.org
END:VEVENT
END:VCALENDAR