BEGIN:VCALENDAR
VERSION:2.0
PRODID:-//Pima County Parenting Coalition - ECPv6.15.16.1//NONSGML v1.0//EN
CALSCALE:GREGORIAN
METHOD:PUBLISH
X-WR-CALNAME:Pima County Parenting Coalition
X-ORIGINAL-URL:https://pimaparenting.org
X-WR-CALDESC:Events for Pima County Parenting Coalition
REFRESH-INTERVAL;VALUE=DURATION:PT1H
X-Robots-Tag:noindex
X-PUBLISHED-TTL:PT1H
BEGIN:VTIMEZONE
TZID:America/Phoenix
BEGIN:STANDARD
TZOFFSETFROM:-0700
TZOFFSETTO:-0700
TZNAME:MST
DTSTART:20240101T000000
END:STANDARD
END:VTIMEZONE
BEGIN:VEVENT
DTSTART;TZID=America/Phoenix:20251213T090000
DTEND;TZID=America/Phoenix:20251213T120000
DTSTAMP:20260423T191139
CREATED:20250228T212255Z
LAST-MODIFIED:20250320T235959Z
UID:10003082-1765616400-1765627200@pimaparenting.org
SUMMARY:Boot Camp for New Dads
DESCRIPTION:Join Noah for Parent Aid’s next Boot Camp for New Dads! \nBoot Camp is designed for expecting first-time fathers to gain the skills and confidence he needs to be an involved and active caregiver to his newborn. \nRegistration is FREE and all participants receive a tactical daddy diaper bag! \nClass is offered in-person at Parent Aid. \nEmail Noah with any questions you may have about the event. \nWe look forward to seeing you! \nRegister today at Website link below
URL:https://pimaparenting.org/event/boot-camp-for-new-dads-3/
LOCATION:Parent Aid\, 2580 E. 22nd St.\, Tucson\, 85713
ATTACH;FMTTYPE=image/png:https://pimaparenting.org/wp-content/uploads/2025/02/Class-Banner-X8kiGE.tmp_.png
ORGANIZER;CN="Parent Aid":MAILTO:info@parentaid.org
END:VEVENT
BEGIN:VEVENT
DTSTART;TZID=America/Phoenix:20251213T103000
DTEND;TZID=America/Phoenix:20251213T113000
DTSTAMP:20260423T191139
CREATED:20251121T170137Z
LAST-MODIFIED:20251219T215738Z
UID:10004167-1765621800-1765625400@pimaparenting.org
SUMMARY:Hands-on Fun: Make & Take Sensory Time (class held at Valencia Branch Public Library)
DESCRIPTION:Join us for a fun and interactive parent–child class designed for families with children ages 2–5 years old. During this hands-on session\, families will explore a variety of sensory activities that encourage creativity\, learning\, and quality time together. Each family will have the opportunity to create sensory crafts to take home—perfect for continued play and exploration. \nThis class supports early learning and development through play-based experiences that engage the senses\, build fine motor skills\, and strengthen parent–child connections. \nAll materials are provided. Come ready to play\, create\, and have fun! \nThis class is held at the Valencia Branch Public Library \n202 W. Valencia Rd. \nTucson\, AZ 85706 \n 
URL:https://pimaparenting.org/event/hands-on-fun-make-take-sensory-time-class-held-at-valencia-branch-public-library/
LOCATION:Family Resource Center at Los Ranchitos\, 2054 E Ginter Rd\, Tucson\, AZ\, 85706\, United States
CATEGORIES:Families with Children Birth to Five
ATTACH;FMTTYPE=image/jpeg:https://pimaparenting.org/wp-content/uploads/2024/03/EBF-logo.jpg
ORGANIZER;CN="Jeanne  Velasquez- EBF":MAILTO:jvelasquez@amphi.com
END:VEVENT
END:VCALENDAR