BEGIN:VCALENDAR
VERSION:2.0
PRODID:-//Pima County Parenting Coalition - ECPv6.15.16.1//NONSGML v1.0//EN
CALSCALE:GREGORIAN
METHOD:PUBLISH
X-WR-CALNAME:Pima County Parenting Coalition
X-ORIGINAL-URL:https://pimaparenting.org
X-WR-CALDESC:Events for Pima County Parenting Coalition
REFRESH-INTERVAL;VALUE=DURATION:PT1H
X-Robots-Tag:noindex
X-PUBLISHED-TTL:PT1H
BEGIN:VTIMEZONE
TZID:America/Phoenix
BEGIN:STANDARD
TZOFFSETFROM:-0700
TZOFFSETTO:-0700
TZNAME:MST
DTSTART:20240101T000000
END:STANDARD
END:VTIMEZONE
BEGIN:VEVENT
DTSTART;TZID=America/Phoenix:20251215T090000
DTEND;TZID=America/Phoenix:20251215T100000
DTSTAMP:20260423T190346
CREATED:20251122T234305Z
LAST-MODIFIED:20251122T234305Z
UID:10004179-1765789200-1765792800@pimaparenting.org
SUMMARY:Family Cafe
DESCRIPTION:Parents and caregivers can join us to share about the challenges and successes of raising their children\, provide support for each other\, discuss what they would like to see at the FRC\, and enjoy a nice time with each other. \nLos padres y cuidadores pueden unirse a nosotros para compartir sobre los desafíos y éxitos de criar a sus hijos\, brindarse apoyo mutuo\, discutir lo que les gustaría ver en el FRC y disfrutar de un momento agradable juntos.
URL:https://pimaparenting.org/event/family-cafe-4/
LOCATION:Family Resource Center at Robles Elementary\, 9875 S Sasabe Rd\, Tucson\, AZ\, 85736\, United States
CATEGORIES:Families with Children Birth to Five
ATTACH;FMTTYPE=image/jpeg:https://pimaparenting.org/wp-content/uploads/2024/11/Family-Cafe-at-AVSD-2.0.jpg
ORGANIZER;CN="Family Resource Center at Robles Elementary":MAILTO:dcordova@avsd.org
END:VEVENT
BEGIN:VEVENT
DTSTART;TZID=America/Phoenix:20251215T100000
DTEND;TZID=America/Phoenix:20251215T110000
DTSTAMP:20260423T190346
CREATED:20251120T212740Z
LAST-MODIFIED:20251120T212740Z
UID:10004118-1765792800-1765796400@pimaparenting.org
SUMMARY:Family Connect & Play
DESCRIPTION:Come relax\, connect\, and let the kids play! Join other parents and caregivers for an informal time to share the ups and downs of raising children\, connect over coffee\, and enjoy support from fellow families. While kids enjoy supervised free play in our playroom\, grown-ups can chat\, share resources\, and discuss what programs or support they’d like to see at the Family Resource Center. Occasionally\, we’ll welcome special guest speakers on parenting\, child development\, and more. \n 
URL:https://pimaparenting.org/event/family-connect-play-5/
LOCATION:Family Resource Center at Sahuarita Food Bank\, 17750 S. La Canada\, Sahuarita\, AZ\, 85629\, United States
CATEGORIES:Families with Children Birth to Five
ATTACH;FMTTYPE=image/jpeg:https://pimaparenting.org/wp-content/uploads/2024/11/Family-Cafe-at-SFB-2.0.jpg
ORGANIZER;CN="Family Resource Center at Sahuarita Food Bank":MAILTO:irodela@sfb-crc.org
END:VEVENT
BEGIN:VEVENT
DTSTART;TZID=America/Phoenix:20251215T103000
DTEND;TZID=America/Phoenix:20251215T113000
DTSTAMP:20260423T190346
CREATED:20251121T170520Z
LAST-MODIFIED:20251121T170520Z
UID:10004169-1765794600-1765798200@pimaparenting.org
SUMMARY:Snack Time Adventures/Aventuras a la hora de la merienda
DESCRIPTION:Enjoy stories\, songs\, and activities related to food and snacks through sensory exploration and simple cooking activities. These experiences strengthen fine motor skills\, enhance language development\, encourage curiosity\, and help build healthy eating habits. \nDisfrute de historias\, canciones y actividades relacionadas con la comida y los refrigerios a través de la exploración sensorial y actividades sencillas de cocina. fortalecer la motricidad fina\, potenciar el desarrollo del lenguaje\, fomentar la curiosidad y desarrollar hábitos alimenticios saludables.
URL:https://pimaparenting.org/event/snack-time-adventures-aventuras-a-la-hora-de-la-merienda-5/
LOCATION:Family Resource Center at Robles Elementary\, 9875 S Sasabe Rd\, Tucson\, AZ\, 85736\, United States
CATEGORIES:Families with Children Birth to Five
ATTACH;FMTTYPE=image/jpeg:https://pimaparenting.org/wp-content/uploads/2024/03/EBF-logo.jpg
ORGANIZER;CN="Laura Ontiveros-EBF":MAILTO:lontiveros@blake.easterseals.com
END:VEVENT
END:VCALENDAR