BEGIN:VCALENDAR
VERSION:2.0
PRODID:-//Pima County Parenting Coalition - ECPv6.15.16.1//NONSGML v1.0//EN
CALSCALE:GREGORIAN
METHOD:PUBLISH
X-ORIGINAL-URL:https://pimaparenting.org
X-WR-CALDESC:Events for Pima County Parenting Coalition
REFRESH-INTERVAL;VALUE=DURATION:PT1H
X-Robots-Tag:noindex
X-PUBLISHED-TTL:PT1H
BEGIN:VTIMEZONE
TZID:America/Phoenix
BEGIN:STANDARD
TZOFFSETFROM:-0700
TZOFFSETTO:-0700
TZNAME:MST
DTSTART:20240101T000000
END:STANDARD
END:VTIMEZONE
BEGIN:VEVENT
DTSTART;TZID=America/Phoenix:20251216T090000
DTEND;TZID=America/Phoenix:20251216T100000
DTSTAMP:20260423T190430
CREATED:20251121T170337Z
LAST-MODIFIED:20251121T170337Z
UID:10004168-1765875600-1765879200@pimaparenting.org
SUMMARY:Snack Time Adventures/Aventuras a la hora de la merienda
DESCRIPTION:Enjoy stories\, songs\, and activities related to food and snacks through sensory exploration and simple cooking activities. These experiences strengthen fine motor skills\, enhance language development\, encourage curiosity\, and help build healthy eating habits. \nDisfrute de historias\, canciones y actividades relacionadas con la comida y los refrigerios a través de la exploración sensorial y actividades sencillas de cocina. fortalecer la motricidad fina\, potenciar el desarrollo del lenguaje\, fomentar la curiosidad y desarrollar hábitos alimenticios saludables.
URL:https://pimaparenting.org/event/snack-time-adventures-aventuras-a-la-hora-de-la-merienda-4/
LOCATION:Family Resource Center at Los Ranchitos\, 2054 E Ginter Rd\, Tucson\, AZ\, 85706\, United States
CATEGORIES:Families with Children Birth to Five
ATTACH;FMTTYPE=image/jpeg:https://pimaparenting.org/wp-content/uploads/2024/03/EBF-logo.jpg
ORGANIZER;CN="Laura Ontiveros-EBF":MAILTO:lontiveros@blake.easterseals.com
END:VEVENT
BEGIN:VEVENT
DTSTART;TZID=America/Phoenix:20251216T103000
DTEND;TZID=America/Phoenix:20251216T113000
DTSTAMP:20260423T190430
CREATED:20251120T212923Z
LAST-MODIFIED:20251120T212923Z
UID:10004119-1765881000-1765884600@pimaparenting.org
SUMMARY:Kids Yoga
DESCRIPTION:Kids Yoga is an interactive activity for parents and children to connect with each other and their bodies.  A great and fun way to improve your child’s mobility\, and help them learn techniques to manage stress and emotions.
URL:https://pimaparenting.org/event/kids-yoga-6/
LOCATION:Family Resource Center at Sahuarita Food Bank\, 17750 S. La Canada\, Sahuarita\, AZ\, 85629\, United States
CATEGORIES:Families with Children Birth to Five
ATTACH;FMTTYPE=image/jpeg:https://pimaparenting.org/wp-content/uploads/2024/11/Yoga-at-SFB-2.0.jpg
ORGANIZER;CN="Stephaine Carl - UACE":MAILTO:sacarl@arizona.edu
END:VEVENT
BEGIN:VEVENT
DTSTART;TZID=America/Phoenix:20251216T103000
DTEND;TZID=America/Phoenix:20251216T113000
DTSTAMP:20260423T190430
CREATED:20251120T213622Z
LAST-MODIFIED:20251120T213622Z
UID:10004122-1765881000-1765884600@pimaparenting.org
SUMMARY:Musical Expressions
DESCRIPTION:Celebrate Mexican Holiday Traditions Together!\nWe’ll explore Mexican holiday traditions through simple crafts\, songs\, stories\, and playful activities that little ones can enjoy. Come learn\, create\, and celebrate together as we share the colors and joy of special Mexican holidays! \n¡Celebremos juntos las tradiciones de las fiestas mexicanas!\nExploraremos las tradiciones de las fiestas mexicanas a través de manualidades sencillas\, canciones\, cuentos y actividades lúdicas que los más pequeños pueden disfrutar. ¡Ven a aprender\, crear y celebrar juntos mientras compartimos los colores y la alegría de las fiestas mexicanas especiales! \n 
URL:https://pimaparenting.org/event/musical-expressions-5/
LOCATION:Family Resource Center at Los Ranchitos\, 2054 E Ginter Rd\, Tucson\, AZ\, 85706\, United States
CATEGORIES:Families with Children Birth to Five
ATTACH;FMTTYPE=image/jpeg:https://pimaparenting.org/wp-content/uploads/2024/11/Music-Exp-at-SUSD-2.0.jpg
ORGANIZER;CN="Nataly Quiroz- UACE":MAILTO:natalyquiroz@arizona.edu
END:VEVENT
BEGIN:VEVENT
DTSTART;TZID=America/Phoenix:20251216T130000
DTEND;TZID=America/Phoenix:20251216T140000
DTSTAMP:20260423T190430
CREATED:20251118T202544Z
LAST-MODIFIED:20251118T202544Z
UID:10004084-1765890000-1765893600@pimaparenting.org
SUMMARY:Trauma-Informed Rx 360 Substance Misuse and Naloxone training
DESCRIPTION:Learn how toxic stress and trauma impacts the brain.  Learn about the connection between trauma and substance misuse.  Learn how to use Narcan to reverse an opioid overdose.
URL:https://pimaparenting.org/event/trauma-informed-rx-360-substance-misuse-and-naloxone-training-7/2025-12-16/
LOCATION:Zoom\, Arizona
CATEGORIES:All Caregivers,Families with Children Birth to Five,Families with School-aged (6-12) Children,Families with Teens,Foster Parents,Grandparents Raising Kids,Providers
ATTACH;FMTTYPE=image/png:https://pimaparenting.org/wp-content/uploads/2025/11/Trauma-Informed-Rx360-December.png
END:VEVENT
BEGIN:VEVENT
DTSTART;TZID=America/Phoenix:20251216T173000
DTEND;TZID=America/Phoenix:20251216T190000
DTSTAMP:20260423T190430
CREATED:20251120T212533Z
LAST-MODIFIED:20251208T161644Z
UID:10004117-1765906200-1765911600@pimaparenting.org
SUMMARY:Holiday Sing-Along
DESCRIPTION:Join Parent Aid for a night of family fun and connection. We will be singing along to some of the Christmas classics\, as well as enjoying some sweet treats! You WON’T want to miss it.
URL:https://pimaparenting.org/event/holiday-sing-along-3/
LOCATION:Family Resource Center at Robles Elementary\, 9875 S Sasabe Rd\, Tucson\, AZ\, 85736\, United States
CATEGORIES:Families with Children Birth to Five
ATTACH;FMTTYPE=image/png:https://pimaparenting.org/wp-content/uploads/2025/07/Parent-Aid-Logo_Vertical_FULL-COLOR.png
ORGANIZER;CN="Noah Paul - PA":MAILTO:noah@parentaid.org
END:VEVENT
BEGIN:VEVENT
DTSTART;TZID=America/Phoenix:20251216T173000
DTEND;TZID=America/Phoenix:20251216T193000
DTSTAMP:20260423T190430
CREATED:20251120T224234Z
LAST-MODIFIED:20251120T224306Z
UID:10004139-1765906200-1765913400@pimaparenting.org
SUMMARY:Raising a Confident Child/ VIRTUAL CLASS
DESCRIPTION:This topic is from the Nurturing Parenting Program \nHow does your child feel about himself or herself? Parents are provided with tools to promote their child’s development and positive self-esteem. \nRegister at Raising a Confident Child ⋆ Casa de los Niños
URL:https://pimaparenting.org/event/raising-a-confident-child-virtual-class/
LOCATION:Family Resource Center at Sahuarita Food Bank\, 17750 S. La Canada\, Sahuarita\, AZ\, 85629\, United States
CATEGORIES:Families with Children Birth to Five
ATTACH;FMTTYPE=image/jpeg:https://pimaparenting.org/wp-content/uploads/2024/03/Casa-logo.jpg
ORGANIZER;CN="Casa de los Ninos":MAILTO:cbolger@casadelosninos.org
END:VEVENT
BEGIN:VEVENT
DTSTART;TZID=America/Phoenix:20251216T173000
DTEND;TZID=America/Phoenix:20251216T193000
DTSTAMP:20260423T190430
CREATED:20251120T224342Z
LAST-MODIFIED:20251120T224342Z
UID:10004140-1765906200-1765913400@pimaparenting.org
SUMMARY:Raising a Confident Child/ VIRTUAL CLASS
DESCRIPTION:This topic is from the Nurturing Parenting Program \nHow does your child feel about himself or herself? Parents are provided with tools to promote their child’s development and positive self-esteem. \nRegister at Raising a Confident Child ⋆ Casa de los Niños
URL:https://pimaparenting.org/event/raising-a-confident-child-virtual-class-2/
LOCATION:Family Resource Center at Robles Elementary\, 9875 S Sasabe Rd\, Tucson\, AZ\, 85736\, United States
CATEGORIES:Families with Children Birth to Five
ATTACH;FMTTYPE=image/jpeg:https://pimaparenting.org/wp-content/uploads/2024/03/Casa-logo.jpg
ORGANIZER;CN="Casa de los Ninos":MAILTO:cbolger@casadelosninos.org
END:VEVENT
BEGIN:VEVENT
DTSTART;TZID=America/Phoenix:20251216T173000
DTEND;TZID=America/Phoenix:20251216T193000
DTSTAMP:20260423T190430
CREATED:20251120T224403Z
LAST-MODIFIED:20251120T224403Z
UID:10004141-1765906200-1765913400@pimaparenting.org
SUMMARY:Raising a Confident Child/ VIRTUAL CLASS
DESCRIPTION:This topic is from the Nurturing Parenting Program \nHow does your child feel about himself or herself? Parents are provided with tools to promote their child’s development and positive self-esteem. \nRegister at Raising a Confident Child ⋆ Casa de los Niños
URL:https://pimaparenting.org/event/raising-a-confident-child-virtual-class-3/
LOCATION:Family Resource Center at Los Ranchitos\, 2054 E Ginter Rd\, Tucson\, AZ\, 85706\, United States
CATEGORIES:Families with Children Birth to Five
ATTACH;FMTTYPE=image/jpeg:https://pimaparenting.org/wp-content/uploads/2024/03/Casa-logo.jpg
ORGANIZER;CN="Casa de los Ninos":MAILTO:cbolger@casadelosninos.org
END:VEVENT
END:VCALENDAR