BEGIN:VCALENDAR
VERSION:2.0
PRODID:-//Pima County Parenting Coalition - ECPv6.15.16.1//NONSGML v1.0//EN
CALSCALE:GREGORIAN
METHOD:PUBLISH
X-ORIGINAL-URL:https://pimaparenting.org
X-WR-CALDESC:Events for Pima County Parenting Coalition
REFRESH-INTERVAL;VALUE=DURATION:PT1H
X-Robots-Tag:noindex
X-PUBLISHED-TTL:PT1H
BEGIN:VTIMEZONE
TZID:America/Phoenix
BEGIN:STANDARD
TZOFFSETFROM:-0700
TZOFFSETTO:-0700
TZNAME:MST
DTSTART:20240101T000000
END:STANDARD
END:VTIMEZONE
BEGIN:VEVENT
DTSTART;TZID=America/Phoenix:20251217T090000
DTEND;TZID=America/Phoenix:20251217T100000
DTSTAMP:20260423T190431
CREATED:20251119T231446Z
LAST-MODIFIED:20251119T231446Z
UID:10004097-1765962000-1765965600@pimaparenting.org
SUMMARY:Fun Family Fitness
DESCRIPTION:Have fun getting fit with your child while building healthy habits for life! Enjoy playful movement\, games\, and bonding time in a supportive\, active class that makes fitness fun for the whole family. A great way to inspire a lifelong love of wellness—together!
URL:https://pimaparenting.org/event/fun-family-fitness-16/
LOCATION:Family Resource Center at Sahuarita Food Bank\, 17750 S. La Canada\, Sahuarita\, AZ\, 85629\, United States
CATEGORIES:Families with Children Birth to Five
ATTACH;FMTTYPE=image/jpeg:https://pimaparenting.org/wp-content/uploads/2024/11/FFF-at-SFB-2.0.jpg
ORGANIZER;CN="Julia with UWTSA":MAILTO:bootcampmama16@yahoo.com
END:VEVENT
BEGIN:VEVENT
DTSTART;TZID=America/Phoenix:20251217T103000
DTEND;TZID=America/Phoenix:20251217T113000
DTSTAMP:20260423T190431
CREATED:20251120T213229Z
LAST-MODIFIED:20251120T213229Z
UID:10004120-1765967400-1765971000@pimaparenting.org
SUMMARY:Musical Expressions
DESCRIPTION:Celebrate Mexican Holiday Traditions Together!\nWe’ll explore Mexican holiday traditions through simple crafts\, songs\, stories\, and playful activities that little ones can enjoy. Come learn\, create\, and celebrate together as we share the colors and joy of special Mexican holidays! \n 
URL:https://pimaparenting.org/event/musical-expressions-3/
LOCATION:Family Resource Center at Sahuarita Food Bank\, 17750 S. La Canada\, Sahuarita\, AZ\, 85629\, United States
CATEGORIES:Families with Children Birth to Five
ATTACH;FMTTYPE=image/jpeg:https://pimaparenting.org/wp-content/uploads/2024/11/Music-Exp-at-SFB-2.0.jpg
ORGANIZER;CN="Nataly Quiroz- UACE":MAILTO:natalyquiroz@arizona.edu
END:VEVENT
BEGIN:VEVENT
DTSTART;TZID=America/Phoenix:20251217T103000
DTEND;TZID=America/Phoenix:20251217T113000
DTSTAMP:20260423T190431
CREATED:20251122T234416Z
LAST-MODIFIED:20251122T234416Z
UID:10004180-1765967400-1765971000@pimaparenting.org
SUMMARY:Kids Yoga
DESCRIPTION:Kids Yoga is an interactive activity for parents and children to connect with each other and their bodies.  A great and fun way to improve your child’s mobility\, and help them learn techniques to manage stress and emotions.
URL:https://pimaparenting.org/event/kids-yoga-27/
LOCATION:Family Resource Center at Robles Elementary\, 9875 S Sasabe Rd\, Tucson\, AZ\, 85736\, United States
CATEGORIES:Families with Children Birth to Five
ATTACH;FMTTYPE=image/jpeg:https://pimaparenting.org/wp-content/uploads/2024/11/Yoga-at-AVSD-2.0.jpg
ORGANIZER;CN="Stephaine Carl - UACE":MAILTO:sacarl@arizona.edu
END:VEVENT
BEGIN:VEVENT
DTSTART;TZID=America/Phoenix:20251217T130000
DTEND;TZID=America/Phoenix:20251217T140000
DTSTAMP:20260423T190431
CREATED:20251121T164156Z
LAST-MODIFIED:20251121T164156Z
UID:10004152-1765976400-1765980000@pimaparenting.org
SUMMARY:Kids in Motion/Niños en Movimiento
DESCRIPTION:Kids in Motion is an active and fun class that promotes your child’s gross motor skill development through energetic and exciting activities.  \nNiños en Movimiento es una clase activa y divertida que promueve el desarrollo de la motricidad gruesa de su hijo a través de actividades enérgicas y emocionantes.
URL:https://pimaparenting.org/event/kids-in-motion-ninos-en-movimiento-37/
LOCATION:Family Resource Center at Los Ranchitos\, 2054 E Ginter Rd\, Tucson\, AZ\, 85706\, United States
CATEGORIES:Families with Children Birth to Five
ATTACH;FMTTYPE=image/jpeg:https://pimaparenting.org/wp-content/uploads/2024/11/Kids-in-Motion-at-SUSD-2.0.jpg
ORGANIZER;CN="Garrett Lilly-Ramirez - UWTSA":MAILTO:gkidsinmotion@gmail.com
END:VEVENT
BEGIN:VEVENT
DTSTART;TZID=America/Phoenix:20251217T180000
DTEND;TZID=America/Phoenix:20251217T190000
DTSTAMP:20260423T190431
CREATED:20251118T202828Z
LAST-MODIFIED:20251118T202828Z
UID:10004086-1765994400-1765998000@pimaparenting.org
SUMMARY:The Dangers of Vaping
DESCRIPTION:Learn about the risks of e-cigarettes\, also known as “vapes.” Learn why youth are using vapes and ways to protect youth in your life.
URL:https://pimaparenting.org/event/the-dangers-of-vaping-2/2025-12-17/
LOCATION:Zoom\, Arizona
CATEGORIES:All Caregivers,Behavioral Health,Families with Children Birth to Five,Families with School-aged (6-12) Children,Families with Teens,Foster Parents,Grandparents Raising Kids,Providers
ATTACH;FMTTYPE=image/png:https://pimaparenting.org/wp-content/uploads/2025/11/Dangers-of-Vaping-December.png
END:VEVENT
END:VCALENDAR