BEGIN:VCALENDAR
VERSION:2.0
PRODID:-//Pima County Parenting Coalition - ECPv6.15.16.1//NONSGML v1.0//EN
CALSCALE:GREGORIAN
METHOD:PUBLISH
X-ORIGINAL-URL:https://pimaparenting.org
X-WR-CALDESC:Events for Pima County Parenting Coalition
REFRESH-INTERVAL;VALUE=DURATION:PT1H
X-Robots-Tag:noindex
X-PUBLISHED-TTL:PT1H
BEGIN:VTIMEZONE
TZID:America/Phoenix
BEGIN:STANDARD
TZOFFSETFROM:-0700
TZOFFSETTO:-0700
TZNAME:MST
DTSTART:20240101T000000
END:STANDARD
END:VTIMEZONE
BEGIN:VEVENT
DTSTART;TZID=America/Phoenix:20251218T103000
DTEND;TZID=America/Phoenix:20251218T113000
DTSTAMP:20260423T190430
CREATED:20251120T213402Z
LAST-MODIFIED:20251120T213402Z
UID:10004121-1766053800-1766057400@pimaparenting.org
SUMMARY:Musical Expressions
DESCRIPTION:Celebrate Mexican Holiday Traditions Together!\nWe’ll explore Mexican holiday traditions through simple crafts\, songs\, stories\, and playful activities that little ones can enjoy. Come learn\, create\, and celebrate together as we share the colors and joy of special Mexican holidays! \n 
URL:https://pimaparenting.org/event/musical-expressions-4/
LOCATION:Family Resource Center at Robles Elementary\, 9875 S Sasabe Rd\, Tucson\, AZ\, 85736\, United States
CATEGORIES:Families with Children Birth to Five
ATTACH;FMTTYPE=image/jpeg:https://pimaparenting.org/wp-content/uploads/2024/11/Music-Exp-at-AVSD-2.0.jpg
ORGANIZER;CN="Nataly Quiroz- UACE":MAILTO:natalyquiroz@arizona.edu
END:VEVENT
BEGIN:VEVENT
DTSTART;TZID=America/Phoenix:20251218T103000
DTEND;TZID=America/Phoenix:20251218T113000
DTSTAMP:20260423T190430
CREATED:20251120T214013Z
LAST-MODIFIED:20251120T214013Z
UID:10004123-1766053800-1766057400@pimaparenting.org
SUMMARY:Sensory Exploration
DESCRIPTION:This class will expose your child to different colors\, shapes\, patterns\, materials and fabrics to feel help them accept so many transitions into this big world fill with experiences. \n 
URL:https://pimaparenting.org/event/sensory-exploration/
LOCATION:Family Resource Center at Sahuarita Food Bank\, 17750 S. La Canada\, Sahuarita\, AZ\, 85629\, United States
CATEGORIES:Families with Children Birth to Five
ATTACH;FMTTYPE=image/jpeg:https://pimaparenting.org/wp-content/uploads/2024/11/Sensory-at-SFB-2.0.jpg
ORGANIZER;CN="Laura Ontiveros-EBF":MAILTO:lontiveros@blake.easterseals.com
END:VEVENT
BEGIN:VEVENT
DTSTART;TZID=America/Phoenix:20251218T103000
DTEND;TZID=America/Phoenix:20251218T113000
DTSTAMP:20260423T190430
CREATED:20251121T164825Z
LAST-MODIFIED:20251121T164825Z
UID:10004156-1766053800-1766057400@pimaparenting.org
SUMMARY:Garden Discovery Days
DESCRIPTION:This class connects you and your child to the garden through hands-on activities\, where you’ll learn where food comes from\, explore nature\, and create fun nature-inspired crafts. \n  \n 
URL:https://pimaparenting.org/event/garden-discovery-days-12/
LOCATION:Family Resource Center at Los Ranchitos\, 2054 E Ginter Rd\, Tucson\, AZ\, 85706\, United States
CATEGORIES:Families with Children Birth to Five
ATTACH;FMTTYPE=image/png:https://pimaparenting.org/wp-content/uploads/2025/07/GDD-at-SUSD-2.0.png
ORGANIZER;CN="Cassie Burrel - UACE":MAILTO:cassieb@ag.arizona.edu
END:VEVENT
BEGIN:VEVENT
DTSTART;TZID=America/Phoenix:20251218T130000
DTEND;TZID=America/Phoenix:20251218T140000
DTSTAMP:20260423T190431
CREATED:20251120T183846Z
LAST-MODIFIED:20251120T183846Z
UID:10004104-1766062800-1766066400@pimaparenting.org
SUMMARY:Garden Discovery Days-Class held at Pima County Cooperative Extension Office 530 E. Whitehouse Canyon Rd. Green Valley\, AZ 85614
DESCRIPTION:This class connects you and your child with the garden\, through hands on activities as you learn where food comes from\, learn about nature and make fun nature crafts.  \nPLEASE NOTE: Class is held at the Pima County Cooperative Extension Office 530 E. Whitehouse Canyon Rd. Green Valley\, AZ 85614
URL:https://pimaparenting.org/event/garden-discovery-days-class-held-at-pima-county-cooperative-extension-office-530-e-whitehouse-canyon-rd-green-valley-az-85614-20/
LOCATION:Family Resource Center at Sahuarita Food Bank\, 17750 S. La Canada\, Sahuarita\, AZ\, 85629\, United States
CATEGORIES:Families with Children Birth to Five
ATTACH;FMTTYPE=image/png:https://pimaparenting.org/wp-content/uploads/2025/04/GDD-at-SFB-2.0.png
ORGANIZER;CN="Cassie Burrel - UACE":MAILTO:cassieb@ag.arizona.edu
END:VEVENT
BEGIN:VEVENT
DTSTART;TZID=America/Phoenix:20251218T130000
DTEND;TZID=America/Phoenix:20251218T140000
DTSTAMP:20260423T190431
CREATED:20251122T234147Z
LAST-MODIFIED:20251122T234147Z
UID:10004178-1766062800-1766066400@pimaparenting.org
SUMMARY:Fine Arts for Kids- Family Resource Center at Robles Elementary
DESCRIPTION:This fun and interactive class for children and their parents or caregivers is packed with creative activities designed to help little ones develop important life skills like focus\, self-control\, and communication—all while having a great time together!
URL:https://pimaparenting.org/event/fine-arts-for-kids-family-resource-center-at-robles-elementary-13/
LOCATION:Family Resource Center at Robles Elementary\, 9875 S Sasabe Rd\, Tucson\, AZ\, 85736\, United States
CATEGORIES:Families with Children Birth to Five
ATTACH;FMTTYPE=image/jpeg:https://pimaparenting.org/wp-content/uploads/2024/11/Fine-Arts-at-AVSD-2.0.jpg
ORGANIZER;CN="Stephaine Carl - UACE":MAILTO:sacarl@arizona.edu
END:VEVENT
BEGIN:VEVENT
DTSTART;TZID=America/Phoenix:20251218T173000
DTEND;TZID=America/Phoenix:20251218T193000
DTSTAMP:20260423T190431
CREATED:20251120T224631Z
LAST-MODIFIED:20251120T224631Z
UID:10004142-1766079000-1766086200@pimaparenting.org
SUMMARY:Criar a un nino seguro/CLASE VIRTUAL
DESCRIPTION:Como se siente su hijo/ a consigo mismo/a? Se proporcionan herramientas a los padres para promover el desarrollo y la autoestima de sus hijos/as. \nRegistrarse en Criar a un nino seguro ⋆ Casa de los Niños
URL:https://pimaparenting.org/event/criar-a-un-nino-seguro-clase-virtual/
LOCATION:Family Resource Center at Sahuarita Food Bank\, 17750 S. La Canada\, Sahuarita\, AZ\, 85629\, United States
CATEGORIES:Families with Children Birth to Five
ATTACH;FMTTYPE=image/jpeg:https://pimaparenting.org/wp-content/uploads/2024/03/Casa-logo.jpg
ORGANIZER;CN="Casa de los Ninos":MAILTO:cbolger@casadelosninos.org
END:VEVENT
BEGIN:VEVENT
DTSTART;TZID=America/Phoenix:20251218T173000
DTEND;TZID=America/Phoenix:20251218T193000
DTSTAMP:20260423T190431
CREATED:20251120T224713Z
LAST-MODIFIED:20251120T224713Z
UID:10004143-1766079000-1766086200@pimaparenting.org
SUMMARY:Criar a un nino seguro/CLASE VIRTUAL
DESCRIPTION:Como se siente su hijo/ a consigo mismo/a? Se proporcionan herramientas a los padres para promover el desarrollo y la autoestima de sus hijos/as. \nRegistrarse en Criar a un nino seguro ⋆ Casa de los Niños
URL:https://pimaparenting.org/event/criar-a-un-nino-seguro-clase-virtual-2/
LOCATION:Family Resource Center at Los Ranchitos\, 2054 E Ginter Rd\, Tucson\, AZ\, 85706\, United States
CATEGORIES:Families with Children Birth to Five
ATTACH;FMTTYPE=image/jpeg:https://pimaparenting.org/wp-content/uploads/2024/03/Casa-logo.jpg
ORGANIZER;CN="Casa de los Ninos":MAILTO:cbolger@casadelosninos.org
END:VEVENT
BEGIN:VEVENT
DTSTART;TZID=America/Phoenix:20251218T173000
DTEND;TZID=America/Phoenix:20251218T193000
DTSTAMP:20260423T190431
CREATED:20251120T224735Z
LAST-MODIFIED:20251120T224735Z
UID:10004144-1766079000-1766086200@pimaparenting.org
SUMMARY:Criar a un nino seguro/CLASE VIRTUAL
DESCRIPTION:Como se siente su hijo/ a consigo mismo/a? Se proporcionan herramientas a los padres para promover el desarrollo y la autoestima de sus hijos/as. \nRegistrarse en Criar a un nino seguro ⋆ Casa de los Niños
URL:https://pimaparenting.org/event/criar-a-un-nino-seguro-clase-virtual-3/
LOCATION:Family Resource Center at Robles Elementary\, 9875 S Sasabe Rd\, Tucson\, AZ\, 85736\, United States
CATEGORIES:Families with Children Birth to Five
ATTACH;FMTTYPE=image/jpeg:https://pimaparenting.org/wp-content/uploads/2024/03/Casa-logo.jpg
ORGANIZER;CN="Casa de los Ninos":MAILTO:cbolger@casadelosninos.org
END:VEVENT
END:VCALENDAR