BEGIN:VCALENDAR
VERSION:2.0
PRODID:-//Pima County Parenting Coalition - ECPv6.15.16.1//NONSGML v1.0//EN
CALSCALE:GREGORIAN
METHOD:PUBLISH
X-WR-CALNAME:Pima County Parenting Coalition
X-ORIGINAL-URL:https://pimaparenting.org
X-WR-CALDESC:Events for Pima County Parenting Coalition
REFRESH-INTERVAL;VALUE=DURATION:PT1H
X-Robots-Tag:noindex
X-PUBLISHED-TTL:PT1H
BEGIN:VTIMEZONE
TZID:America/Phoenix
BEGIN:STANDARD
TZOFFSETFROM:-0700
TZOFFSETTO:-0700
TZNAME:MST
DTSTART:20240101T000000
END:STANDARD
END:VTIMEZONE
BEGIN:VEVENT
DTSTART;TZID=America/Phoenix:20251219T100000
DTEND;TZID=America/Phoenix:20251219T110000
DTSTAMP:20260423T190346
CREATED:20251121T170638Z
LAST-MODIFIED:20251121T170638Z
UID:10004170-1766138400-1766142000@pimaparenting.org
SUMMARY:Stay & Play- Family Resource Center at Los Ranchitos
DESCRIPTION:Play is the best avenue for learning! Children 0-5 years of age and their grownups will play and socialize together with a variety of materials selected to enhance all areas of development. We focus specifically on social skills\, literacy\, and communication.
URL:https://pimaparenting.org/event/stay-play-family-resource-center-at-los-ranchitos-4/
LOCATION:Family Resource Center at Los Ranchitos\, 2054 E Ginter Rd\, Tucson\, AZ\, 85706\, United States
CATEGORIES:Families with Children Birth to Five
ATTACH;FMTTYPE=image/jpeg:https://pimaparenting.org/wp-content/uploads/2024/12/Stay-and-Play-at-SUSD-2.0.jpg
ORGANIZER;CN="Lela Messick-UWTSA":MAILTO:lmessick@unitedwaytucson.org
END:VEVENT
END:VCALENDAR