BEGIN:VCALENDAR
VERSION:2.0
PRODID:-//Pima County Parenting Coalition - ECPv6.15.16.1//NONSGML v1.0//EN
CALSCALE:GREGORIAN
METHOD:PUBLISH
X-ORIGINAL-URL:https://pimaparenting.org
X-WR-CALDESC:Events for Pima County Parenting Coalition
REFRESH-INTERVAL;VALUE=DURATION:PT1H
X-Robots-Tag:noindex
X-PUBLISHED-TTL:PT1H
BEGIN:VTIMEZONE
TZID:America/Phoenix
BEGIN:STANDARD
TZOFFSETFROM:-0700
TZOFFSETTO:-0700
TZNAME:MST
DTSTART:20250101T000000
END:STANDARD
END:VTIMEZONE
BEGIN:VEVENT
DTSTART;TZID=America/Phoenix:20260106T090000
DTEND;TZID=America/Phoenix:20260106T103000
DTSTAMP:20260424T060930
CREATED:20251119T225436Z
LAST-MODIFIED:20251222T162946Z
UID:10004089-1767690000-1767695400@pimaparenting.org
SUMMARY:Stay & Play Preschool - Fun with Math & Science
DESCRIPTION:Join our Stay & Play Preschool class — Fun with Math & Science — designed for families with children ages 3 to 5! This engaging program invites grownups and little ones to explore math and science concepts using a diverse range of materials in an interactive\, playful way. \nBased on Arizona’s Early Learning Standards for Math and Science\, this class introduces concepts and strategies you can use with your child to help build and strengthen their mathematical and scientific thinking skills. All of this happens in a supportive environment where children can explore\, learn\, and make new friends. \nCome enjoy quality time while helping your child thrive in their early learning journey! \n  \n 
URL:https://pimaparenting.org/event/stay-play-preschool-fun-with-math-science-6/
LOCATION:Family Resource Center at Sahuarita Food Bank\, 17750 S. La Canada\, Sahuarita\, AZ\, 85629\, United States
CATEGORIES:Families with Children Birth to Five
ATTACH;FMTTYPE=image/jpeg:https://pimaparenting.org/wp-content/uploads/2024/12/Stay-and-Play-at-SUSD-2.0.jpg
ORGANIZER;CN="Lela Messick-UWTSA":MAILTO:lmessick@unitedwaytucson.org
END:VEVENT
BEGIN:VEVENT
DTSTART;TZID=America/Phoenix:20260106T090000
DTEND;TZID=America/Phoenix:20260106T103000
DTSTAMP:20260424T060930
CREATED:20251220T234308Z
LAST-MODIFIED:20251220T234308Z
UID:10004290-1767690000-1767695400@pimaparenting.org
SUMMARY:Kinship & Foster Parent Cafe
DESCRIPTION:A welcoming space for kinship and foster caregivers to connect with others who share similar experiences. Together\, participants offer encouragement\, comfort\, and practical resources. Each gathering includes a basic support item provided by Aviva Children’s Services. Children ages 0–5 are welcome.
URL:https://pimaparenting.org/event/kinship-foster-parent-cafe-3/
LOCATION:Family Resource Center at Robles Elementary\, 9875 S Sasabe Rd\, Tucson\, AZ\, 85736\, United States
CATEGORIES:Families with Children Birth to Five
ATTACH;FMTTYPE=image/png:https://pimaparenting.org/wp-content/uploads/2025/10/EBF-Aviva.png
ORGANIZER;CN="Christina Greenberg":MAILTO:cgreenberg@avivatucson.org
END:VEVENT
BEGIN:VEVENT
DTSTART;TZID=America/Phoenix:20260106T103000
DTEND;TZID=America/Phoenix:20260106T113000
DTSTAMP:20260424T060930
CREATED:20251216T234933Z
LAST-MODIFIED:20251216T235019Z
UID:10004192-1767695400-1767699000@pimaparenting.org
SUMMARY:Kids Yoga
DESCRIPTION:Kids Yoga is an interactive activity for parents and children to connect with each other and their bodies.  A great and fun way to improve your child’s mobility\, and help them learn techniques to manage stress and emotions.
URL:https://pimaparenting.org/event/kids-yoga-28/
LOCATION:Family Resource Center at Sahuarita Food Bank\, 17750 S. La Canada\, Sahuarita\, AZ\, 85629\, United States
CATEGORIES:Families with Children Birth to Five
ATTACH;FMTTYPE=image/jpeg:https://pimaparenting.org/wp-content/uploads/2024/11/Yoga-at-SFB-2.0.jpg
ORGANIZER;CN="Stephaine Carl - UACE":MAILTO:sacarl@arizona.edu
END:VEVENT
BEGIN:VEVENT
DTSTART;TZID=America/Phoenix:20260106T103000
DTEND;TZID=America/Phoenix:20260106T113000
DTSTAMP:20260424T060930
CREATED:20251220T234554Z
LAST-MODIFIED:20251220T234554Z
UID:10004291-1767695400-1767699000@pimaparenting.org
SUMMARY:Zumbini- Robles Elem. Family Resource Center
DESCRIPTION:Come join Vanessa and Parent Aid for a fun hour of music and movement! This class will enhance your child’s development of their social-emotional\, cognitive and physical skills. Zumbini is designed for families with kiddos birth to 5-years old. Zumbini is an interactive activity for Parents and Kiddos! Bring your most comfortable dancing shoes and we’ll see you there! \nPlease note: Videos are used in class to support instruction and curriculum. \n  \n  \n 
URL:https://pimaparenting.org/event/zumbini-robles-elem-family-resource-center/
LOCATION:Family Resource Center at Robles Elementary\, 9875 S Sasabe Rd\, Tucson\, AZ\, 85736\, United States
CATEGORIES:All Caregivers,Families with Children Birth to Five
ATTACH;FMTTYPE=image/jpeg:https://pimaparenting.org/wp-content/uploads/2024/11/Zumbini-at-AVSD-2.0.jpg
ORGANIZER;CN="Vanessa Batson- PA":MAILTO:vanessa@parentaid.org
END:VEVENT
BEGIN:VEVENT
DTSTART;TZID=America/Phoenix:20260106T110000
DTEND;TZID=America/Phoenix:20260106T120000
DTSTAMP:20260424T060930
CREATED:20251217T204701Z
LAST-MODIFIED:20251217T204701Z
UID:10004213-1767697200-1767700800@pimaparenting.org
SUMMARY:Trauma-Informed Rx 360 Substance Misuse and Naloxone training
DESCRIPTION:Learn how toxic stress and trauma impacts the brain.  Learn about the connection between trauma and substance misuse.  Learn how to use Narcan to reverse an opioid overdose.
URL:https://pimaparenting.org/event/trauma-informed-rx-360-substance-misuse-and-naloxone-training-8/2026-01-06/
LOCATION:Zoom\, Arizona
CATEGORIES:All Caregivers,Behavioral Health,Families with Children Birth to Five,Families with School-aged (6-12) Children,Families with Teens,Foster Parents,Grandparents Raising Kids,Providers
ATTACH;FMTTYPE=image/png:https://pimaparenting.org/wp-content/uploads/2025/12/Trauma-Informed-Rx360-January.png
END:VEVENT
BEGIN:VEVENT
DTSTART;TZID=America/Phoenix:20260106T130000
DTEND;TZID=America/Phoenix:20260106T140000
DTSTAMP:20260424T060930
CREATED:20251219T205814Z
LAST-MODIFIED:20251219T210207Z
UID:10004251-1767704400-1767708000@pimaparenting.org
SUMMARY:Fine Arts for Kids
DESCRIPTION:Join us for a fun and creative class designed for children and their parents or caregivers! Together\, you’ll explore hands-on activities that encourage focus\, help build self-control and promote teamwork and communication. It’s a great way to bond\, learn\, and get inspired through art!
URL:https://pimaparenting.org/event/fine-arts-for-kids-9/
LOCATION:Family Resource Center at Los Ranchitos\, 2054 E Ginter Rd\, Tucson\, AZ\, 85706\, United States
CATEGORIES:Families with Children Birth to Five
ATTACH;FMTTYPE=image/jpeg:https://pimaparenting.org/wp-content/uploads/2024/11/Fine-Arts-at-SUSD-2.0.jpg
ORGANIZER;CN="Nataly Quiroz- UACE":MAILTO:natalyquiroz@arizona.edu
END:VEVENT
BEGIN:VEVENT
DTSTART;TZID=America/Phoenix:20260106T173000
DTEND;TZID=America/Phoenix:20260106T193000
DTSTAMP:20260424T060930
CREATED:20251222T153709Z
LAST-MODIFIED:20251222T154803Z
UID:10004329-1767720600-1767727800@pimaparenting.org
SUMMARY:The Philosophy of Nurturing Parenting/ VIRTUAL CLASS
DESCRIPTION:This class will summarize the Nurturing Parenting Program. \nThis class focused on the basic philosophy used in the Nurturing Parenting Program. Nurturing Parenting is centered by the belief children who are cared for and treated respectfully will treat themselves and others in the same manner. \nRegister at The Philosophy of Nurturing Parenting ⋆ Casa de los Niños
URL:https://pimaparenting.org/event/the-philosophy-of-nurturing-parenting-virtual-class/
LOCATION:Family Resource Center at Sahuarita Food Bank\, 17750 S. La Canada\, Sahuarita\, AZ\, 85629\, United States
CATEGORIES:Families with Children Birth to Five
ATTACH;FMTTYPE=image/jpeg:https://pimaparenting.org/wp-content/uploads/2024/03/Casa-logo.jpg
ORGANIZER;CN="Casa de los Ninos":MAILTO:cbolger@casadelosninos.org
END:VEVENT
BEGIN:VEVENT
DTSTART;TZID=America/Phoenix:20260106T173000
DTEND;TZID=America/Phoenix:20260106T193000
DTSTAMP:20260424T060930
CREATED:20251222T153804Z
LAST-MODIFIED:20251222T154849Z
UID:10004330-1767720600-1767727800@pimaparenting.org
SUMMARY:The Philosophy of Nurturing Parenting/ VIRTUAL CLASS
DESCRIPTION:This class will summarize the Nurturing Parenting Program. \nThis class focused on the basic philosophy used in the Nurturing Parenting Program. Nurturing Parenting is centered by the belief children who are cared for and treated respectfully will treat themselves and others in the same manner. \nRegister at The Philosophy of Nurturing Parenting ⋆ Casa de los Niños
URL:https://pimaparenting.org/event/the-philosophy-of-nurturing-parenting-virtual-class-2/
LOCATION:Family Resource Center at Los Ranchitos\, 2054 E Ginter Rd\, Tucson\, AZ\, 85706\, United States
CATEGORIES:Families with Children Birth to Five
ATTACH;FMTTYPE=image/jpeg:https://pimaparenting.org/wp-content/uploads/2024/03/Casa-logo.jpg
ORGANIZER;CN="Casa de los Ninos":MAILTO:cbolger@casadelosninos.org
END:VEVENT
BEGIN:VEVENT
DTSTART;TZID=America/Phoenix:20260106T173000
DTEND;TZID=America/Phoenix:20260106T193000
DTSTAMP:20260424T060930
CREATED:20251222T153842Z
LAST-MODIFIED:20251222T154927Z
UID:10004331-1767720600-1767727800@pimaparenting.org
SUMMARY:The Philosophy of Nurturing Parenting/ VIRTUAL CLASS
DESCRIPTION:This class will summarize the Nurturing Parenting Program. \nThis class focused on the basic philosophy used in the Nurturing Parenting Program. Nurturing Parenting is centered by the belief children who are cared for and treated respectfully will treat themselves and others in the same manner. \nRegister at The Philosophy of Nurturing Parenting ⋆ Casa de los Niños
URL:https://pimaparenting.org/event/the-philosophy-of-nurturing-parenting-virtual-class-3/
LOCATION:Family Resource Center at Robles Elementary\, 9875 S Sasabe Rd\, Tucson\, AZ\, 85736\, United States
CATEGORIES:Families with Children Birth to Five
ATTACH;FMTTYPE=image/jpeg:https://pimaparenting.org/wp-content/uploads/2024/03/Casa-logo.jpg
ORGANIZER;CN="Casa de los Ninos":MAILTO:cbolger@casadelosninos.org
END:VEVENT
END:VCALENDAR