BEGIN:VCALENDAR
VERSION:2.0
PRODID:-//Pima County Parenting Coalition - ECPv6.15.16.1//NONSGML v1.0//EN
CALSCALE:GREGORIAN
METHOD:PUBLISH
X-WR-CALNAME:Pima County Parenting Coalition
X-ORIGINAL-URL:https://pimaparenting.org
X-WR-CALDESC:Events for Pima County Parenting Coalition
REFRESH-INTERVAL;VALUE=DURATION:PT1H
X-Robots-Tag:noindex
X-PUBLISHED-TTL:PT1H
BEGIN:VTIMEZONE
TZID:America/Phoenix
BEGIN:STANDARD
TZOFFSETFROM:-0700
TZOFFSETTO:-0700
TZNAME:MST
DTSTART:20250101T000000
END:STANDARD
END:VTIMEZONE
BEGIN:VEVENT
DTSTART;TZID=America/Phoenix:20260115T103000
DTEND;TZID=America/Phoenix:20260115T113000
DTSTAMP:20260423T172753
CREATED:20251219T172341Z
LAST-MODIFIED:20251219T172341Z
UID:10004236-1768473000-1768476600@pimaparenting.org
SUMMARY:Wonders of the Desert: Nature Play & Storytime
DESCRIPTION:Wonders of the Desert: Nature Play & Storytime- HABITATS \nJoin us for an enriching sensory adventure in Wonders of the Desert\, where young children (ages 2–5) explore the natural world through play-based\, developmentally appropriate outdoor activities. Guided by a trained nature-based educator\, each session offers three to four fun hands-on experiences—like digging\, building\, crafting\, and observing—designed to spark curiosity and build early learning skills. We’ll wrap up with a themed Storytime that ties everything together\, helping little ones connect\, imagine\, and grow in nature. All participants will be given a Family Activity page in English & Spanish to extend the learning and fun at home. \nHabitats: Children and caregivers learn about the variety of animals that live in the Sonoran Desert and how they adapt to their habitats. They explore the roles animals play in the ecosystem and develop curiosity and respect for wildlife. This experience fosters observation skills and a deeper connection to the natural world.
URL:https://pimaparenting.org/event/wonders-of-the-desert-nature-play-storytime-21/
LOCATION:Family Resource Center at Sahuarita Food Bank\, 17750 S. La Canada\, Sahuarita\, AZ\, 85629\, United States
CATEGORIES:Families with Children Birth to Five
ATTACH;FMTTYPE=image/png:https://pimaparenting.org/wp-content/uploads/2025/07/Wonders-of-the-Desert-at-SFB.png
ORGANIZER;CN="Debi Morgan":MAILTO:debimorgan4@gmail.com
END:VEVENT
BEGIN:VEVENT
DTSTART;TZID=America/Phoenix:20260115T103000
DTEND;TZID=America/Phoenix:20260115T113000
DTSTAMP:20260423T172753
CREATED:20251219T214449Z
LAST-MODIFIED:20251219T214636Z
UID:10004260-1768473000-1768476600@pimaparenting.org
SUMMARY:Cardio Beats: Family Drum Fitness
DESCRIPTION:Get ready to move\, groove\, and sweat — Cardio Beats is a high-energy\, family-friendly fitness class designed to bring parents and kids together through rhythm and movement! Led by Noah at Parent Aid\, this unique experience combines upbeat cardio exercises for adults with fun\, age-appropriate drumming for little ones\, creating a shared space for wellness and connection. \nWhether you’re looking to boost your energy\, bond with your child\, or just have a blast — this class is for you!\n👟 Wear comfy clothes and sneakers\n💧 Bring your water bottle\n🎶 And get ready to find your family rhythm! \nFREE in-person class at the Family Resource Center at the Sahuarita Food Bank.\nGot questions? Reach out to Noah — we’re happy to help! \nSpaces are limited — register today and join the beat!
URL:https://pimaparenting.org/event/cardio-beats-family-drum-fitness-13/
LOCATION:Family Resource Center at Los Ranchitos\, 2054 E Ginter Rd\, Tucson\, AZ\, 85706\, United States
CATEGORIES:Families with Children Birth to Five
ATTACH;FMTTYPE=image/png:https://pimaparenting.org/wp-content/uploads/2025/07/Cardio-Beats-at-SFB.png
ORGANIZER;CN="Noah Paul - PA":MAILTO:noah@parentaid.org
END:VEVENT
BEGIN:VEVENT
DTSTART;TZID=America/Phoenix:20260115T103000
DTEND;TZID=America/Phoenix:20260115T113000
DTSTAMP:20260423T172753
CREATED:20251219T221800Z
LAST-MODIFIED:20251219T221800Z
UID:10004277-1768473000-1768476600@pimaparenting.org
SUMMARY:Garden Discovery Days
DESCRIPTION:This class connects you and your child to the garden through hands-on activities\, where you’ll learn where food comes from\, explore nature\, and create fun nature-inspired crafts. \n  \n 
URL:https://pimaparenting.org/event/garden-discovery-days-16/
LOCATION:Family Resource Center at Robles Elementary\, 9875 S Sasabe Rd\, Tucson\, AZ\, 85736\, United States
CATEGORIES:Families with Children Birth to Five
ATTACH;FMTTYPE=image/jpeg:https://pimaparenting.org/wp-content/uploads/2024/11/GDD-at-AVSD-2.0.jpg
ORGANIZER;CN="Cassie Burrel - UACE":MAILTO:cassieb@ag.arizona.edu
END:VEVENT
BEGIN:VEVENT
DTSTART;TZID=America/Phoenix:20260115T130000
DTEND;TZID=America/Phoenix:20260115T140000
DTSTAMP:20260423T172753
CREATED:20251219T180503Z
LAST-MODIFIED:20251219T190939Z
UID:10004242-1768482000-1768485600@pimaparenting.org
SUMMARY:Sensory Exploration
DESCRIPTION:This class will expose your child to different colors\, shapes\, patterns\, materials and fabrics to feel help them accept so many transitions into this big world fill with experiences. \n 
URL:https://pimaparenting.org/event/sensory-exploration-2/
LOCATION:Family Resource Center at Sahuarita Food Bank\, 17750 S. La Canada\, Sahuarita\, AZ\, 85629\, United States
CATEGORIES:Families with Children Birth to Five
ATTACH;FMTTYPE=image/jpeg:https://pimaparenting.org/wp-content/uploads/2024/11/Sensory-at-SFB-2.0.jpg
ORGANIZER;CN="Laura Ontiveros-EBF":MAILTO:lontiveros@blake.easterseals.com
END:VEVENT
BEGIN:VEVENT
DTSTART;TZID=America/Phoenix:20260115T173000
DTEND;TZID=America/Phoenix:20260115T193000
DTSTAMP:20260423T172753
CREATED:20251222T155915Z
LAST-MODIFIED:20251222T160223Z
UID:10004338-1768498200-1768505400@pimaparenting.org
SUMMARY:EDADES Y ETAPAS DEL CRECIMIENTO DE BEBÉS Y NIÑOS PEQUEÑOS/CLASE VIRTUAL
DESCRIPTION:Nurturing Parenting Program \nEl Objectivo principal de esta clase es aumentar la conciencia de los padres sobre las expectativas apropi \nRegístrate en Ages & Stages of Growth for Infants & Toddlers- Spanish ⋆ Casa de los Niños \n  \n 
URL:https://pimaparenting.org/event/edades-y-etapas-del-crecimiento-de-bebes-y-ninos-pequenos-clase-virtual/
LOCATION:Family Resource Center at Robles Elementary\, 9875 S Sasabe Rd\, Tucson\, AZ\, 85736\, United States
CATEGORIES:Families with Children Birth to Five
ATTACH;FMTTYPE=image/jpeg:https://pimaparenting.org/wp-content/uploads/2024/03/Casa-logo.jpg
ORGANIZER;CN="Casa de los Ninos":MAILTO:cbolger@casadelosninos.org
END:VEVENT
BEGIN:VEVENT
DTSTART;TZID=America/Phoenix:20260115T173000
DTEND;TZID=America/Phoenix:20260115T193000
DTSTAMP:20260423T172753
CREATED:20251222T160117Z
LAST-MODIFIED:20251222T160243Z
UID:10004339-1768498200-1768505400@pimaparenting.org
SUMMARY:EDADES Y ETAPAS DEL CRECIMIENTO DE BEBÉS Y NIÑOS PEQUEÑOS/CLASE VIRTUAL
DESCRIPTION:Nurturing Parenting Program \nEl Objectivo principal de esta clase es aumentar la conciencia de los padres sobre las expectativas apropi \nRegístrate en Ages & Stages of Growth for Infants & Toddlers- Spanish ⋆ Casa de los Niños \n  \n 
URL:https://pimaparenting.org/event/edades-y-etapas-del-crecimiento-de-bebes-y-ninos-pequenos-clase-virtual-2/
LOCATION:Family Resource Center at Sahuarita Food Bank\, 17750 S. La Canada\, Sahuarita\, AZ\, 85629\, United States
CATEGORIES:Families with Children Birth to Five
ATTACH;FMTTYPE=image/jpeg:https://pimaparenting.org/wp-content/uploads/2024/03/Casa-logo.jpg
ORGANIZER;CN="Casa de los Ninos":MAILTO:cbolger@casadelosninos.org
END:VEVENT
BEGIN:VEVENT
DTSTART;TZID=America/Phoenix:20260115T173000
DTEND;TZID=America/Phoenix:20260115T193000
DTSTAMP:20260423T172753
CREATED:20251222T160153Z
LAST-MODIFIED:20251222T160302Z
UID:10004340-1768498200-1768505400@pimaparenting.org
SUMMARY:EDADES Y ETAPAS DEL CRECIMIENTO DE BEBÉS Y NIÑOS PEQUEÑOS/CLASE VIRTUAL
DESCRIPTION:Nurturing Parenting Program \nEl Objectivo principal de esta clase es aumentar la conciencia de los padres sobre las expectativas apropi \nRegístrate en Ages & Stages of Growth for Infants & Toddlers- Spanish ⋆ Casa de los Niños \n  \n 
URL:https://pimaparenting.org/event/edades-y-etapas-del-crecimiento-de-bebes-y-ninos-pequenos-clase-virtual-3/
LOCATION:Family Resource Center at Los Ranchitos\, 2054 E Ginter Rd\, Tucson\, AZ\, 85706\, United States
CATEGORIES:Families with Children Birth to Five
ATTACH;FMTTYPE=image/jpeg:https://pimaparenting.org/wp-content/uploads/2024/03/Casa-logo.jpg
ORGANIZER;CN="Casa de los Ninos":MAILTO:cbolger@casadelosninos.org
END:VEVENT
END:VCALENDAR