BEGIN:VCALENDAR
VERSION:2.0
PRODID:-//Pima County Parenting Coalition - ECPv6.15.16.1//NONSGML v1.0//EN
CALSCALE:GREGORIAN
METHOD:PUBLISH
X-ORIGINAL-URL:https://pimaparenting.org
X-WR-CALDESC:Events for Pima County Parenting Coalition
REFRESH-INTERVAL;VALUE=DURATION:PT1H
X-Robots-Tag:noindex
X-PUBLISHED-TTL:PT1H
BEGIN:VTIMEZONE
TZID:America/Phoenix
BEGIN:STANDARD
TZOFFSETFROM:-0700
TZOFFSETTO:-0700
TZNAME:MST
DTSTART:20250101T000000
END:STANDARD
END:VTIMEZONE
BEGIN:VEVENT
DTSTART;TZID=America/Phoenix:20260122T103000
DTEND;TZID=America/Phoenix:20260122T113000
DTSTAMP:20260423T141010
CREATED:20251219T214612Z
LAST-MODIFIED:20251219T214612Z
UID:10004261-1769077800-1769081400@pimaparenting.org
SUMMARY:Cardio Beats: Family Drum Fitness
DESCRIPTION:Get ready to move\, groove\, and sweat — Cardio Beats is a high-energy\, family-friendly fitness class designed to bring parents and kids together through rhythm and movement! Led by Noah at Parent Aid\, this unique experience combines upbeat cardio exercises for adults with fun\, age-appropriate drumming for little ones\, creating a shared space for wellness and connection. \nWhether you’re looking to boost your energy\, bond with your child\, or just have a blast — this class is for you!\n👟 Wear comfy clothes and sneakers\n💧 Bring your water bottle\n🎶 And get ready to find your family rhythm! \nFREE in-person class at the Family Resource Center at the Sahuarita Food Bank.\nGot questions? Reach out to Noah — we’re happy to help! \nSpaces are limited — register today and join the beat!
URL:https://pimaparenting.org/event/cardio-beats-family-drum-fitness-14/
LOCATION:Family Resource Center at Los Ranchitos\, 2054 E Ginter Rd\, Tucson\, AZ\, 85706\, United States
CATEGORIES:Families with Children Birth to Five
ATTACH;FMTTYPE=image/png:https://pimaparenting.org/wp-content/uploads/2025/07/Cardio-Beats-at-SUSD.png
ORGANIZER;CN="Noah Paul - PA":MAILTO:noah@parentaid.org
END:VEVENT
BEGIN:VEVENT
DTSTART;TZID=America/Phoenix:20260122T113000
DTEND;TZID=America/Phoenix:20260122T123000
DTSTAMP:20260423T141010
CREATED:20251219T215125Z
LAST-MODIFIED:20251219T215125Z
UID:10004264-1769081400-1769085000@pimaparenting.org
SUMMARY:Happy Hour: Family Playtime/Hora Feliz: Tiempo de Juego en Familia
DESCRIPTION:Join Vanessa at Parent Aid for a playful\, stress-free hour of connection\, creativity\, and community! Happy Hour: Family Playtime is a warm and welcoming space where parents and children explore the joy of free play — together. \nThis interactive experience helps little ones build important social skills while giving parents the chance to connect with one another\, share experiences\, and step into their child’s world through play. It’s a perfect blend of bonding\, support\, and fun — no agenda\, no pressure\, just quality time. \n✨ Meet other parents\n🧸 Support your child’s growth through play\n💬 Enjoy thoughtful conversations in a relaxed environment \nCome as you are — stay for the smiles.\nBecause connection is the real happy hour. \n  \n¡Únete a Vanessa en Parent Aid para una hora lúdica y sin estrés de conexión\, creatividad y comunidad! Happy Hour: Tiempo de Juego Familiar es un espacio cálido y acogedor donde padres e hijos exploran la alegría del juego libre\, juntos. \nEsta experiencia interactiva ayuda a los más pequeños a construir habilidades sociales importantes\, al mismo tiempo que ofrece a los padres la oportunidad de conectarse entre sí\, compartir experiencias y entrar en el mundo de sus hijos a través del juego. Es una mezcla perfecta de unión\, apoyo y diversión: sin agenda\, sin presión\, solo tiempo de calidad.
URL:https://pimaparenting.org/event/happy-hour-family-playtime-hora-feliz-tiempo-de-juego-en-familia-9/
LOCATION:Family Resource Center at Los Ranchitos\, 2054 E Ginter Rd\, Tucson\, AZ\, 85706\, United States
CATEGORIES:Families with Children Birth to Five
ATTACH;FMTTYPE=image/png:https://pimaparenting.org/wp-content/uploads/2025/07/Happy-Hour-at-SUSD.png
ORGANIZER;CN="Vanessa Batson- PA":MAILTO:vanessa@parentaid.org
END:VEVENT
BEGIN:VEVENT
DTSTART;TZID=America/Phoenix:20260122T130000
DTEND;TZID=America/Phoenix:20260122T140000
DTSTAMP:20260423T141010
CREATED:20251219T192221Z
LAST-MODIFIED:20251219T192221Z
UID:10004248-1769086800-1769090400@pimaparenting.org
SUMMARY:Garden Discovery Days-Class held at Pima County Cooperative Extension Office 530 E. Whitehouse Canyon Rd. Green Valley\, AZ 85614
DESCRIPTION:This class connects you and your child with the garden\, through hands on activities as you learn where food comes from\, learn about nature and make fun nature crafts.  \nPLEASE NOTE: Class is held at the Pima County Cooperative Extension Office 530 E. Whitehouse Canyon Rd. Green Valley\, AZ 85614
URL:https://pimaparenting.org/event/garden-discovery-days-class-held-at-pima-county-cooperative-extension-office-530-e-whitehouse-canyon-rd-green-valley-az-85614-5/
LOCATION:Family Resource Center at Sahuarita Food Bank\, 17750 S. La Canada\, Sahuarita\, AZ\, 85629\, United States
CATEGORIES:Families with Children Birth to Five
ATTACH;FMTTYPE=image/png:https://pimaparenting.org/wp-content/uploads/2025/04/GDD-at-SFB-2.0.png
ORGANIZER;CN="Cassie Burrel - UACE":MAILTO:cassieb@ag.arizona.edu
END:VEVENT
BEGIN:VEVENT
DTSTART;TZID=America/Phoenix:20260122T130000
DTEND;TZID=America/Phoenix:20260122T140000
DTSTAMP:20260423T141010
CREATED:20251219T221447Z
LAST-MODIFIED:20251219T221447Z
UID:10004275-1769086800-1769090400@pimaparenting.org
SUMMARY:Fine Arts for Kids
DESCRIPTION:This fun and interactive class for children and their parents or caregivers is packed with creative activities designed to help little ones develop important life skills like focus\, self-control\, and communication—all while having a great time together!
URL:https://pimaparenting.org/event/fine-arts-for-kids-13/
LOCATION:Family Resource Center at Robles Elementary\, 9875 S Sasabe Rd\, Tucson\, AZ\, 85736\, United States
CATEGORIES:Families with Children Birth to Five
ATTACH;FMTTYPE=image/jpeg:https://pimaparenting.org/wp-content/uploads/2024/11/Fine-Arts-at-AVSD-2.0.jpg
ORGANIZER;CN="Nataly Quiroz- UACE":MAILTO:natalyquiroz@arizona.edu
END:VEVENT
BEGIN:VEVENT
DTSTART;TZID=America/Phoenix:20260122T153000
DTEND;TZID=America/Phoenix:20260122T163000
DTSTAMP:20260423T141010
CREATED:20251219T191024Z
LAST-MODIFIED:20251219T191024Z
UID:10004243-1769095800-1769099400@pimaparenting.org
SUMMARY:Sensory Exploration
DESCRIPTION:This class will expose your child to different colors\, shapes\, patterns\, materials and fabrics to feel help them accept so many transitions into this big world fill with experiences. \n 
URL:https://pimaparenting.org/event/sensory-exploration-3/
LOCATION:Family Resource Center at Sahuarita Food Bank\, 17750 S. La Canada\, Sahuarita\, AZ\, 85629\, United States
CATEGORIES:Families with Children Birth to Five
ATTACH;FMTTYPE=image/jpeg:https://pimaparenting.org/wp-content/uploads/2024/11/Sensory-at-SFB-2.0.jpg
ORGANIZER;CN="Laura Ontiveros-EBF":MAILTO:lontiveros@blake.easterseals.com
END:VEVENT
BEGIN:VEVENT
DTSTART;TZID=America/Phoenix:20260122T173000
DTEND;TZID=America/Phoenix:20260122T193000
DTSTAMP:20260423T141010
CREATED:20251222T161130Z
LAST-MODIFIED:20251222T161130Z
UID:10004344-1769103000-1769110200@pimaparenting.org
SUMMARY:FORMAS DE MEJORAR EL DESARROLLO POSITIVO DEL CEREBRO/CLASE VIRTUAL
DESCRIPTION:Los padres adquieren una comprension de los cambios de desarrollo que ocurren en los cerebros de los ninos pequenos y adolescentes y las tecnicas que los padres pueden utilizar para mejorar ese desarrollo. \nRegístrate en Ways to Enhance Positive Brain Development- Spanish ⋆ Casa de los Niños
URL:https://pimaparenting.org/event/formas-de-mejorar-el-desarrollo-positivo-del-cerebro-clase-virtual/
LOCATION:Family Resource Center at Sahuarita Food Bank\, 17750 S. La Canada\, Sahuarita\, AZ\, 85629\, United States
CATEGORIES:All Caregivers,Families with Children Birth to Five
ATTACH;FMTTYPE=image/jpeg:https://pimaparenting.org/wp-content/uploads/2024/03/Casa-logo.jpg
ORGANIZER;CN="Casa de los Ninos":MAILTO:cbolger@casadelosninos.org
END:VEVENT
BEGIN:VEVENT
DTSTART;TZID=America/Phoenix:20260122T173000
DTEND;TZID=America/Phoenix:20260122T193000
DTSTAMP:20260423T141010
CREATED:20251222T161210Z
LAST-MODIFIED:20251222T161210Z
UID:10004345-1769103000-1769110200@pimaparenting.org
SUMMARY:FORMAS DE MEJORAR EL DESARROLLO POSITIVO DEL CEREBRO/CLASE VIRTUAL
DESCRIPTION:Los padres adquieren una comprension de los cambios de desarrollo que ocurren en los cerebros de los ninos pequenos y adolescentes y las tecnicas que los padres pueden utilizar para mejorar ese desarrollo. \nRegístrate en Ways to Enhance Positive Brain Development- Spanish ⋆ Casa de los Niños
URL:https://pimaparenting.org/event/formas-de-mejorar-el-desarrollo-positivo-del-cerebro-clase-virtual-2/
LOCATION:Family Resource Center at Robles Elementary\, 9875 S Sasabe Rd\, Tucson\, AZ\, 85736\, United States
CATEGORIES:All Caregivers,Families with Children Birth to Five
ATTACH;FMTTYPE=image/jpeg:https://pimaparenting.org/wp-content/uploads/2024/03/Casa-logo.jpg
ORGANIZER;CN="Casa de los Ninos":MAILTO:cbolger@casadelosninos.org
END:VEVENT
BEGIN:VEVENT
DTSTART;TZID=America/Phoenix:20260122T173000
DTEND;TZID=America/Phoenix:20260122T193000
DTSTAMP:20260423T141010
CREATED:20251222T161227Z
LAST-MODIFIED:20251222T161227Z
UID:10004346-1769103000-1769110200@pimaparenting.org
SUMMARY:FORMAS DE MEJORAR EL DESARROLLO POSITIVO DEL CEREBRO/CLASE VIRTUAL
DESCRIPTION:Los padres adquieren una comprension de los cambios de desarrollo que ocurren en los cerebros de los ninos pequenos y adolescentes y las tecnicas que los padres pueden utilizar para mejorar ese desarrollo. \nRegístrate en Ways to Enhance Positive Brain Development- Spanish ⋆ Casa de los Niños
URL:https://pimaparenting.org/event/formas-de-mejorar-el-desarrollo-positivo-del-cerebro-clase-virtual-3/
LOCATION:Family Resource Center at Los Ranchitos\, 2054 E Ginter Rd\, Tucson\, AZ\, 85706\, United States
CATEGORIES:All Caregivers,Families with Children Birth to Five
ATTACH;FMTTYPE=image/jpeg:https://pimaparenting.org/wp-content/uploads/2024/03/Casa-logo.jpg
ORGANIZER;CN="Casa de los Ninos":MAILTO:cbolger@casadelosninos.org
END:VEVENT
END:VCALENDAR