BEGIN:VCALENDAR
VERSION:2.0
PRODID:-//Pima County Parenting Coalition - ECPv6.15.16.1//NONSGML v1.0//EN
CALSCALE:GREGORIAN
METHOD:PUBLISH
X-WR-CALNAME:Pima County Parenting Coalition
X-ORIGINAL-URL:https://pimaparenting.org
X-WR-CALDESC:Events for Pima County Parenting Coalition
REFRESH-INTERVAL;VALUE=DURATION:PT1H
X-Robots-Tag:noindex
X-PUBLISHED-TTL:PT1H
BEGIN:VTIMEZONE
TZID:America/Phoenix
BEGIN:STANDARD
TZOFFSETFROM:-0700
TZOFFSETTO:-0700
TZNAME:MST
DTSTART:20250101T000000
END:STANDARD
END:VTIMEZONE
BEGIN:VEVENT
DTSTART;TZID=America/Phoenix:20260123T100000
DTEND;TZID=America/Phoenix:20260123T110000
DTSTAMP:20260423T172754
CREATED:20251219T223012Z
LAST-MODIFIED:20251219T223012Z
UID:10004279-1769162400-1769166000@pimaparenting.org
SUMMARY:Stay & Play- Family Resource Center at Los Ranchitos
DESCRIPTION:Play is the best avenue for learning! Children 0-5 years of age and their grownups will play and socialize together with a variety of materials selected to enhance all areas of development. We focus specifically on social skills\, literacy\, and communication.
URL:https://pimaparenting.org/event/stay-play-family-resource-center-at-los-ranchitos-5/
LOCATION:Family Resource Center at Los Ranchitos\, 2054 E Ginter Rd\, Tucson\, AZ\, 85706\, United States
CATEGORIES:Families with Children Birth to Five
ATTACH;FMTTYPE=image/jpeg:https://pimaparenting.org/wp-content/uploads/2024/12/Stay-and-Play-at-SUSD-2.0.jpg
ORGANIZER;CN="Lela Messick-UWTSA":MAILTO:lmessick@unitedwaytucson.org
END:VEVENT
BEGIN:VEVENT
DTSTART;TZID=America/Phoenix:20260123T100000
DTEND;TZID=America/Phoenix:20260123T110000
DTSTAMP:20260423T172754
CREATED:20251221T203556Z
LAST-MODIFIED:20251221T203556Z
UID:10004319-1769162400-1769166000@pimaparenting.org
SUMMARY:Story School Session 2: The Joy of Sharing Books and Stories
DESCRIPTION:STORY SCHOOL  \nStory School is a fun\, family-centered early literacy program for families with children ages 0–5. Caregivers learn how to support their child’s reading growth while building school readiness. Families enjoy music\, movement\, and hands-on literacy activities together—and receive up to 22 free books to build a home library. Families are encouraged to join us for all 12 sessions to get the most out of this shared learning experience. \nVisit www.mystoryschool.org/apply to register today! \nSession 1    Program Overview \nSession 2     The Joy of Sharing Books and Stories \nSession 3    The Magic of Sharing Stories and Reading \nSession 4     The Superpower of Vocabulary \nSession 5    Building your Child’s Word Power \nSession 6      Let’s Play with the Sounds of Language \nSession 7    Discovering the Rhythm and Sounds of Words \nSession 8    ABCs- Shapes to Symbols to Letters \nSession 9     ABCs- Transforming Shapes into Symbols and Alphabet Letters \nSession 10  Making Books Come Alive \nSession 11  Turning Every Book Into an Adventure \nSession 12 Celebration \n. \nVisit www.mystoryschool.org/apply to register today! \n  \n  \n  \n 
URL:https://pimaparenting.org/event/story-school-session-2-the-joy-of-sharing-books-and-stories-2/
LOCATION:Family Resource Center at Robles Elementary\, 9875 S Sasabe Rd\, Tucson\, AZ\, 85736\, United States
CATEGORIES:Families with Children Birth to Five
ATTACH;FMTTYPE=image/jpeg:https://pimaparenting.org/wp-content/uploads/2024/11/Story-School-at-AVSD-2.0.jpg
ORGANIZER;CN="Nando Trujillo-MWFB":MAILTO:nando@makewayforbooks.org
END:VEVENT
BEGIN:VEVENT
DTSTART;TZID=America/Phoenix:20260123T103000
DTEND;TZID=America/Phoenix:20260123T113000
DTSTAMP:20260423T172754
CREATED:20251217T001010Z
LAST-MODIFIED:20251217T002138Z
UID:10004206-1769164200-1769167800@pimaparenting.org
SUMMARY:Baby Signs Too
DESCRIPTION:Come join Parent Aid and Amanda for a great opportunity to learn sign language with your little one! Learn how to enhance early communication skills\, reduce tantrums\, and promote language development with the addition to nurturing your bond and understanding your child’s needs. Baby Signs Too is designed to be used with families with hearing infants and toddlers. \nRegistration is FREE! \nPlease note: Videos are used in class to support instruction and curriculum
URL:https://pimaparenting.org/event/baby-signs-too-19/
LOCATION:Family Resource Center at Sahuarita Food Bank\, 17750 S. La Canada\, Sahuarita\, AZ\, 85629\, United States
CATEGORIES:All Caregivers,Families with Children Birth to Five
ATTACH;FMTTYPE=image/jpeg:https://pimaparenting.org/wp-content/uploads/2024/11/BST-at-SFB-2.0.jpg
ORGANIZER;CN="Amanda Ward McNeal- PA":MAILTO:amanda@parentaid.org
END:VEVENT
BEGIN:VEVENT
DTSTART;TZID=America/Phoenix:20260123T113000
DTEND;TZID=America/Phoenix:20260123T123000
DTSTAMP:20260423T172754
CREATED:20251219T191328Z
LAST-MODIFIED:20251219T191328Z
UID:10004244-1769167800-1769171400@pimaparenting.org
SUMMARY:Happy Hour: Family Playtime
DESCRIPTION:Join Amanda at Parent Aid for a playful\, stress-free hour of connection\, creativity\, and community! Happy Hour: Family Playtime is a warm and welcoming space where parents and children explore the joy of free play — together. \nThis interactive experience helps little ones build important social skills while giving parents the chance to connect with one another\, share experiences\, and step into their child’s world through play. It’s a perfect blend of bonding\, support\, and fun — no agenda\, no pressure\, just quality time. \n✨ Meet other parents\n🧸 Support your child’s growth through play\n💬 Enjoy thoughtful conversations in a relaxed environment \nCome as you are — stay for the smiles.\nBecause connection is the real happy hour.
URL:https://pimaparenting.org/event/happy-hour-family-playtime-17/
LOCATION:Family Resource Center at Sahuarita Food Bank\, 17750 S. La Canada\, Sahuarita\, AZ\, 85629\, United States
CATEGORIES:Families with Children Birth to Five
ATTACH;FMTTYPE=image/png:https://pimaparenting.org/wp-content/uploads/2025/07/Happy-Hour-at-SFB.png
ORGANIZER;CN="Amanda Ward McNeal- PA":MAILTO:amanda@parentaid.org
END:VEVENT
BEGIN:VEVENT
DTSTART;TZID=America/Phoenix:20260123T130000
DTEND;TZID=America/Phoenix:20260123T140000
DTSTAMP:20260423T172754
CREATED:20251219T221945Z
LAST-MODIFIED:20251219T222434Z
UID:10004278-1769173200-1769176800@pimaparenting.org
SUMMARY:Musical Expressions
DESCRIPTION:This class will encourage children to artistically express what they feel through music onto paper and through fun dance moves. Art and music invigorate young children’s minds to be creative\, imaginative\, expressive\, confident\, engaged and so much more!
URL:https://pimaparenting.org/event/musical-expressions-7/
LOCATION:Family Resource Center at Robles Elementary\, 9875 S Sasabe Rd\, Tucson\, AZ\, 85736\, United States
CATEGORIES:Families with Children Birth to Five
ATTACH;FMTTYPE=image/jpeg:https://pimaparenting.org/wp-content/uploads/2024/11/Music-Exp-at-AVSD-2.0.jpg
ORGANIZER;CN="Nataly Quiroz- UACE":MAILTO:natalyquiroz@arizona.edu
END:VEVENT
BEGIN:VEVENT
DTSTART;TZID=America/Phoenix:20260123T133000
DTEND;TZID=America/Phoenix:20260123T143000
DTSTAMP:20260423T172754
CREATED:20251221T200914Z
LAST-MODIFIED:20251221T200914Z
UID:10004306-1769175000-1769178600@pimaparenting.org
SUMMARY:Story School Session 2: The Joy of Sharing Books and Stories
DESCRIPTION:STORY SCHOOL  \nStory School is a fun\, family-centered early literacy program for families with children ages 0–5. Caregivers learn how to support their child’s reading growth while building school readiness. Families enjoy music\, movement\, and hands-on literacy activities together—and receive up to 22 free books to build a home library. Families are encouraged to join us for all 12 sessions to get the most out of this shared learning experience. \nVisit www.mystoryschool.org/apply to register today! \nSession 1    Program Overview \nSession 2     The Joy of Sharing Books and Stories \nSession 3    The Magic of Sharing Stories and Reading \nSession 4     The Superpower of Vocabulary \nSession 5    Building your Child’s Word Power \nSession 6      Let’s Play with the Sounds of Language \nSession 7    Discovering the Rhythm and Sounds of Words \nSession 8    ABCs- Shapes to Symbols to Letters \nSession 9     ABCs- Transforming Shapes into Symbols and Alphabet Letters \nSession 10  Making Books Come Alive \nSession 11  Turning Every Book Into an Adventure \nSession 12 Celebration \n. \nVisit www.mystoryschool.org/apply to register today! \n  \n  \n  \n 
URL:https://pimaparenting.org/event/story-school-session-2-the-joy-of-sharing-books-and-stories/
LOCATION:Family Resource Center at Sahuarita Food Bank\, 17750 S. La Canada\, Sahuarita\, AZ\, 85629\, United States
CATEGORIES:Families with Children Birth to Five
ATTACH;FMTTYPE=image/jpeg:https://pimaparenting.org/wp-content/uploads/2024/11/Story-School-at-SFB-2.0.jpg
ORGANIZER;CN="Nando Trujillo-MWFB":MAILTO:nando@makewayforbooks.org
END:VEVENT
END:VCALENDAR