BEGIN:VCALENDAR
VERSION:2.0
PRODID:-//Pima County Parenting Coalition - ECPv6.15.16.1//NONSGML v1.0//EN
CALSCALE:GREGORIAN
METHOD:PUBLISH
X-ORIGINAL-URL:https://pimaparenting.org
X-WR-CALDESC:Events for Pima County Parenting Coalition
REFRESH-INTERVAL;VALUE=DURATION:PT1H
X-Robots-Tag:noindex
X-PUBLISHED-TTL:PT1H
BEGIN:VTIMEZONE
TZID:America/Phoenix
BEGIN:STANDARD
TZOFFSETFROM:-0700
TZOFFSETTO:-0700
TZNAME:MST
DTSTART:20250101T000000
END:STANDARD
END:VTIMEZONE
BEGIN:VEVENT
DTSTART;TZID=America/Phoenix:20260203T090000
DTEND;TZID=America/Phoenix:20260203T103000
DTSTAMP:20260423T093347
CREATED:20251119T225611Z
LAST-MODIFIED:20260119T002558Z
UID:10004090-1770109200-1770114600@pimaparenting.org
SUMMARY:Stay & Play Preschool - Fun with Math & Science
DESCRIPTION:Join our Stay & Play Preschool class — Fun with Math & Science — designed for families with children ages 3 to 5! This engaging program invites grownups and little ones to explore math and science concepts using a diverse range of materials in an interactive\, playful way. \nBased on Arizona’s Early Learning Standards for Math and Science\, this class introduces concepts and strategies you can use with your child to help build and strengthen their mathematical and scientific thinking skills. All of this happens in a supportive environment where children can explore\, learn\, and make new friends. \nCome enjoy quality time while helping your child thrive in their early learning journey! \n  \n 
URL:https://pimaparenting.org/event/stay-play-preschool-fun-with-math-science-7/
LOCATION:Family Resource Center at Sahuarita Food Bank\, 17750 S. La Canada\, Sahuarita\, AZ\, 85629\, United States
CATEGORIES:Families with Children Birth to Five
ATTACH;FMTTYPE=image/jpeg:https://pimaparenting.org/wp-content/uploads/2024/12/Stay-and-Play-at-SUSD-2.0.jpg
ORGANIZER;CN="Lela Messick-UWTSA":MAILTO:lmessick@unitedwaytucson.org
END:VEVENT
BEGIN:VEVENT
DTSTART;TZID=America/Phoenix:20260203T090000
DTEND;TZID=America/Phoenix:20260203T103000
DTSTAMP:20260423T093347
CREATED:20260118T222157Z
LAST-MODIFIED:20260118T222157Z
UID:10004396-1770109200-1770114600@pimaparenting.org
SUMMARY:Kinship & Foster Parent Cafe
DESCRIPTION:A welcoming space for kinship and foster caregivers to connect with others who share similar experiences. Together\, participants offer encouragement\, comfort\, and practical resources. Each gathering includes a basic support item provided by Aviva Children’s Services. Children ages 0–5 are welcome.
URL:https://pimaparenting.org/event/kinship-foster-parent-cafe-4/
LOCATION:Family Resource Center at Robles Elementary\, 9875 S Sasabe Rd\, Tucson\, AZ\, 85736\, United States
CATEGORIES:Families with Children Birth to Five
ATTACH;FMTTYPE=image/png:https://pimaparenting.org/wp-content/uploads/2025/10/EBF-Aviva.png
ORGANIZER;CN="Christina Greenberg":MAILTO:cgreenberg@avivatucson.org
END:VEVENT
BEGIN:VEVENT
DTSTART;TZID=America/Phoenix:20260203T103000
DTEND;TZID=America/Phoenix:20260203T113000
DTSTAMP:20260423T093347
CREATED:20260118T160015Z
LAST-MODIFIED:20260118T160015Z
UID:10004354-1770114600-1770118200@pimaparenting.org
SUMMARY:Fine Arts for Kids
DESCRIPTION:This fun and interactive class for children and their parents or caregivers is packed with creative activities designed to help little ones develop important life skills like focus\, self-control\, and communication—all while having a great time together!
URL:https://pimaparenting.org/event/fine-arts-for-kids-15/
LOCATION:Family Resource Center at Sahuarita Food Bank\, 17750 S. La Canada\, Sahuarita\, AZ\, 85629\, United States
CATEGORIES:Families with Children Birth to Five
ATTACH;FMTTYPE=image/jpeg:https://pimaparenting.org/wp-content/uploads/2024/11/Fine-Arts-at-SFB-2.0.jpg
ORGANIZER;CN="Stephaine Carl - UACE":MAILTO:sacarl@arizona.edu
END:VEVENT
BEGIN:VEVENT
DTSTART;TZID=America/Phoenix:20260203T103000
DTEND;TZID=America/Phoenix:20260203T113000
DTSTAMP:20260423T093347
CREATED:20260118T222324Z
LAST-MODIFIED:20260118T222324Z
UID:10004397-1770114600-1770118200@pimaparenting.org
SUMMARY:Baby Signs Too
DESCRIPTION:Come join Parent Aid and Vanessa for a great opportunity to learn sign language with your little one! Learn how to enhance early communication skills\, reduce tantrums\, and promote language development with the addition to nurturing your bond and understanding your child’s needs. Baby Signs Too is designed to be used with families with hearing infants and toddlers. \nRegistration is FREE! \nClass is offered in-person at the Family Resource Center at Robles Elementary. \nWe look forward to seeing you there!
URL:https://pimaparenting.org/event/baby-signs-too-21/
LOCATION:Family Resource Center at Robles Elementary\, 9875 S Sasabe Rd\, Tucson\, AZ\, 85736\, United States
CATEGORIES:All Caregivers,Families with Children Birth to Five
ATTACH;FMTTYPE=image/jpeg:https://pimaparenting.org/wp-content/uploads/2024/11/BST-at-AVSD-2.0.jpg
ORGANIZER;CN="Vanessa Batson- PA":MAILTO:vanessa@parentaid.org
END:VEVENT
BEGIN:VEVENT
DTSTART;TZID=America/Phoenix:20260203T110000
DTEND;TZID=America/Phoenix:20260203T120000
DTSTAMP:20260423T093347
CREATED:20251217T204956Z
LAST-MODIFIED:20251217T204956Z
UID:10004215-1770116400-1770120000@pimaparenting.org
SUMMARY:Trauma-Informed Rx 360 Substance Misuse and Naloxone training
DESCRIPTION:Learn how toxic stress and trauma impacts the brain.  Learn about the connection between trauma and substance misuse.  Learn how to use Narcan to reverse an opioid overdose.
URL:https://pimaparenting.org/event/trauma-informed-rx-360-substance-misuse-and-naloxone-training-9/2026-02-03/
LOCATION:Zoom\, Arizona
CATEGORIES:All Caregivers,Behavioral Health,Families with Children Birth to Five,Families with School-aged (6-12) Children,Families with Teens,Foster Parents,Grandparents Raising Kids,Providers
ATTACH;FMTTYPE=image/png:https://pimaparenting.org/wp-content/uploads/2025/12/Trauma-Informed-Rx360-February.png
END:VEVENT
BEGIN:VEVENT
DTSTART;TZID=America/Phoenix:20260203T173000
DTEND;TZID=America/Phoenix:20260203T193000
DTSTAMP:20260423T093347
CREATED:20260118T235006Z
LAST-MODIFIED:20260118T235006Z
UID:10004438-1770139800-1770147000@pimaparenting.org
SUMMARY:Raising a Confident Child/ VIRTUAL CLASS
DESCRIPTION:This topic is from the Nurturing Parenting Program \nHow does your child feel about himself or herself? Parents are provided with tools to promote their child’s development and positive self-esteem. \nRegister at Raising a Confident Child ⋆ Casa de los Niños
URL:https://pimaparenting.org/event/raising-a-confident-child-virtual-class-4/
LOCATION:Family Resource Center at Los Ranchitos\, 2054 E Ginter Rd\, Tucson\, AZ\, 85706\, United States
CATEGORIES:Families with Children Birth to Five
ATTACH;FMTTYPE=image/jpeg:https://pimaparenting.org/wp-content/uploads/2024/03/Casa-logo.jpg
ORGANIZER;CN="Casa de los Ninos":MAILTO:cbolger@casadelosninos.org
END:VEVENT
BEGIN:VEVENT
DTSTART;TZID=America/Phoenix:20260203T173000
DTEND;TZID=America/Phoenix:20260203T193000
DTSTAMP:20260423T093347
CREATED:20260118T235057Z
LAST-MODIFIED:20260118T235057Z
UID:10004439-1770139800-1770147000@pimaparenting.org
SUMMARY:Raising a Confident Child/ VIRTUAL CLASS
DESCRIPTION:This topic is from the Nurturing Parenting Program \nHow does your child feel about himself or herself? Parents are provided with tools to promote their child’s development and positive self-esteem. \nRegister at Raising a Confident Child ⋆ Casa de los Niños
URL:https://pimaparenting.org/event/raising-a-confident-child-virtual-class-5/
LOCATION:Family Resource Center at Robles Elementary\, 9875 S Sasabe Rd\, Tucson\, AZ\, 85736\, United States
CATEGORIES:Families with Children Birth to Five
ATTACH;FMTTYPE=image/jpeg:https://pimaparenting.org/wp-content/uploads/2024/03/Casa-logo.jpg
ORGANIZER;CN="Casa de los Ninos":MAILTO:cbolger@casadelosninos.org
END:VEVENT
BEGIN:VEVENT
DTSTART;TZID=America/Phoenix:20260203T173000
DTEND;TZID=America/Phoenix:20260203T193000
DTSTAMP:20260423T093347
CREATED:20260118T235142Z
LAST-MODIFIED:20260118T235142Z
UID:10004440-1770139800-1770147000@pimaparenting.org
SUMMARY:Raising a Confident Child/ VIRTUAL CLASS
DESCRIPTION:This topic is from the Nurturing Parenting Program \nHow does your child feel about himself or herself? Parents are provided with tools to promote their child’s development and positive self-esteem. \nRegister at Raising a Confident Child ⋆ Casa de los Niños
URL:https://pimaparenting.org/event/raising-a-confident-child-virtual-class-6/
LOCATION:Family Resource Center at Sahuarita Food Bank\, 17750 S. La Canada\, Sahuarita\, AZ\, 85629\, United States
CATEGORIES:Families with Children Birth to Five
ATTACH;FMTTYPE=image/jpeg:https://pimaparenting.org/wp-content/uploads/2024/03/Casa-logo.jpg
ORGANIZER;CN="Casa de los Ninos":MAILTO:cbolger@casadelosninos.org
END:VEVENT
END:VCALENDAR