BEGIN:VCALENDAR
VERSION:2.0
PRODID:-//Pima County Parenting Coalition - ECPv6.15.16.1//NONSGML v1.0//EN
CALSCALE:GREGORIAN
METHOD:PUBLISH
X-WR-CALNAME:Pima County Parenting Coalition
X-ORIGINAL-URL:https://pimaparenting.org
X-WR-CALDESC:Events for Pima County Parenting Coalition
REFRESH-INTERVAL;VALUE=DURATION:PT1H
X-Robots-Tag:noindex
X-PUBLISHED-TTL:PT1H
BEGIN:VTIMEZONE
TZID:America/Phoenix
BEGIN:STANDARD
TZOFFSETFROM:-0700
TZOFFSETTO:-0700
TZNAME:MST
DTSTART:20250101T000000
END:STANDARD
END:VTIMEZONE
BEGIN:VEVENT
DTSTART;TZID=America/Phoenix:20260204T090000
DTEND;TZID=America/Phoenix:20260204T100000
DTSTAMP:20260423T093659
CREATED:20260118T160204Z
LAST-MODIFIED:20260118T160204Z
UID:10004355-1770195600-1770199200@pimaparenting.org
SUMMARY:Fun Family Fitness
DESCRIPTION:Have fun getting fit with your child while building healthy habits for life! Enjoy playful movement\, games\, and bonding time in a supportive\, active class that makes fitness fun for the whole family. A great way to inspire a lifelong love of wellness—together!
URL:https://pimaparenting.org/event/fun-family-fitness-22/
LOCATION:Family Resource Center at Sahuarita Food Bank\, 17750 S. La Canada\, Sahuarita\, AZ\, 85629\, United States
CATEGORIES:Families with Children Birth to Five
ATTACH;FMTTYPE=image/jpeg:https://pimaparenting.org/wp-content/uploads/2024/11/FFF-at-SFB-2.0.jpg
ORGANIZER;CN="Julia with UWTSA":MAILTO:bootcampmama16@yahoo.com
END:VEVENT
BEGIN:VEVENT
DTSTART;TZID=America/Phoenix:20260204T093000
DTEND;TZID=America/Phoenix:20260204T113000
DTSTAMP:20260423T093659
CREATED:20251220T232531Z
LAST-MODIFIED:20260118T231315Z
UID:10004283-1770197400-1770204600@pimaparenting.org
SUMMARY:AÑOS INCREÍBLES CLASE #4-Estimulación Física y Visual (Esta serie tiene un total de 8 clases)
DESCRIPTION:Este programa está especialmente diseñado para padres de bebés de 0 a 9 meses. Proporciona estrategias valiosas para mejorar sus habilidades de crianza mientras apoya el desarrollo social\, emocional\, físico y cognitivo de su bebé para un buen comienzo en la vida. \nSe ofrece cuidado infantil para niños que caminan hasta los 5 años de edad. \nClase 1: Resumen del Programa \nClase 2: Convertirse en Padre \nClase 3: Comunicarse con el Bebé \nClase 4: Estimulación Física y Visual \nClase 5: Leer la Mente de los Bebés \nClase 6: Obtener Apoyo \nClase 7: Surgimiento del Sentido de Sí Mismo \nClase 8: Graduación
URL:https://pimaparenting.org/event/anos-increibles-clase-4-estimulacion-fisica-y-visual-esta-serie-tiene-un-total-de-8-clases-2/
LOCATION:Family Resource Center at Los Ranchitos\, 2054 E Ginter Rd\, Tucson\, AZ\, 85706\, United States
CATEGORIES:All Caregivers,Families with Children Birth to Five
ATTACH;FMTTYPE=image/jpeg:https://pimaparenting.org/wp-content/uploads/2024/11/IY-at-SUSD-2.0.jpg
ORGANIZER;CN="Laura Ontiveros-EBF":MAILTO:lontiveros@blake.easterseals.com
END:VEVENT
BEGIN:VEVENT
DTSTART;TZID=America/Phoenix:20260204T100000
DTEND;TZID=America/Phoenix:20260204T110000
DTSTAMP:20260423T093659
CREATED:20251217T205238Z
LAST-MODIFIED:20251217T205238Z
UID:10004217-1770199200-1770202800@pimaparenting.org
SUMMARY:The Dangers of Vaping
DESCRIPTION:Learn about the risks of e-cigarettes\, also known as “vapes.” Learn why youth are using vapes and ways to protect youth in your life.
URL:https://pimaparenting.org/event/the-dangers-of-vaping-3/2026-02-04/
LOCATION:Zoom\, Arizona
CATEGORIES:All Caregivers,Behavioral Health,Families with Children Birth to Five,Families with School-aged (6-12) Children,Families with Teens,Foster Parents,Grandparents Raising Kids,Providers
ATTACH;FMTTYPE=image/png:https://pimaparenting.org/wp-content/uploads/2025/12/Dangers-of-Vaping-February.png
END:VEVENT
BEGIN:VEVENT
DTSTART;TZID=America/Phoenix:20260204T100000
DTEND;TZID=America/Phoenix:20260204T110000
DTSTAMP:20260423T093659
CREATED:20251221T205141Z
LAST-MODIFIED:20251221T205141Z
UID:10004322-1770199200-1770202800@pimaparenting.org
SUMMARY:Story School Session 5: Building your Child’s Word Power
DESCRIPTION:STORY SCHOOL  \nStory School is a fun\, family-centered early literacy program for families with children ages 0–5. Caregivers learn how to support their child’s reading growth while building school readiness. Families enjoy music\, movement\, and hands-on literacy activities together—and receive up to 22 free books to build a home library. Families are encouraged to join us for all 12 sessions to get the most out of this shared learning experience. \nVisit www.mystoryschool.org/apply to register today! \nSession 1    Program Overview \nSession 2     The Joy of Sharing Books and Stories \nSession 3    The Magic of Sharing Stories and Reading \nSession 4     The Superpower of Vocabulary \nSession 5    Building your Child’s Word Power \nSession 6      Let’s Play with the Sounds of Language \nSession 7    Discovering the Rhythm and Sounds of Words \nSession 8    ABCs- Shapes to Symbols to Letters \nSession 9     ABCs- Transforming Shapes into Symbols and Alphabet Letters \nSession 10  Making Books Come Alive \nSession 11  Turning Every Book Into an Adventure \nSession 12 Celebration \n. \nVisit www.mystoryschool.org/apply to register today! \n  \n  \n  \n 
URL:https://pimaparenting.org/event/story-school-session-5-building-your-childs-word-power-2/
LOCATION:Family Resource Center at Robles Elementary\, 9875 S Sasabe Rd\, Tucson\, AZ\, 85736\, United States
CATEGORIES:Families with Children Birth to Five
ATTACH;FMTTYPE=image/jpeg:https://pimaparenting.org/wp-content/uploads/2024/11/Story-School-at-AVSD-2.0.jpg
ORGANIZER;CN="Nando Trujillo-MWFB":MAILTO:nando@makewayforbooks.org
END:VEVENT
BEGIN:VEVENT
DTSTART;TZID=America/Phoenix:20260204T103000
DTEND;TZID=America/Phoenix:20260204T113000
DTSTAMP:20260423T093659
CREATED:20260118T160638Z
LAST-MODIFIED:20260118T160638Z
UID:10004359-1770201000-1770204600@pimaparenting.org
SUMMARY:Kids Yoga
DESCRIPTION:Kids Yoga is an interactive activity for parents and children to connect with each other and their bodies.  A great and fun way to improve your child’s mobility\, and help them learn techniques to manage stress and emotions.
URL:https://pimaparenting.org/event/kids-yoga-10/
LOCATION:Family Resource Center at Sahuarita Food Bank\, 17750 S. La Canada\, Sahuarita\, AZ\, 85629\, United States
CATEGORIES:Families with Children Birth to Five
ATTACH;FMTTYPE=image/jpeg:https://pimaparenting.org/wp-content/uploads/2024/11/Yoga-at-SFB-2.0.jpg
ORGANIZER;CN="Stephaine Carl - UACE":MAILTO:sacarl@arizona.edu
END:VEVENT
BEGIN:VEVENT
DTSTART;TZID=America/Phoenix:20260204T130000
DTEND;TZID=America/Phoenix:20260204T140000
DTSTAMP:20260423T093659
CREATED:20260118T231713Z
LAST-MODIFIED:20260118T231713Z
UID:10004418-1770210000-1770213600@pimaparenting.org
SUMMARY:Kids in Motion
DESCRIPTION:Kids in Motion is an active and fun class that promotes your child’s gross motor skill development through energetic and exciting activities. \n  \nPlease note: Videos are used in class to support instruction and curriculum \n 
URL:https://pimaparenting.org/event/kids-in-motion-5/
LOCATION:Family Resource Center at Los Ranchitos\, 2054 E Ginter Rd\, Tucson\, AZ\, 85706\, United States
CATEGORIES:Families with Children Birth to Five
ATTACH;FMTTYPE=image/jpeg:https://pimaparenting.org/wp-content/uploads/2024/11/Kids-in-Motion-at-SUSD-2.0.jpg
ORGANIZER;CN="Garrett Lilly-Ramirez - UWTSA":MAILTO:gkidsinmotion@gmail.com
END:VEVENT
BEGIN:VEVENT
DTSTART;TZID=America/Phoenix:20260204T133000
DTEND;TZID=America/Phoenix:20260204T143000
DTSTAMP:20260423T093659
CREATED:20251221T201408Z
LAST-MODIFIED:20251221T201408Z
UID:10004309-1770211800-1770215400@pimaparenting.org
SUMMARY:Story School Session 5: Building your Child’s Word Power
DESCRIPTION:STORY SCHOOL  \nStory School is a fun\, family-centered early literacy program for families with children ages 0–5. Caregivers learn how to support their child’s reading growth while building school readiness. Families enjoy music\, movement\, and hands-on literacy activities together—and receive up to 22 free books to build a home library. Families are encouraged to join us for all 12 sessions to get the most out of this shared learning experience. \nVisit www.mystoryschool.org/apply to register today! \nSession 1    Program Overview \nSession 2     The Joy of Sharing Books and Stories \nSession 3    The Magic of Sharing Stories and Reading \nSession 4     The Superpower of Vocabulary \nSession 5    Building your Child’s Word Power \nSession 6      Let’s Play with the Sounds of Language \nSession 7    Discovering the Rhythm and Sounds of Words \nSession 8    ABCs- Shapes to Symbols to Letters \nSession 9     ABCs- Transforming Shapes into Symbols and Alphabet Letters \nSession 10  Making Books Come Alive \nSession 11  Turning Every Book Into an Adventure \nSession 12 Celebration \n. \nVisit www.mystoryschool.org/apply to register today! \n  \n  \n  \n 
URL:https://pimaparenting.org/event/story-school-session-5-building-your-childs-word-power/
LOCATION:Family Resource Center at Sahuarita Food Bank\, 17750 S. La Canada\, Sahuarita\, AZ\, 85629\, United States
CATEGORIES:Families with Children Birth to Five
ATTACH;FMTTYPE=image/jpeg:https://pimaparenting.org/wp-content/uploads/2024/11/Story-School-at-SFB-2.0.jpg
ORGANIZER;CN="Nando Trujillo-MWFB":MAILTO:nando@makewayforbooks.org
END:VEVENT
BEGIN:VEVENT
DTSTART;TZID=America/Phoenix:20260204T170000
DTEND;TZID=America/Phoenix:20260204T190000
DTSTAMP:20260423T093659
CREATED:20260122T190625Z
LAST-MODIFIED:20260122T190725Z
UID:10004471-1770224400-1770231600@pimaparenting.org
SUMMARY:Parent Village
DESCRIPTION:Join us for a 2-part series on February 2 and 4\, designed to help parents become effective advocates for themselves and their children.\nThese sessions will help you:\n\n\nBecome an agent of change\nDevelop leadership skills\nFeel empowered to make positive changes in your community\n\nTo register\, please visit the first class page here
URL:https://pimaparenting.org/event/parent-village-3/
LOCATION:Marana Food Bank and Community Resource Center\, 11734 W Grier Rd\, Marana\, 85653\, United States
CATEGORIES:Parent Village
ATTACH;FMTTYPE=image/png:https://pimaparenting.org/wp-content/uploads/2025/10/Parent-Villages-1-Ring-Logo-2.png
ORGANIZER;CN="Parent Village Southern Arizona":MAILTO:jaymier10@gmail.com
END:VEVENT
END:VCALENDAR