BEGIN:VCALENDAR
VERSION:2.0
PRODID:-//Pima County Parenting Coalition - ECPv6.15.16.1//NONSGML v1.0//EN
CALSCALE:GREGORIAN
METHOD:PUBLISH
X-ORIGINAL-URL:https://pimaparenting.org
X-WR-CALDESC:Events for Pima County Parenting Coalition
REFRESH-INTERVAL;VALUE=DURATION:PT1H
X-Robots-Tag:noindex
X-PUBLISHED-TTL:PT1H
BEGIN:VTIMEZONE
TZID:America/Phoenix
BEGIN:STANDARD
TZOFFSETFROM:-0700
TZOFFSETTO:-0700
TZNAME:MST
DTSTART:20250101T000000
END:STANDARD
END:VTIMEZONE
BEGIN:VEVENT
DTSTART;TZID=America/Phoenix:20260206T090000
DTEND;TZID=America/Phoenix:20260206T103000
DTSTAMP:20260423T093937
CREATED:20260118T233011Z
LAST-MODIFIED:20260118T233011Z
UID:10004427-1770368400-1770373800@pimaparenting.org
SUMMARY:Sunny Ranch Family Cafe
DESCRIPTION:Parents and caregivers can join us to share about the challenges and successes of raising their children\, provide support for each other\, discuss what they would like to see at the FRC\, and enjoy a nice time with each other. \nLos padres y cuidadores pueden unirse a nosotros para compartir sobre los desafíos y éxitos de criar a sus hijos\, brindarse apoyo mutuo\, discutir lo que les gustaría ver en el FRC y disfrutar de un momento agradable juntos.
URL:https://pimaparenting.org/event/sunny-ranch-family-cafe-5/
LOCATION:Family Resource Center at Los Ranchitos\, 2054 E Ginter Rd\, Tucson\, AZ\, 85706\, United States
CATEGORIES:Families with Children Birth to Five
ATTACH;FMTTYPE=image/jpeg:https://pimaparenting.org/wp-content/uploads/2024/11/Family-Cafe-at-SUSD-2.0.jpg
ORGANIZER;CN="Family Resource Center at Los Ranchitos":MAILTO:MyrnaL@susd12.org
END:VEVENT
BEGIN:VEVENT
DTSTART;TZID=America/Phoenix:20260206T100000
DTEND;TZID=America/Phoenix:20260206T110000
DTSTAMP:20260423T093937
CREATED:20251221T205238Z
LAST-MODIFIED:20260206T000453Z
UID:10004323-1770372000-1770375600@pimaparenting.org
SUMMARY:Story School Session 6: Let's Play with the Sounds of Language
DESCRIPTION:STORY SCHOOL  \nStory School is a fun\, family-centered early literacy program for families with children ages 0–5. Caregivers learn how to support their child’s reading growth while building school readiness. Families enjoy music\, movement\, and hands-on literacy activities together—and receive up to 22 free books to build a home library. Families are encouraged to join us for all 12 sessions to get the most out of this shared learning experience. \nSession 1    Program Overview \nSession 2     The Joy of Sharing Books and Stories \nSession 3    The Magic of Sharing Stories and Reading \nSession 4     The Superpower of Vocabulary \nSession 5    Building your Child’s Word Power \nSession 6      Let’s Play with the Sounds of Language \nSession 7    Discovering the Rhythm and Sounds of Words \nSession 8    ABCs- Shapes to Symbols to Letters \nSession 9     ABCs- Transforming Shapes into Symbols and Alphabet Letters \nSession 10  Making Books Come Alive \nSession 11  Turning Every Book Into an Adventure \nSession 12 Celebration \n. \n  \n  \n  \n  \n 
URL:https://pimaparenting.org/event/story-school-session-6-lets-play-with-the-sounds-of-language-2/
LOCATION:Family Resource Center at Robles Elementary\, 9875 S Sasabe Rd\, Tucson\, AZ\, 85736\, United States
CATEGORIES:Families with Children Birth to Five
ATTACH;FMTTYPE=image/jpeg:https://pimaparenting.org/wp-content/uploads/2024/11/Story-School-at-AVSD-2.0.jpg
ORGANIZER;CN="Nando Trujillo-MWFB":MAILTO:nando@makewayforbooks.org
END:VEVENT
BEGIN:VEVENT
DTSTART;TZID=America/Phoenix:20260206T103000
DTEND;TZID=America/Phoenix:20260206T113000
DTSTAMP:20260423T093937
CREATED:20260118T161522Z
LAST-MODIFIED:20260118T161522Z
UID:10004363-1770373800-1770377400@pimaparenting.org
SUMMARY:Cardio Beats: Family Drum Fitness
DESCRIPTION:Get ready to move\, groove\, and sweat — Cardio Beats is a high-energy\, family-friendly fitness class designed to bring parents and kids together through rhythm and movement! Led by Noah at Parent Aid\, this unique experience combines upbeat cardio exercises for adults with fun\, age-appropriate drumming for little ones\, creating a shared space for wellness and connection. \nWhether you’re looking to boost your energy\, bond with your child\, or just have a blast — this class is for you!\n👟 Wear comfy clothes and sneakers\n💧 Bring your water bottle\n🎶 And get ready to find your family rhythm! \nFREE in-person class at the Family Resource Center at the Sahuarita Food Bank.\nGot questions? Reach out to Noah — we’re happy to help! \nSpaces are limited — register today and join the beat!
URL:https://pimaparenting.org/event/cardio-beats-family-drum-fitness-16/
LOCATION:Family Resource Center at Sahuarita Food Bank\, 17750 S. La Canada\, Sahuarita\, AZ\, 85629\, United States
CATEGORIES:Families with Children Birth to Five
ATTACH;FMTTYPE=image/png:https://pimaparenting.org/wp-content/uploads/2025/07/Cardio-Beats-at-SFB.png
ORGANIZER;CN="Noah Paul - PA":MAILTO:noah@parentaid.org
END:VEVENT
BEGIN:VEVENT
DTSTART;TZID=America/Phoenix:20260206T110000
DTEND;TZID=America/Phoenix:20260206T120000
DTSTAMP:20260423T093937
CREATED:20260118T233750Z
LAST-MODIFIED:20260118T233750Z
UID:10004432-1770375600-1770379200@pimaparenting.org
SUMMARY:¡Descubre la asombrosa plasticidad de tu cerebro!
DESCRIPTION:Descubre la asombrosa plasticidad de tu cerebro y cómo la tecnología  está afectando la conducta\,psicología\,relaciones afectivas y sociales de nuestra niñez\, juventud y sociedad en general. A través de este taller entenderemos los síntomas\, consecuencias y soluciones a esta moderna epidemia.
URL:https://pimaparenting.org/event/descubre-la-asombrosa-plasticidad-de-tu-cerebro/
LOCATION:Family Resource Center at Los Ranchitos\, 2054 E Ginter Rd\, Tucson\, AZ\, 85706\, United States
CATEGORIES:Families with Children Birth to Five
ATTACH;FMTTYPE=image/png:https://pimaparenting.org/wp-content/uploads/2025/07/Parent-Aid-Logo_Vertical_FULL-COLOR.png
ORGANIZER;CN="Martha Luz with Parent Aid":MAILTO:marthaluz@parentaid.org
END:VEVENT
BEGIN:VEVENT
DTSTART;TZID=America/Phoenix:20260206T133000
DTEND;TZID=America/Phoenix:20260206T143000
DTSTAMP:20260423T093937
CREATED:20251221T201510Z
LAST-MODIFIED:20260205T225359Z
UID:10004310-1770384600-1770388200@pimaparenting.org
SUMMARY:Story School Session 6: Let's Play with the Sounds of Language
DESCRIPTION:STORY SCHOOL  \nStory School is a fun\, family-centered early literacy program for families with children ages 0–5. Caregivers learn how to support their child’s reading growth while building school readiness. Families enjoy music\, movement\, and hands-on literacy activities together—and receive up to 22 free books to build a home library. Families are encouraged to join us for all 12 sessions to get the most out of this shared learning experience. \nSession 1    Program Overview \nSession 2     The Joy of Sharing Books and Stories \nSession 3    The Magic of Sharing Stories and Reading \nSession 4     The Superpower of Vocabulary \nSession 5    Building your Child’s Word Power \nSession 6      Let’s Play with the Sounds of Language \nSession 7    Discovering the Rhythm and Sounds of Words \nSession 8    ABCs- Shapes to Symbols to Letters \nSession 9     ABCs- Transforming Shapes into Symbols and Alphabet Letters \nSession 10  Making Books Come Alive \nSession 11  Turning Every Book Into an Adventure \nSession 12 Celebration \n. \n  \n  \n  \n  \n 
URL:https://pimaparenting.org/event/story-school-session-6-lets-play-with-the-sounds-of-language/
LOCATION:Family Resource Center at Sahuarita Food Bank\, 17750 S. La Canada\, Sahuarita\, AZ\, 85629\, United States
CATEGORIES:Families with Children Birth to Five
ATTACH;FMTTYPE=image/jpeg:https://pimaparenting.org/wp-content/uploads/2024/11/Story-School-at-SFB-2.0.jpg
ORGANIZER;CN="Nando Trujillo-MWFB":MAILTO:nando@makewayforbooks.org
END:VEVENT
BEGIN:VEVENT
DTSTART;TZID=America/Phoenix:20260206T140000
DTEND;TZID=America/Phoenix:20260206T150000
DTSTAMP:20260423T093937
CREATED:20260118T223029Z
LAST-MODIFIED:20260118T223029Z
UID:10004402-1770386400-1770390000@pimaparenting.org
SUMMARY:Move and Groove Playtime
DESCRIPTION:This interactive class for children ages 2-5 and their parents. Through music\, dancing\, and playful movement\, kids develop coordination\, balance\, and creativity while strengthening their bond with parents. Colorful props and lively tunes make each session exciting and engaging\, promoting physical development and social skills in a safe\, supportive environment. Perfect for little ones who love to move and groove!
URL:https://pimaparenting.org/event/move-and-groove-playtime/
LOCATION:Family Resource Center at Robles Elementary\, 9875 S Sasabe Rd\, Tucson\, AZ\, 85736\, United States
CATEGORIES:Families with Children Birth to Five
ATTACH;FMTTYPE=image/jpeg:https://pimaparenting.org/wp-content/uploads/2024/11/Family-Resource-Center-Logo-1.jpg
ORGANIZER;CN="Maggie McKiernan - UWTSA":MAILTO:mggqt.2010@gmail.com
END:VEVENT
END:VCALENDAR