BEGIN:VCALENDAR
VERSION:2.0
PRODID:-//Pima County Parenting Coalition - ECPv6.15.16.1//NONSGML v1.0//EN
CALSCALE:GREGORIAN
METHOD:PUBLISH
X-ORIGINAL-URL:https://pimaparenting.org
X-WR-CALDESC:Events for Pima County Parenting Coalition
REFRESH-INTERVAL;VALUE=DURATION:PT1H
X-Robots-Tag:noindex
X-PUBLISHED-TTL:PT1H
BEGIN:VTIMEZONE
TZID:America/Phoenix
BEGIN:STANDARD
TZOFFSETFROM:-0700
TZOFFSETTO:-0700
TZNAME:MST
DTSTART:20250101T000000
END:STANDARD
END:VTIMEZONE
BEGIN:VEVENT
DTSTART;TZID=America/Phoenix:20260210T103000
DTEND;TZID=America/Phoenix:20260210T113000
DTSTAMP:20260423T093347
CREATED:20260118T191319Z
LAST-MODIFIED:20260118T191319Z
UID:10004379-1770719400-1770723000@pimaparenting.org
SUMMARY:Wonders of the Desert: Nature Play & Storytime
DESCRIPTION:Wonders of the Desert: Nature Play & Storytime: Sun and Shadows \nWonders of the Desert invites children ages 2–5 their caregivers to explore nature through playful\, hands-on outdoor activities led by a trained educator. Each session includes engaging experiences like digging\, building\, and crafting\, plus a themed Storytime. Families also receive a bilingual activity page to continue learning at home. \nSun and Shadows: Children and caregivers learn how the sun creates shadows and how these change throughout the day in the desert. They explore light and shadow patterns\, develop observation skills\, and gain a hands-on understanding of the sun’s role in the environment. This experience encourages curiosity about nature and how the desert changes with sunlight.
URL:https://pimaparenting.org/event/wonders-of-the-desert-nature-play-storytime-28/
LOCATION:Family Resource Center at Los Ranchitos\, 2054 E Ginter Rd\, Tucson\, AZ\, 85706\, United States
CATEGORIES:Families with Children Birth to Five
ATTACH;FMTTYPE=image/png:https://pimaparenting.org/wp-content/uploads/2025/07/Wonders-of-the-Desert-at-SUSD.png
ORGANIZER;CN="Debi Morgan":MAILTO:debimorgan4@gmail.com
END:VEVENT
BEGIN:VEVENT
DTSTART;TZID=America/Phoenix:20260210T103000
DTEND;TZID=America/Phoenix:20260210T113000
DTSTAMP:20260423T093347
CREATED:20260118T222418Z
LAST-MODIFIED:20260118T222418Z
UID:10004398-1770719400-1770723000@pimaparenting.org
SUMMARY:Baby Signs Too
DESCRIPTION:Come join Parent Aid and Vanessa for a great opportunity to learn sign language with your little one! Learn how to enhance early communication skills\, reduce tantrums\, and promote language development with the addition to nurturing your bond and understanding your child’s needs. Baby Signs Too is designed to be used with families with hearing infants and toddlers. \nRegistration is FREE! \nClass is offered in-person at the Family Resource Center at Robles Elementary. \nWe look forward to seeing you there!
URL:https://pimaparenting.org/event/baby-signs-too-22/
LOCATION:Family Resource Center at Robles Elementary\, 9875 S Sasabe Rd\, Tucson\, AZ\, 85736\, United States
CATEGORIES:All Caregivers,Families with Children Birth to Five
ATTACH;FMTTYPE=image/jpeg:https://pimaparenting.org/wp-content/uploads/2024/11/BST-at-AVSD-2.0.jpg
ORGANIZER;CN="Vanessa Batson- PA":MAILTO:vanessa@parentaid.org
END:VEVENT
BEGIN:VEVENT
DTSTART;TZID=America/Phoenix:20260210T113000
DTEND;TZID=America/Phoenix:20260210T123000
DTSTAMP:20260423T093347
CREATED:20260118T223524Z
LAST-MODIFIED:20260118T223524Z
UID:10004406-1770723000-1770726600@pimaparenting.org
SUMMARY:Happy Hour: Family Playtime
DESCRIPTION:Join Vanessa at Parent Aid for a playful\, stress-free hour of connection\, creativity\, and community! Happy Hour: Family Playtime is a warm and welcoming space where parents and children explore the joy of free play — together. \nThis interactive experience helps little ones build important social skills while giving parents the chance to connect with one another\, share experiences\, and step into their child’s world through play. It’s a perfect blend of bonding\, support\, and fun — no agenda\, no pressure\, just quality time. \n✨ Meet other parents\n🧸 Support your child’s growth through play\n💬 Enjoy thoughtful conversations in a relaxed environment \nCome as you are — stay for the smiles.\nBecause connection is the real happy hour.
URL:https://pimaparenting.org/event/happy-hour-family-playtime-22/
LOCATION:Family Resource Center at Robles Elementary\, 9875 S Sasabe Rd\, Tucson\, AZ\, 85736\, United States
CATEGORIES:Families with Children Birth to Five
ATTACH;FMTTYPE=image/png:https://pimaparenting.org/wp-content/uploads/2025/07/Happy-Hour-at-AVSD.png
ORGANIZER;CN="Vanessa Batson- PA":MAILTO:vanessa@parentaid.org
END:VEVENT
BEGIN:VEVENT
DTSTART;TZID=America/Phoenix:20260210T130000
DTEND;TZID=America/Phoenix:20260210T140000
DTSTAMP:20260423T093347
CREATED:20260118T223746Z
LAST-MODIFIED:20260118T223746Z
UID:10004408-1770728400-1770732000@pimaparenting.org
SUMMARY:Fine Arts for Kids
DESCRIPTION:This fun and interactive class for children and their parents or caregivers is packed with creative activities designed to help little ones develop important life skills like focus\, self-control\, and communication—all while having a great time together!
URL:https://pimaparenting.org/event/fine-arts-for-kids-16/
LOCATION:Family Resource Center at Robles Elementary\, 9875 S Sasabe Rd\, Tucson\, AZ\, 85736\, United States
CATEGORIES:Families with Children Birth to Five
ATTACH;FMTTYPE=image/jpeg:https://pimaparenting.org/wp-content/uploads/2024/11/Fine-Arts-at-AVSD-2.0.jpg
ORGANIZER;CN="Stephaine Carl - UACE":MAILTO:sacarl@arizona.edu
END:VEVENT
BEGIN:VEVENT
DTSTART;TZID=America/Phoenix:20260210T173000
DTEND;TZID=America/Phoenix:20260210T193000
DTSTAMP:20260423T093347
CREATED:20260118T235815Z
LAST-MODIFIED:20260119T000020Z
UID:10004444-1770744600-1770751800@pimaparenting.org
SUMMARY:Recognizing & Understanding Children’s Feelings/ VIRTUAL CLASS
DESCRIPTION:This class is from the Nurturing Parenting Program \nHow we prepare our children to handle their feelings will\, likely\, affect the quality of their life more than just about any other element of parenting. The goal of this class is to increase empathetic responses to children’s feelings. \nThis class is hybrid- you may attend in-person OR virtually. \nThis class is made possible by: First Things First \n  \nRegister at Understanding Feelings ⋆ Casa de los Niños
URL:https://pimaparenting.org/event/recognizing-understanding-childrens-feelings-virtual-class-4/
LOCATION:Family Resource Center at Los Ranchitos\, 2054 E Ginter Rd\, Tucson\, AZ\, 85706\, United States
CATEGORIES:Families with Children Birth to Five
ATTACH;FMTTYPE=image/jpeg:https://pimaparenting.org/wp-content/uploads/2024/11/Casa2-at-SUSD-2.0.jpg
ORGANIZER;CN="Casa de los Ninos":MAILTO:cbolger@casadelosninos.org
END:VEVENT
BEGIN:VEVENT
DTSTART;TZID=America/Phoenix:20260210T173000
DTEND;TZID=America/Phoenix:20260210T193000
DTSTAMP:20260423T093347
CREATED:20260118T235903Z
LAST-MODIFIED:20260119T000009Z
UID:10004445-1770744600-1770751800@pimaparenting.org
SUMMARY:Recognizing & Understanding Children’s Feelings/ VIRTUAL CLASS
DESCRIPTION:This class is from the Nurturing Parenting Program \nHow we prepare our children to handle their feelings will\, likely\, affect the quality of their life more than just about any other element of parenting. The goal of this class is to increase empathetic responses to children’s feelings. \nThis class is hybrid- you may attend in-person OR virtually. \nThis class is made possible by: First Things First \n  \nRegister at Understanding Feelings ⋆ Casa de los Niños
URL:https://pimaparenting.org/event/recognizing-understanding-childrens-feelings-virtual-class-5/
LOCATION:Family Resource Center at Sahuarita Food Bank\, 17750 S. La Canada\, Sahuarita\, AZ\, 85629\, United States
CATEGORIES:Families with Children Birth to Five
ATTACH;FMTTYPE=image/jpeg:https://pimaparenting.org/wp-content/uploads/2024/11/Casa2-at-SFB-2.0.jpg
ORGANIZER;CN="Casa de los Ninos":MAILTO:cbolger@casadelosninos.org
END:VEVENT
BEGIN:VEVENT
DTSTART;TZID=America/Phoenix:20260210T173000
DTEND;TZID=America/Phoenix:20260210T193000
DTSTAMP:20260423T093347
CREATED:20260118T235947Z
LAST-MODIFIED:20260118T235947Z
UID:10004446-1770744600-1770751800@pimaparenting.org
SUMMARY:Recognizing & Understanding Children’s Feelings/ VIRTUAL CLASS
DESCRIPTION:This class is from the Nurturing Parenting Program \nHow we prepare our children to handle their feelings will\, likely\, affect the quality of their life more than just about any other element of parenting. The goal of this class is to increase empathetic responses to children’s feelings. \nThis class is hybrid- you may attend in-person OR virtually. \nThis class is made possible by: First Things First \n  \nRegister at Understanding Feelings ⋆ Casa de los Niños
URL:https://pimaparenting.org/event/recognizing-understanding-childrens-feelings-virtual-class-6/
LOCATION:Family Resource Center at Robles Elementary\, 9875 S Sasabe Rd\, Tucson\, AZ\, 85736\, United States
CATEGORIES:Families with Children Birth to Five
ATTACH;FMTTYPE=image/jpeg:https://pimaparenting.org/wp-content/uploads/2024/11/Casa2-at-AVSD-2.0.jpg
ORGANIZER;CN="Casa de los Ninos":MAILTO:cbolger@casadelosninos.org
END:VEVENT
END:VCALENDAR