BEGIN:VCALENDAR
VERSION:2.0
PRODID:-//Pima County Parenting Coalition - ECPv6.15.16.1//NONSGML v1.0//EN
CALSCALE:GREGORIAN
METHOD:PUBLISH
X-WR-CALNAME:Pima County Parenting Coalition
X-ORIGINAL-URL:https://pimaparenting.org
X-WR-CALDESC:Events for Pima County Parenting Coalition
REFRESH-INTERVAL;VALUE=DURATION:PT1H
X-Robots-Tag:noindex
X-PUBLISHED-TTL:PT1H
BEGIN:VTIMEZONE
TZID:America/Phoenix
BEGIN:STANDARD
TZOFFSETFROM:-0700
TZOFFSETTO:-0700
TZNAME:MST
DTSTART:20250101T000000
END:STANDARD
END:VTIMEZONE
BEGIN:VEVENT
DTSTART;TZID=America/Phoenix:20260212T103000
DTEND;TZID=America/Phoenix:20260212T113000
DTSTAMP:20260423T093145
CREATED:20260118T191128Z
LAST-MODIFIED:20260118T191128Z
UID:10004378-1770892200-1770895800@pimaparenting.org
SUMMARY:Wonders of the Desert: Nature Play & Storytime
DESCRIPTION:Wonders of the Desert: Nature Play & Storytime: Sun and Shadows \nWonders of the Desert invites children ages 2–5 their caregivers to explore nature through playful\, hands-on outdoor activities led by a trained educator. Each session includes engaging experiences like digging\, building\, and crafting\, plus a themed Storytime. Families also receive a bilingual activity page to continue learning at home. \nSun and Shadows: Children and caregivers learn how the sun creates shadows and how these change throughout the day in the desert. They explore light and shadow patterns\, develop observation skills\, and gain a hands-on understanding of the sun’s role in the environment. This experience encourages curiosity about nature and how the desert changes with sunlight.
URL:https://pimaparenting.org/event/wonders-of-the-desert-nature-play-storytime-27/
LOCATION:Family Resource Center at Sahuarita Food Bank\, 17750 S. La Canada\, Sahuarita\, AZ\, 85629\, United States
CATEGORIES:Families with Children Birth to Five
ATTACH;FMTTYPE=image/png:https://pimaparenting.org/wp-content/uploads/2025/07/Wonders-of-the-Desert-at-SFB.png
ORGANIZER;CN="Debi Morgan":MAILTO:debimorgan4@gmail.com
END:VEVENT
BEGIN:VEVENT
DTSTART;TZID=America/Phoenix:20260212T103000
DTEND;TZID=America/Phoenix:20260212T113000
DTSTAMP:20260423T093145
CREATED:20260118T224027Z
LAST-MODIFIED:20260118T224027Z
UID:10004410-1770892200-1770895800@pimaparenting.org
SUMMARY:Musical Expressions
DESCRIPTION:This class will encourage children to artistically express what they feel through music onto paper and through fun dance moves. Art and music invigorate young children’s minds to be creative\, imaginative\, expressive\, confident\, engaged and so much more!
URL:https://pimaparenting.org/event/musical-expressions-9/
LOCATION:Family Resource Center at Robles Elementary\, 9875 S Sasabe Rd\, Tucson\, AZ\, 85736\, United States
CATEGORIES:Families with Children Birth to Five
ATTACH;FMTTYPE=image/jpeg:https://pimaparenting.org/wp-content/uploads/2024/11/Music-Exp-at-AVSD-2.0.jpg
ORGANIZER;CN="Nataly Quiroz- UACE":MAILTO:natalyquiroz@arizona.edu
END:VEVENT
BEGIN:VEVENT
DTSTART;TZID=America/Phoenix:20260212T103000
DTEND;TZID=America/Phoenix:20260212T113000
DTSTAMP:20260423T093145
CREATED:20260118T232123Z
LAST-MODIFIED:20260118T232529Z
UID:10004423-1770892200-1770895800@pimaparenting.org
SUMMARY:Zumbini- Los Ranchitos FRC
DESCRIPTION:Come join Vanessa and Parent Aid for a fun hour of music and movement! This class will enhance your child’s development of their social-emotional\, cognitive and physical skills. Zumbini is designed for families with kiddos birth to 5-years old. Zumbini is an interactive activity for Parents and Kiddos! Bring your most comfortable dancing shoes and we’ll see you there! \nRegistration is FREE! \nClass is offered in-person at the Family Resource Center at Los Ranchitos. \n  \n 
URL:https://pimaparenting.org/event/zumbini-los-ranchitos-frc-2/
LOCATION:Family Resource Center at Los Ranchitos\, 2054 E Ginter Rd\, Tucson\, AZ\, 85706\, United States
CATEGORIES:All Caregivers,Families with Children Birth to Five
ATTACH;FMTTYPE=image/jpeg:https://pimaparenting.org/wp-content/uploads/2024/11/Zumbini-at-SUSD-2.0.jpg
ORGANIZER;CN="Vanessa Batson- PA":MAILTO:vanessa@parentaid.org
END:VEVENT
BEGIN:VEVENT
DTSTART;TZID=America/Phoenix:20260212T130000
DTEND;TZID=America/Phoenix:20260212T140000
DTSTAMP:20260423T093145
CREATED:20260118T224335Z
LAST-MODIFIED:20260118T224335Z
UID:10004412-1770901200-1770904800@pimaparenting.org
SUMMARY:Snack Time Adventures/Aventuras a la hora de la merienda
DESCRIPTION:Enjoy stories\, songs\, and activities related to food and snacks through sensory exploration and simple cooking activities. These experiences strengthen fine motor skills\, enhance language development\, encourage curiosity\, and help build healthy eating habits. \nDisfrute de historias\, canciones y actividades relacionadas con la comida y los refrigerios a través de la exploración sensorial y actividades sencillas de cocina. fortalecer la motricidad fina\, potenciar el desarrollo del lenguaje\, fomentar la curiosidad y desarrollar hábitos alimenticios saludables.
URL:https://pimaparenting.org/event/snack-time-adventures-aventuras-a-la-hora-de-la-merienda-8/
LOCATION:Family Resource Center at Robles Elementary\, 9875 S Sasabe Rd\, Tucson\, AZ\, 85736\, United States
CATEGORIES:Families with Children Birth to Five
ATTACH;FMTTYPE=image/jpeg:https://pimaparenting.org/wp-content/uploads/2024/03/EBF-logo.jpg
ORGANIZER;CN="Laura Ontiveros-EBF":MAILTO:lontiveros@blake.easterseals.com
END:VEVENT
BEGIN:VEVENT
DTSTART;TZID=America/Phoenix:20260212T130000
DTEND;TZID=America/Phoenix:20260212T140000
DTSTAMP:20260423T093145
CREATED:20260118T233914Z
LAST-MODIFIED:20260211T222509Z
UID:10004433-1770901200-1770904800@pimaparenting.org
SUMMARY:Garden Discovery Days
DESCRIPTION:This class connects you and your child to the garden through hands-on activities\, where you’ll learn where food comes from\, explore nature\, and create fun nature-inspired crafts. \n  \n 
URL:https://pimaparenting.org/event/garden-discovery-days-18/
LOCATION:Family Resource Center at Los Ranchitos\, 2054 E Ginter Rd\, Tucson\, AZ\, 85706\, United States
CATEGORIES:Families with Children Birth to Five
ATTACH;FMTTYPE=image/png:https://pimaparenting.org/wp-content/uploads/2025/07/GDD-at-SUSD-2.0.png
ORGANIZER;CN="Cassie Burrel - UACE":MAILTO:cassieb@ag.arizona.edu
END:VEVENT
BEGIN:VEVENT
DTSTART;TZID=America/Phoenix:20260212T173000
DTEND;TZID=America/Phoenix:20260212T193000
DTSTAMP:20260423T093145
CREATED:20260119T000350Z
LAST-MODIFIED:20260119T000350Z
UID:10004447-1770917400-1770924600@pimaparenting.org
SUMMARY:Comprender los sentimentos/CLASE VIRTUAL
DESCRIPTION:Los padres y cuidadores aprenden a entender los sentimentos de sus hijos en el que los padres tienen en sus hijos. \nRegístrate en Understanding Feeling- Spanish Facilitation ⋆ Casa de los Niños
URL:https://pimaparenting.org/event/comprender-los-sentimentos-clase-virtual-4/
LOCATION:Family Resource Center at Sahuarita Food Bank\, 17750 S. La Canada\, Sahuarita\, AZ\, 85629\, United States
CATEGORIES:All Caregivers,Families with Children Birth to Five
ATTACH;FMTTYPE=image/jpeg:https://pimaparenting.org/wp-content/uploads/2024/11/Casa1-at-SFB-2.0.jpg
ORGANIZER;CN="Anabeli Miranda":MAILTO:amiranda@casadelosninos.org
END:VEVENT
BEGIN:VEVENT
DTSTART;TZID=America/Phoenix:20260212T173000
DTEND;TZID=America/Phoenix:20260212T193000
DTSTAMP:20260423T093145
CREATED:20260119T000454Z
LAST-MODIFIED:20260119T000454Z
UID:10004448-1770917400-1770924600@pimaparenting.org
SUMMARY:Comprender los sentimentos/CLASE VIRTUAL
DESCRIPTION:Los padres y cuidadores aprenden a entender los sentimentos de sus hijos en el que los padres tienen en sus hijos. \nRegístrate en Understanding Feeling- Spanish Facilitation ⋆ Casa de los Niños
URL:https://pimaparenting.org/event/comprender-los-sentimentos-clase-virtual-5/
LOCATION:Family Resource Center at Robles Elementary\, 9875 S Sasabe Rd\, Tucson\, AZ\, 85736\, United States
CATEGORIES:All Caregivers,Families with Children Birth to Five
ATTACH;FMTTYPE=image/jpeg:https://pimaparenting.org/wp-content/uploads/2024/11/Casa1-at-AVSD-2.0.jpg
ORGANIZER;CN="Anabeli Miranda":MAILTO:amiranda@casadelosninos.org
END:VEVENT
BEGIN:VEVENT
DTSTART;TZID=America/Phoenix:20260212T173000
DTEND;TZID=America/Phoenix:20260212T193000
DTSTAMP:20260423T093145
CREATED:20260119T000548Z
LAST-MODIFIED:20260119T000548Z
UID:10004449-1770917400-1770924600@pimaparenting.org
SUMMARY:Comprender los sentimentos/CLASE VIRTUAL
DESCRIPTION:Los padres y cuidadores aprenden a entender los sentimentos de sus hijos en el que los padres tienen en sus hijos. \nRegístrate en Understanding Feeling- Spanish Facilitation ⋆ Casa de los Niños
URL:https://pimaparenting.org/event/comprender-los-sentimentos-clase-virtual-6/
LOCATION:Family Resource Center at Los Ranchitos\, 2054 E Ginter Rd\, Tucson\, AZ\, 85706\, United States
CATEGORIES:All Caregivers,Families with Children Birth to Five
ATTACH;FMTTYPE=image/jpeg:https://pimaparenting.org/wp-content/uploads/2024/11/Casa1-at-SUSD-2.0.jpg
ORGANIZER;CN="Anabeli Miranda":MAILTO:amiranda@casadelosninos.org
END:VEVENT
END:VCALENDAR