BEGIN:VCALENDAR
VERSION:2.0
PRODID:-//Pima County Parenting Coalition - ECPv6.15.16.1//NONSGML v1.0//EN
CALSCALE:GREGORIAN
METHOD:PUBLISH
X-WR-CALNAME:Pima County Parenting Coalition
X-ORIGINAL-URL:https://pimaparenting.org
X-WR-CALDESC:Events for Pima County Parenting Coalition
REFRESH-INTERVAL;VALUE=DURATION:PT1H
X-Robots-Tag:noindex
X-PUBLISHED-TTL:PT1H
BEGIN:VTIMEZONE
TZID:America/Phoenix
BEGIN:STANDARD
TZOFFSETFROM:-0700
TZOFFSETTO:-0700
TZNAME:MST
DTSTART:20250101T000000
END:STANDARD
END:VTIMEZONE
BEGIN:VEVENT
DTSTART;TZID=America/Phoenix:20260218T090000
DTEND;TZID=America/Phoenix:20260218T100000
DTSTAMP:20260423T093659
CREATED:20260118T160404Z
LAST-MODIFIED:20260118T160404Z
UID:10004357-1771405200-1771408800@pimaparenting.org
SUMMARY:Fun Family Fitness
DESCRIPTION:Have fun getting fit with your child while building healthy habits for life! Enjoy playful movement\, games\, and bonding time in a supportive\, active class that makes fitness fun for the whole family. A great way to inspire a lifelong love of wellness—together!
URL:https://pimaparenting.org/event/fun-family-fitness-24/
LOCATION:Family Resource Center at Sahuarita Food Bank\, 17750 S. La Canada\, Sahuarita\, AZ\, 85629\, United States
CATEGORIES:Families with Children Birth to Five
ATTACH;FMTTYPE=image/jpeg:https://pimaparenting.org/wp-content/uploads/2024/11/FFF-at-SFB-2.0.jpg
ORGANIZER;CN="Julia with UWTSA":MAILTO:bootcampmama16@yahoo.com
END:VEVENT
BEGIN:VEVENT
DTSTART;TZID=America/Phoenix:20260218T093000
DTEND;TZID=America/Phoenix:20260218T113000
DTSTAMP:20260423T093659
CREATED:20251220T233155Z
LAST-MODIFIED:20260118T231519Z
UID:10004285-1771407000-1771414200@pimaparenting.org
SUMMARY:AÑOS INCREÍBLES CLASE #6- Obtener Apoyo (Esta serie tiene un total de 8 clases)
DESCRIPTION:Este programa está especialmente diseñado para padres de bebés de 0 a 9 meses. Proporciona estrategias valiosas para mejorar sus habilidades de crianza mientras apoya el desarrollo social\, emocional\, físico y cognitivo de su bebé para un buen comienzo en la vida. \nSe ofrece cuidado infantil para niños que caminan hasta los 5 años de edad. \nClase 1: Resumen del Programa \nClase 2: Convertirse en Padre \nClase 3: Comunicarse con el Bebé \nClase 4: Estimulación Física y Visual \nClase 5: Leer la Mente de los Bebés \nClase 6: Obtener Apoyo \nClase 7: Surgimiento del Sentido de Sí Mismo \nClase 8: Graduación
URL:https://pimaparenting.org/event/anos-increibles-clase-6-obtener-apoyo-esta-serie-tiene-un-total-de-8-clases/
LOCATION:Family Resource Center at Los Ranchitos\, 2054 E Ginter Rd\, Tucson\, AZ\, 85706\, United States
CATEGORIES:All Caregivers,Families with Children Birth to Five
ATTACH;FMTTYPE=image/jpeg:https://pimaparenting.org/wp-content/uploads/2024/11/IY-at-SUSD-2.0.jpg
ORGANIZER;CN="Laura Ontiveros-EBF":MAILTO:lontiveros@blake.easterseals.com
END:VEVENT
BEGIN:VEVENT
DTSTART;TZID=America/Phoenix:20260218T100000
DTEND;TZID=America/Phoenix:20260218T110000
DTSTAMP:20260423T093659
CREATED:20251221T205440Z
LAST-MODIFIED:20260205T231441Z
UID:10004326-1771408800-1771412400@pimaparenting.org
SUMMARY:Story School Session 9: ABCs- Transforming Shapes into Symbols and Alphabet Letters
DESCRIPTION:STORY SCHOOL  \nStory School is a fun\, family-centered early literacy program for families with children ages 0–5. Caregivers learn how to support their child’s reading growth while building school readiness. Families enjoy music\, movement\, and hands-on literacy activities together—and receive up to 22 free books to build a home library. Families are encouraged to join us for all 12 sessions to get the most out of this shared learning experience. \nSession 1    Program Overview \nSession 2     The Joy of Sharing Books and Stories \nSession 3    The Magic of Sharing Stories and Reading \nSession 4     The Superpower of Vocabulary \nSession 5    Building your Child’s Word Power \nSession 6      Let’s Play with the Sounds of Language \nSession 7    Discovering the Rhythm and Sounds of Words \nSession 8    ABCs- Shapes to Symbols to Letters \nSession 9     ABCs- Transforming Shapes into Symbols and Alphabet Letters \nSession 10  Making Books Come Alive \nSession 11  Turning Every Book Into an Adventure \nSession 12 Celebration \n. \n  \n  \n  \n  \n 
URL:https://pimaparenting.org/event/story-school-session-9-abcs-transforming-shapes-into-symbols-and-alphabet-letters-2/
LOCATION:Family Resource Center at Robles Elementary\, 9875 S Sasabe Rd\, Tucson\, AZ\, 85736\, United States
CATEGORIES:Families with Children Birth to Five
ATTACH;FMTTYPE=image/jpeg:https://pimaparenting.org/wp-content/uploads/2024/11/Story-School-at-AVSD-2.0.jpg
ORGANIZER;CN="Nando Trujillo-MWFB":MAILTO:nando@makewayforbooks.org
END:VEVENT
BEGIN:VEVENT
DTSTART;TZID=America/Phoenix:20260218T130000
DTEND;TZID=America/Phoenix:20260218T140000
DTSTAMP:20260423T093659
CREATED:20260118T231837Z
LAST-MODIFIED:20260118T231837Z
UID:10004420-1771419600-1771423200@pimaparenting.org
SUMMARY:Kids in Motion
DESCRIPTION:Kids in Motion is an active and fun class that promotes your child’s gross motor skill development through energetic and exciting activities. \n  \nPlease note: Videos are used in class to support instruction and curriculum \n 
URL:https://pimaparenting.org/event/kids-in-motion-7/
LOCATION:Family Resource Center at Los Ranchitos\, 2054 E Ginter Rd\, Tucson\, AZ\, 85706\, United States
CATEGORIES:Families with Children Birth to Five
ATTACH;FMTTYPE=image/jpeg:https://pimaparenting.org/wp-content/uploads/2024/11/Kids-in-Motion-at-SUSD-2.0.jpg
ORGANIZER;CN="Garrett Lilly-Ramirez - UWTSA":MAILTO:gkidsinmotion@gmail.com
END:VEVENT
BEGIN:VEVENT
DTSTART;TZID=America/Phoenix:20260218T133000
DTEND;TZID=America/Phoenix:20260218T143000
DTSTAMP:20260423T093659
CREATED:20251221T201829Z
LAST-MODIFIED:20260205T225915Z
UID:10004313-1771421400-1771425000@pimaparenting.org
SUMMARY:Story School Session 9: ABCs- Transforming Shapes into Symbols and Alphabet Letters
DESCRIPTION:STORY SCHOOL  \nStory School is a fun\, family-centered early literacy program for families with children ages 0–5. Caregivers learn how to support their child’s reading growth while building school readiness. Families enjoy music\, movement\, and hands-on literacy activities together—and receive up to 22 free books to build a home library. Families are encouraged to join us for all 12 sessions to get the most out of this shared learning experience. \nSession 1    Program Overview \nSession 2     The Joy of Sharing Books and Stories \nSession 3    The Magic of Sharing Stories and Reading \nSession 4     The Superpower of Vocabulary \nSession 5    Building your Child’s Word Power \nSession 6      Let’s Play with the Sounds of Language \nSession 7    Discovering the Rhythm and Sounds of Words \nSession 8    ABCs- Shapes to Symbols to Letters \nSession 9     ABCs- Transforming Shapes into Symbols and Alphabet Letters \nSession 10  Making Books Come Alive \nSession 11  Turning Every Book Into an Adventure \nSession 12 Celebration \n. \n  \n  \n  \n  \n 
URL:https://pimaparenting.org/event/story-school-session-9-abcs-transforming-shapes-into-symbols-and-alphabet-letters/
LOCATION:Family Resource Center at Sahuarita Food Bank\, 17750 S. La Canada\, Sahuarita\, AZ\, 85629\, United States
CATEGORIES:Families with Children Birth to Five
ATTACH;FMTTYPE=image/jpeg:https://pimaparenting.org/wp-content/uploads/2024/11/Story-School-at-SFB-2.0.jpg
ORGANIZER;CN="Nando Trujillo-MWFB":MAILTO:nando@makewayforbooks.org
END:VEVENT
BEGIN:VEVENT
DTSTART;TZID=America/Phoenix:20260218T153000
DTEND;TZID=America/Phoenix:20260218T163000
DTSTAMP:20260423T093659
CREATED:20260118T173019Z
LAST-MODIFIED:20260204T195617Z
UID:10004374-1771428600-1771432200@pimaparenting.org
SUMMARY:Soothing Strokes Baby Massage
DESCRIPTION:An infant massage class based on ancient traditions teaches gentle\, rhythmic techniques passed down through generations to promote bonding\, relaxation\, and healthy development for babies. Soothing Strokes is 5 weekly 90-minute sessions. We cover something different each class ending in the culmination being able to do a thorough infant massage. \nInfant massage is focused on children birth to 12 months. \nChild care for your older children can be provided as necessary with notice. \nYou bring your baby and we will bring the oil and the relaxed vibes. See you there!
URL:https://pimaparenting.org/event/soothing-strokes-baby-massage-3/
LOCATION:Family Resource Center at Sahuarita Food Bank\, 17750 S. La Canada\, Sahuarita\, AZ\, 85629\, United States
CATEGORIES:All Caregivers,Families with Children Birth to Five
ATTACH;FMTTYPE=image/png:https://pimaparenting.org/wp-content/uploads/2025/04/Soothing-Strokes-at-SFB.png
ORGANIZER;CN="Amanda Ward McNeal- PA":MAILTO:amanda@parentaid.org
END:VEVENT
BEGIN:VEVENT
DTSTART;TZID=America/Phoenix:20260218T163000
DTEND;TZID=America/Phoenix:20260218T173000
DTSTAMP:20260423T093659
CREATED:20260118T225605Z
LAST-MODIFIED:20260118T225737Z
UID:10004415-1771432200-1771435800@pimaparenting.org
SUMMARY:Family Fun Night- Hearts and Crafts
DESCRIPTION:Hearts\, crafts\, and fun for all! Come celebrate what makes every child special through fun games\, creative crafts\, and meaningful moments. Parents and young children are invited to enjoy a joyful time of connection\, creativity\, and smiles. \n4:30-5:30 pm for FRC Families \n5:30-7:00 pm open for all
URL:https://pimaparenting.org/event/family-fun-night-hearts-and-crafts/
LOCATION:Family Resource Center at Robles Elementary\, 9875 S Sasabe Rd\, Tucson\, AZ\, 85736\, United States
ATTACH;FMTTYPE=image/jpeg:https://pimaparenting.org/wp-content/uploads/2024/11/Family-Resource-Center-Logo-1.jpg
ORGANIZER;CN="Family Resource Center at Robles Elementary":MAILTO:dcordova@avsd.org
END:VEVENT
END:VCALENDAR