BEGIN:VCALENDAR
VERSION:2.0
PRODID:-//Pima County Parenting Coalition - ECPv6.15.16.1//NONSGML v1.0//EN
CALSCALE:GREGORIAN
METHOD:PUBLISH
X-ORIGINAL-URL:https://pimaparenting.org
X-WR-CALDESC:Events for Pima County Parenting Coalition
REFRESH-INTERVAL;VALUE=DURATION:PT1H
X-Robots-Tag:noindex
X-PUBLISHED-TTL:PT1H
BEGIN:VTIMEZONE
TZID:America/Phoenix
BEGIN:STANDARD
TZOFFSETFROM:-0700
TZOFFSETTO:-0700
TZNAME:MST
DTSTART:20250101T000000
END:STANDARD
END:VTIMEZONE
BEGIN:VEVENT
DTSTART;TZID=America/Phoenix:20260219T103000
DTEND;TZID=America/Phoenix:20260219T113000
DTSTAMP:20260423T093315
CREATED:20260118T192512Z
LAST-MODIFIED:20260118T192512Z
UID:10004385-1771497000-1771500600@pimaparenting.org
SUMMARY:Garden Discovery Days-Class held at Pima County Cooperative Extension Office 530 E. Whitehouse Canyon Rd. Green Valley\, AZ 85614
DESCRIPTION:This class connects you and your child with the garden\, through hands on activities as you learn where food comes from\, learn about nature and make fun nature crafts.  \nPLEASE NOTE: Class is held at the Pima County Cooperative Extension Office 530 E. Whitehouse Canyon Rd. Green Valley\, AZ 85614
URL:https://pimaparenting.org/event/garden-discovery-days-class-held-at-pima-county-cooperative-extension-office-530-e-whitehouse-canyon-rd-green-valley-az-85614-6/
LOCATION:Family Resource Center at Sahuarita Food Bank\, 17750 S. La Canada\, Sahuarita\, AZ\, 85629\, United States
CATEGORIES:Families with Children Birth to Five
ATTACH;FMTTYPE=image/png:https://pimaparenting.org/wp-content/uploads/2025/04/GDD-at-SFB-2.0.png
ORGANIZER;CN="Cassie Burrel - UACE":MAILTO:cassieb@ag.arizona.edu
END:VEVENT
BEGIN:VEVENT
DTSTART;TZID=America/Phoenix:20260219T103000
DTEND;TZID=America/Phoenix:20260219T113000
DTSTAMP:20260423T093315
CREATED:20260118T225844Z
LAST-MODIFIED:20260118T225844Z
UID:10004416-1771497000-1771500600@pimaparenting.org
SUMMARY:HANDS IN NATURE: Art\, Exploration\, and Creative Play
DESCRIPTION:This is a nature-inspired class for children ages 2-5. Each session invites children to explore unique materials for art\, construction\, science\, literacy\, and more. Whether painting with mud\, building with sticks\, experimenting with water\, or storytelling with found objects\, children will engage in hands-on discovery that nurtures creativity\, problem solving\, and sensory exploration.
URL:https://pimaparenting.org/event/hands-in-nature-art-exploration-and-creative-play/
LOCATION:Family Resource Center at Robles Elementary\, 9875 S Sasabe Rd\, Tucson\, AZ\, 85736\, United States
CATEGORIES:Families with Children Birth to Five
ATTACH;FMTTYPE=image/jpeg:https://pimaparenting.org/wp-content/uploads/2024/11/UWTSA-Logo-2024-RBG.jpg
ORGANIZER;CN="Kyla Maciosek":MAILTO:kyla@naturecreatedplay.com
END:VEVENT
BEGIN:VEVENT
DTSTART;TZID=America/Phoenix:20260219T103000
DTEND;TZID=America/Phoenix:20260219T113000
DTSTAMP:20260423T093315
CREATED:20260118T232316Z
LAST-MODIFIED:20260118T232316Z
UID:10004424-1771497000-1771500600@pimaparenting.org
SUMMARY:Zumbini- Los Ranchitos FRC
DESCRIPTION:Come join Vanessa and Parent Aid for a fun hour of music and movement! This class will enhance your child’s development of their social-emotional\, cognitive and physical skills. Zumbini is designed for families with kiddos birth to 5-years old. Zumbini is an interactive activity for Parents and Kiddos! Bring your most comfortable dancing shoes and we’ll see you there! \nRegistration is FREE! \nClass is offered in-person at the Family Resource Center at Los Ranchitos. \n  \n 
URL:https://pimaparenting.org/event/zumbini-los-ranchitos-frc-3/
LOCATION:Family Resource Center at Los Ranchitos\, 2054 E Ginter Rd\, Tucson\, AZ\, 85706\, United States
CATEGORIES:All Caregivers,Families with Children Birth to Five
ATTACH;FMTTYPE=image/jpeg:https://pimaparenting.org/wp-content/uploads/2024/11/Zumbini-at-SUSD-2.0.jpg
ORGANIZER;CN="Vanessa Batson- PA":MAILTO:vanessa@parentaid.org
END:VEVENT
BEGIN:VEVENT
DTSTART;TZID=America/Phoenix:20260219T113000
DTEND;TZID=America/Phoenix:20260219T123000
DTSTAMP:20260423T093315
CREATED:20260118T232833Z
LAST-MODIFIED:20260118T232833Z
UID:10004426-1771500600-1771504200@pimaparenting.org
SUMMARY:Happy Hour: Family Playtime/Hora Feliz: Tiempo de Juego en Familia
DESCRIPTION:Join Vanessa at Parent Aid for a playful\, stress-free hour of connection\, creativity\, and community! Happy Hour: Family Playtime is a warm and welcoming space where parents and children explore the joy of free play — together. \nThis interactive experience helps little ones build important social skills while giving parents the chance to connect with one another\, share experiences\, and step into their child’s world through play. It’s a perfect blend of bonding\, support\, and fun — no agenda\, no pressure\, just quality time. \n✨ Meet other parents\n🧸 Support your child’s growth through play\n💬 Enjoy thoughtful conversations in a relaxed environment \nCome as you are — stay for the smiles.\nBecause connection is the real happy hour. \n  \n¡Únete a Vanessa en Parent Aid para una hora lúdica y sin estrés de conexión\, creatividad y comunidad! Happy Hour: Tiempo de Juego Familiar es un espacio cálido y acogedor donde padres e hijos exploran la alegría del juego libre\, juntos. \nEsta experiencia interactiva ayuda a los más pequeños a construir habilidades sociales importantes\, al mismo tiempo que ofrece a los padres la oportunidad de conectarse entre sí\, compartir experiencias y entrar en el mundo de sus hijos a través del juego. Es una mezcla perfecta de unión\, apoyo y diversión: sin agenda\, sin presión\, solo tiempo de calidad.
URL:https://pimaparenting.org/event/happy-hour-family-playtime-hora-feliz-tiempo-de-juego-en-familia-11/
LOCATION:Family Resource Center at Los Ranchitos\, 2054 E Ginter Rd\, Tucson\, AZ\, 85706\, United States
CATEGORIES:Families with Children Birth to Five
ATTACH;FMTTYPE=image/png:https://pimaparenting.org/wp-content/uploads/2025/07/Happy-Hour-at-SUSD.png
ORGANIZER;CN="Vanessa Batson- PA":MAILTO:vanessa@parentaid.org
END:VEVENT
BEGIN:VEVENT
DTSTART;TZID=America/Phoenix:20260219T130000
DTEND;TZID=America/Phoenix:20260219T140000
DTSTAMP:20260423T093315
CREATED:20251217T205238Z
LAST-MODIFIED:20251217T205238Z
UID:10004218-1771506000-1771509600@pimaparenting.org
SUMMARY:The Dangers of Vaping
DESCRIPTION:Learn about the risks of e-cigarettes\, also known as “vapes.” Learn why youth are using vapes and ways to protect youth in your life.
URL:https://pimaparenting.org/event/the-dangers-of-vaping-3/2026-02-19/
LOCATION:Zoom\, Arizona
CATEGORIES:All Caregivers,Behavioral Health,Families with Children Birth to Five,Families with School-aged (6-12) Children,Families with Teens,Foster Parents,Grandparents Raising Kids,Providers
ATTACH;FMTTYPE=image/png:https://pimaparenting.org/wp-content/uploads/2025/12/Dangers-of-Vaping-February.png
END:VEVENT
BEGIN:VEVENT
DTSTART;TZID=America/Phoenix:20260219T130000
DTEND;TZID=America/Phoenix:20260219T140000
DTSTAMP:20260423T093315
CREATED:20260118T224205Z
LAST-MODIFIED:20260118T224205Z
UID:10004411-1771506000-1771509600@pimaparenting.org
SUMMARY:Musical Expressions/Expresiones Musicales
DESCRIPTION:This class will encourage children to artistically express what they feel through music onto paper and through fun dance moves. Art and music invigorate young children’s minds to be creative\, imaginative\, expressive\, confident\, engaged and so much more! \nEsta clase animará a los niños a expresarse artísticamente a través de la música en papel y mediante divertidos movimientos de baile. El arte y la música invigorizan la mente de los niños pequeños para ser creativos\, imaginativos\, expresivos\, seguros\, comprometidos y mucho más.
URL:https://pimaparenting.org/event/musical-expressions-expresiones-musicales-4/
LOCATION:Family Resource Center at Los Ranchitos\, 2054 E Ginter Rd\, Tucson\, AZ\, 85706\, United States
CATEGORIES:Families with Children Birth to Five
ATTACH;FMTTYPE=image/jpeg:https://pimaparenting.org/wp-content/uploads/2024/11/Music-Exp-at-SUSD-2.0.jpg
ORGANIZER;CN="Nataly Quiroz- UACE":MAILTO:natalyquiroz@arizona.edu
END:VEVENT
BEGIN:VEVENT
DTSTART;TZID=America/Phoenix:20260219T133000
DTEND;TZID=America/Phoenix:20260219T143000
DTSTAMP:20260423T093315
CREATED:20260118T192758Z
LAST-MODIFIED:20260118T192758Z
UID:10004387-1771507800-1771511400@pimaparenting.org
SUMMARY:Snack Time Adventures
DESCRIPTION:Enjoy stories\, songs\, and activities related to food and snacks through sensory exploration and simple cooking activities. These experiences strengthen fine motor skills\, enhance language development\, encourage curiosity\, and help build healthy eating habits. \n 
URL:https://pimaparenting.org/event/snack-time-adventures-3/
LOCATION:Family Resource Center at Sahuarita Food Bank\, 17750 S. La Canada\, Sahuarita\, AZ\, 85629\, United States
CATEGORIES:Families with Children Birth to Five
ATTACH;FMTTYPE=image/jpeg:https://pimaparenting.org/wp-content/uploads/2024/03/EBF-logo.jpg
ORGANIZER;CN="Laura Ontiveros-EBF":MAILTO:lontiveros@blake.easterseals.com
END:VEVENT
BEGIN:VEVENT
DTSTART;TZID=America/Phoenix:20260219T173000
DTEND;TZID=America/Phoenix:20260219T193000
DTSTAMP:20260423T093315
CREATED:20260119T001404Z
LAST-MODIFIED:20260119T001632Z
UID:10004454-1771522200-1771529400@pimaparenting.org
SUMMARY:Desarrollando Empatía en Niños - Clase Virtual en Español
DESCRIPTION:Este tema es del Programa de Crianza Saludable. \nEl objetivo de esta clase es aprender estrategias para aumentar las habilidades de los niños para cuidar. \nRegístrate en Desarrollar La Moral\, Los Valores y Las Reglas Familiares ⋆ Casa de los Niños
URL:https://pimaparenting.org/event/desarrollando-empatia-en-ninos-clase-virtual-en-espanol-4/
LOCATION:Family Resource Center at Los Ranchitos\, 2054 E Ginter Rd\, Tucson\, AZ\, 85706\, United States
CATEGORIES:Families with Children Birth to Five
ATTACH;FMTTYPE=image/jpeg:https://pimaparenting.org/wp-content/uploads/2024/11/Casa2-at-SUSD-2.0.jpg
ORGANIZER;CN="Vanessa Villegas-CDLN":MAILTO:vanessac@casadelosninos.org
END:VEVENT
BEGIN:VEVENT
DTSTART;TZID=America/Phoenix:20260219T173000
DTEND;TZID=America/Phoenix:20260219T193000
DTSTAMP:20260423T093315
CREATED:20260119T001525Z
LAST-MODIFIED:20260119T001525Z
UID:10004456-1771522200-1771529400@pimaparenting.org
SUMMARY:Desarrollando Empatía en Niños - Clase Virtual en Español
DESCRIPTION:Este tema es del Programa de Crianza Saludable. \nEl objetivo de esta clase es aprender estrategias para aumentar las habilidades de los niños para cuidar. \nRegístrate en Desarrollar La Moral\, Los Valores y Las Reglas Familiares ⋆ Casa de los Niños
URL:https://pimaparenting.org/event/desarrollando-empatia-en-ninos-clase-virtual-en-espanol-5/
LOCATION:Family Resource Center at Robles Elementary\, 9875 S Sasabe Rd\, Tucson\, AZ\, 85736\, United States
CATEGORIES:Families with Children Birth to Five
ATTACH;FMTTYPE=image/jpeg:https://pimaparenting.org/wp-content/uploads/2024/11/Casa2-at-SUSD-2.0.jpg
ORGANIZER;CN="Casa de los Ninos":MAILTO:cbolger@casadelosninos.org
END:VEVENT
BEGIN:VEVENT
DTSTART;TZID=America/Phoenix:20260219T173000
DTEND;TZID=America/Phoenix:20260219T193000
DTSTAMP:20260423T093315
CREATED:20260119T001614Z
LAST-MODIFIED:20260119T001614Z
UID:10004457-1771522200-1771529400@pimaparenting.org
SUMMARY:Desarrollando Empatía en Niños - Clase Virtual en Español
DESCRIPTION:Este tema es del Programa de Crianza Saludable. \nEl objetivo de esta clase es aprender estrategias para aumentar las habilidades de los niños para cuidar. \nRegístrate en Desarrollar La Moral\, Los Valores y Las Reglas Familiares ⋆ Casa de los Niños
URL:https://pimaparenting.org/event/desarrollando-empatia-en-ninos-clase-virtual-en-espanol-6/
LOCATION:Family Resource Center at Sahuarita Food Bank\, 17750 S. La Canada\, Sahuarita\, AZ\, 85629\, United States
CATEGORIES:Families with Children Birth to Five
ATTACH;FMTTYPE=image/jpeg:https://pimaparenting.org/wp-content/uploads/2024/11/Casa2-at-SFB-2.0.jpg
ORGANIZER;CN="Vanessa Villegas-CDLN":MAILTO:vanessac@casadelosninos.org
END:VEVENT
END:VCALENDAR