BEGIN:VCALENDAR
VERSION:2.0
PRODID:-//Pima County Parenting Coalition - ECPv6.15.16.1//NONSGML v1.0//EN
CALSCALE:GREGORIAN
METHOD:PUBLISH
X-ORIGINAL-URL:https://pimaparenting.org
X-WR-CALDESC:Events for Pima County Parenting Coalition
REFRESH-INTERVAL;VALUE=DURATION:PT1H
X-Robots-Tag:noindex
X-PUBLISHED-TTL:PT1H
BEGIN:VTIMEZONE
TZID:America/Phoenix
BEGIN:STANDARD
TZOFFSETFROM:-0700
TZOFFSETTO:-0700
TZNAME:MST
DTSTART:20250101T000000
END:STANDARD
END:VTIMEZONE
BEGIN:VEVENT
DTSTART;TZID=America/Phoenix:20260302T103000
DTEND;TZID=America/Phoenix:20260302T113000
DTSTAMP:20260423T081259
CREATED:20260223T185026Z
LAST-MODIFIED:20260223T185026Z
UID:10004571-1772447400-1772451000@pimaparenting.org
SUMMARY:HANDS IN NATURE: Art\, Exploration\, and Creative Play
DESCRIPTION:This is a nature-inspired class for children ages 2-5. Each session invites children to explore unique materials for art\, construction\, science\, literacy\, and more. Whether painting with mud\, building with sticks\, experimenting with water\, or storytelling with found objects\, children will engage in hands-on discovery that nurtures creativity\, problem solving\, and sensory exploration.
URL:https://pimaparenting.org/event/hands-in-nature-art-exploration-and-creative-play-2/
LOCATION:Family Resource Center at Robles Elementary\, 9875 S Sasabe Rd\, Tucson\, AZ\, 85736\, United States
CATEGORIES:Families with Children Birth to Five
ATTACH;FMTTYPE=image/jpeg:https://pimaparenting.org/wp-content/uploads/2024/11/UWTSA-Logo-2024-RBG.jpg
ORGANIZER;CN="Kyla Maciosek":MAILTO:kyla@naturecreatedplay.com
END:VEVENT
BEGIN:VEVENT
DTSTART;TZID=America/Phoenix:20260302T120000
DTEND;TZID=America/Phoenix:20260302T140000
DTSTAMP:20260423T081259
CREATED:20260118T220652Z
LAST-MODIFIED:20260203T211607Z
UID:10004395-1772452800-1772460000@pimaparenting.org
SUMMARY:Positive Parenting Program/Triple P Series - CLASS #4: Planning Ahead
DESCRIPTION:Join us to better understand your child’s behavior and learn effective tools to build positive skills\, manage misbehavior\, and prepare for challenging situations. This four-class series offers practical guidance parents can use right away. \n\nMonday\, February 9       Class 1: Positive Parenting\nTuesday\, February 17    Class 2: Helping Children Develop\nMonday\, February 23     Class 3: Managing Misbehavior\nMonday\, March 2            Class 4: Planning Ahead\n\nChildcare will be available for children ages 1 year (walking) through 5 years. Children younger than 1 year or not yet walking will remain with their parent or caregiver.
URL:https://pimaparenting.org/event/positive-parenting-program-triple-p-series-class-4-planning-ahead/
LOCATION:Family Resource Center at Robles Elementary\, 9875 S Sasabe Rd\, Tucson\, AZ\, 85736\, United States
CATEGORIES:All Caregivers,Families with Children Birth to Five
ATTACH;FMTTYPE=image/jpeg:https://pimaparenting.org/wp-content/uploads/2024/11/PPP-at-AVSD-2.0.jpg
ORGANIZER;CN="Nataly Quiroz- UACE":MAILTO:natalyquiroz@arizona.edu
END:VEVENT
END:VCALENDAR