BEGIN:VCALENDAR
VERSION:2.0
PRODID:-//Pima County Parenting Coalition - ECPv6.15.16.1//NONSGML v1.0//EN
CALSCALE:GREGORIAN
METHOD:PUBLISH
X-WR-CALNAME:Pima County Parenting Coalition
X-ORIGINAL-URL:https://pimaparenting.org
X-WR-CALDESC:Events for Pima County Parenting Coalition
REFRESH-INTERVAL;VALUE=DURATION:PT1H
X-Robots-Tag:noindex
X-PUBLISHED-TTL:PT1H
BEGIN:VTIMEZONE
TZID:America/Phoenix
BEGIN:STANDARD
TZOFFSETFROM:-0700
TZOFFSETTO:-0700
TZNAME:MST
DTSTART:20250101T000000
END:STANDARD
END:VTIMEZONE
BEGIN:VEVENT
DTSTART;TZID=America/Phoenix:20260314T093000
DTEND;TZID=America/Phoenix:20260314T103000
DTSTAMP:20260423T075538
CREATED:20260223T170728Z
LAST-MODIFIED:20260224T210206Z
UID:10004544-1773480600-1773484200@pimaparenting.org
SUMMARY:Joyful Journeys in Art
DESCRIPTION:In this class\, the emphasis is on the joy of creation rather than the final product. Each session is designed to spark curiosity and encourage self-expression as children engage in hands-on\nactivities like finger painting\, nature collages\, texture explorations\, and more.
URL:https://pimaparenting.org/event/joyful-journeys-in-art-7/
LOCATION:Family Resource Center at Sahuarita Food Bank\, 17750 S. La Canada\, Sahuarita\, AZ\, 85629\, United States
CATEGORIES:Families with Children Birth to Five
ATTACH;FMTTYPE=image/jpeg:https://pimaparenting.org/wp-content/uploads/2024/11/Joyful-Journeys-at-SFB-2.0.jpg
ORGANIZER;CN="Andrea Loomis":MAILTO:andiszooB@msn.com
END:VEVENT
BEGIN:VEVENT
DTSTART;TZID=America/Phoenix:20260314T103000
DTEND;TZID=America/Phoenix:20260314T113000
DTSTAMP:20260423T075538
CREATED:20260223T171035Z
LAST-MODIFIED:20260223T171035Z
UID:10004546-1773484200-1773487800@pimaparenting.org
SUMMARY:Hands-on Fun: Make & Take Sensory Time (class held at Valencia Branch Public Library)
DESCRIPTION:Join us for a fun and interactive parent–child class designed for families with children ages 2–5 years old. During this hands-on session\, families will explore a variety of sensory activities that encourage creativity\, learning\, and quality time together. Each family will have the opportunity to create sensory crafts to take home—perfect for continued play and exploration. \nThis class supports early learning and development through play-based experiences that engage the senses\, build fine motor skills\, and strengthen parent–child connections. \nAll materials are provided. Come ready to play\, create\, and have fun! \nThis class is held at the Valencia Branch Public Library \n202 W. Valencia Rd. \nTucson\, AZ 85706 \n 
URL:https://pimaparenting.org/event/hands-on-fun-make-take-sensory-time-class-held-at-valencia-branch-public-library-8/
LOCATION:Family Resource Center at Sahuarita Food Bank\, 17750 S. La Canada\, Sahuarita\, AZ\, 85629\, United States
CATEGORIES:Families with Children Birth to Five
ATTACH;FMTTYPE=image/jpeg:https://pimaparenting.org/wp-content/uploads/2024/03/EBF-logo.jpg
ORGANIZER;CN="Jeanne  Velasquez- EBF":MAILTO:jvelasquez@amphi.com
END:VEVENT
BEGIN:VEVENT
DTSTART;TZID=America/Phoenix:20260314T103000
DTEND;TZID=America/Phoenix:20260314T113000
DTSTAMP:20260423T075538
CREATED:20260223T171138Z
LAST-MODIFIED:20260223T171234Z
UID:10004547-1773484200-1773487800@pimaparenting.org
SUMMARY:Hands-on Fun: Make & Take Sensory Time (class held at Valencia Branch Public Library)
DESCRIPTION:Join us for a fun and interactive parent–child class designed for families with children ages 2–5 years old. During this hands-on session\, families will explore a variety of sensory activities that encourage creativity\, learning\, and quality time together. Each family will have the opportunity to create sensory crafts to take home—perfect for continued play and exploration. \nThis class supports early learning and development through play-based experiences that engage the senses\, build fine motor skills\, and strengthen parent–child connections. \nAll materials are provided. Come ready to play\, create\, and have fun! \nThis class is held at the Valencia Branch Public Library \n202 W. Valencia Rd. \nTucson\, AZ 85706 \n 
URL:https://pimaparenting.org/event/hands-on-fun-make-take-sensory-time-class-held-at-valencia-branch-public-library-9/
LOCATION:Family Resource Center at Robles Elementary\, 9875 S Sasabe Rd\, Tucson\, AZ\, 85736\, United States
CATEGORIES:Families with Children Birth to Five
ATTACH;FMTTYPE=image/jpeg:https://pimaparenting.org/wp-content/uploads/2024/03/EBF-logo.jpg
ORGANIZER;CN="Jeanne  Velasquez- EBF":MAILTO:jvelasquez@amphi.com
END:VEVENT
BEGIN:VEVENT
DTSTART;TZID=America/Phoenix:20260314T103000
DTEND;TZID=America/Phoenix:20260314T113000
DTSTAMP:20260423T075538
CREATED:20260223T171212Z
LAST-MODIFIED:20260223T171212Z
UID:10004548-1773484200-1773487800@pimaparenting.org
SUMMARY:Hands-on Fun: Make & Take Sensory Time (class held at Valencia Branch Public Library)
DESCRIPTION:Join us for a fun and interactive parent–child class designed for families with children ages 2–5 years old. During this hands-on session\, families will explore a variety of sensory activities that encourage creativity\, learning\, and quality time together. Each family will have the opportunity to create sensory crafts to take home—perfect for continued play and exploration. \nThis class supports early learning and development through play-based experiences that engage the senses\, build fine motor skills\, and strengthen parent–child connections. \nAll materials are provided. Come ready to play\, create\, and have fun! \nThis class is held at the Valencia Branch Public Library \n202 W. Valencia Rd. \nTucson\, AZ 85706 \n 
URL:https://pimaparenting.org/event/hands-on-fun-make-take-sensory-time-class-held-at-valencia-branch-public-library-10/
LOCATION:Family Resource Center at Los Ranchitos\, 2054 E Ginter Rd\, Tucson\, AZ\, 85706\, United States
CATEGORIES:Families with Children Birth to Five
ATTACH;FMTTYPE=image/jpeg:https://pimaparenting.org/wp-content/uploads/2024/03/EBF-logo.jpg
ORGANIZER;CN="Jeanne  Velasquez- EBF":MAILTO:jvelasquez@amphi.com
END:VEVENT
END:VCALENDAR