BEGIN:VCALENDAR
VERSION:2.0
PRODID:-//Pima County Parenting Coalition - ECPv6.15.16.1//NONSGML v1.0//EN
CALSCALE:GREGORIAN
METHOD:PUBLISH
X-WR-CALNAME:Pima County Parenting Coalition
X-ORIGINAL-URL:https://pimaparenting.org
X-WR-CALDESC:Events for Pima County Parenting Coalition
REFRESH-INTERVAL;VALUE=DURATION:PT1H
X-Robots-Tag:noindex
X-PUBLISHED-TTL:PT1H
BEGIN:VTIMEZONE
TZID:America/Phoenix
BEGIN:STANDARD
TZOFFSETFROM:-0700
TZOFFSETTO:-0700
TZNAME:MST
DTSTART:20250101T000000
END:STANDARD
END:VTIMEZONE
BEGIN:VEVENT
DTSTART;TZID=America/Phoenix:20260316T100000
DTEND;TZID=America/Phoenix:20260316T110000
DTSTAMP:20260423T081013
CREATED:20260223T171706Z
LAST-MODIFIED:20260223T171706Z
UID:10004549-1773655200-1773658800@pimaparenting.org
SUMMARY:Family Connect & Play
DESCRIPTION:Come relax\, connect\, and let the kids play! Join other parents and caregivers for an informal time to share the ups and downs of raising children\, connect over coffee\, and enjoy support from fellow families. While kids enjoy supervised free play in our playroom\, grown-ups can chat\, share resources\, and discuss what programs or support they’d like to see at the Family Resource Center. Occasionally\, we’ll welcome special guest speakers on parenting\, child development\, and more. \n 
URL:https://pimaparenting.org/event/family-connect-play-8/
LOCATION:Family Resource Center at Sahuarita Food Bank\, 17750 S. La Canada\, Sahuarita\, AZ\, 85629\, United States
CATEGORIES:Families with Children Birth to Five
ATTACH;FMTTYPE=image/jpeg:https://pimaparenting.org/wp-content/uploads/2024/11/Family-Cafe-at-SFB-2.0.jpg
ORGANIZER;CN="Family Resource Center at Sahuarita Food Bank":MAILTO:irodela@sfb-crc.org
END:VEVENT
BEGIN:VEVENT
DTSTART;TZID=America/Phoenix:20260316T103000
DTEND;TZID=America/Phoenix:20260316T113000
DTSTAMP:20260423T081013
CREATED:20260223T185624Z
LAST-MODIFIED:20260313T220354Z
UID:10004574-1773657000-1773660600@pimaparenting.org
SUMMARY:Move and Groove Playtime
DESCRIPTION:This interactive class for children ages 2-5 and their parents. Through music\, dancing\, and playful movement\, kids develop coordination\, balance\, and creativity while strengthening their bond with parents. Colorful props and lively tunes make each session exciting and engaging\, promoting physical development and social skills in a safe\, supportive environment. Perfect for little ones who love to move and groove!
URL:https://pimaparenting.org/event/move-and-groove-playtime-17/
LOCATION:Family Resource Center at Los Ranchitos\, 2054 E Ginter Rd\, Tucson\, AZ\, 85706\, United States
CATEGORIES:Families with Children Birth to Five
ATTACH;FMTTYPE=image/jpeg:https://pimaparenting.org/wp-content/uploads/2024/11/UWTSA-Logo-2024-RBG.jpg
ORGANIZER;CN="Maggie McKiernan - UWTSA":MAILTO:mggqt.2010@gmail.com
END:VEVENT
BEGIN:VEVENT
DTSTART;TZID=America/Phoenix:20260316T130000
DTEND;TZID=America/Phoenix:20260316T140000
DTSTAMP:20260423T081013
CREATED:20260223T162737Z
LAST-MODIFIED:20260223T162931Z
UID:10004523-1773666000-1773669600@pimaparenting.org
SUMMARY:Fine Arts for Kids
DESCRIPTION:This fun and interactive class for children and their parents or caregivers is packed with creative activities designed to help little ones develop important life skills like focus\, self-control\, and communication—all while having a great time together!
URL:https://pimaparenting.org/event/fine-arts-for-kids-18/
LOCATION:Family Resource Center at Sahuarita Food Bank\, 17750 S. La Canada\, Sahuarita\, AZ\, 85629\, United States
CATEGORIES:Families with Children Birth to Five
ATTACH;FMTTYPE=image/jpeg:https://pimaparenting.org/wp-content/uploads/2024/11/Fine-Arts-at-SFB-2.0.jpg
ORGANIZER;CN="Nataly Quiroz- UACE":MAILTO:natalyquiroz@arizona.edu
END:VEVENT
END:VCALENDAR