BEGIN:VCALENDAR
VERSION:2.0
PRODID:-//Pima County Parenting Coalition - ECPv6.15.16.1//NONSGML v1.0//EN
CALSCALE:GREGORIAN
METHOD:PUBLISH
X-ORIGINAL-URL:https://pimaparenting.org
X-WR-CALDESC:Events for Pima County Parenting Coalition
REFRESH-INTERVAL;VALUE=DURATION:PT1H
X-Robots-Tag:noindex
X-PUBLISHED-TTL:PT1H
BEGIN:VTIMEZONE
TZID:America/Phoenix
BEGIN:STANDARD
TZOFFSETFROM:-0700
TZOFFSETTO:-0700
TZNAME:MST
DTSTART:20250101T000000
END:STANDARD
END:VTIMEZONE
BEGIN:VEVENT
DTSTART;TZID=America/Phoenix:20260318T090000
DTEND;TZID=America/Phoenix:20260318T100000
DTSTAMP:20260423T081250
CREATED:20260220T172007Z
LAST-MODIFIED:20260220T172007Z
UID:10004490-1773824400-1773828000@pimaparenting.org
SUMMARY:Fun Family Fitness
DESCRIPTION:Have fun getting fit with your child while building healthy habits for life! Enjoy playful movement\, games\, and bonding time in a supportive\, active class that makes fitness fun for the whole family. A great way to inspire a lifelong love of wellness—together!
URL:https://pimaparenting.org/event/fun-family-fitness-28/
LOCATION:Family Resource Center at Sahuarita Food Bank\, 17750 S. La Canada\, Sahuarita\, AZ\, 85629\, United States
CATEGORIES:Families with Children Birth to Five
ATTACH;FMTTYPE=image/jpeg:https://pimaparenting.org/wp-content/uploads/2024/11/FFF-at-SFB-2.0.jpg
ORGANIZER;CN="Julia with UWTSA":MAILTO:bootcampmama16@yahoo.com
END:VEVENT
BEGIN:VEVENT
DTSTART;TZID=America/Phoenix:20260318T103000
DTEND;TZID=America/Phoenix:20260318T113000
DTSTAMP:20260423T081250
CREATED:20260223T163238Z
LAST-MODIFIED:20260223T163256Z
UID:10004526-1773829800-1773833400@pimaparenting.org
SUMMARY:Fine Arts for Kids
DESCRIPTION:Join us for a fun and creative class designed for children and their parents or caregivers! Together\, you’ll explore hands-on activities that encourage focus\, help build self-control and promote teamwork and communication. It’s a great way to bond\, learn\, and get inspired through art!
URL:https://pimaparenting.org/event/fine-arts-for-kids-20/
LOCATION:Family Resource Center at Los Ranchitos\, 2054 E Ginter Rd\, Tucson\, AZ\, 85706\, United States
CATEGORIES:Families with Children Birth to Five
ATTACH;FMTTYPE=image/jpeg:https://pimaparenting.org/wp-content/uploads/2024/11/Fine-Arts-at-SUSD-2.0.jpg
ORGANIZER;CN="Nataly Quiroz- UACE":MAILTO:natalyquiroz@arizona.edu
END:VEVENT
BEGIN:VEVENT
DTSTART;TZID=America/Phoenix:20260318T103000
DTEND;TZID=America/Phoenix:20260318T113000
DTSTAMP:20260423T081250
CREATED:20260223T165816Z
LAST-MODIFIED:20260223T165816Z
UID:10004542-1773829800-1773833400@pimaparenting.org
SUMMARY:Kids Yoga
DESCRIPTION:Kids Yoga is an interactive activity for parents and children to connect with each other and their bodies.  A great and fun way to improve your child’s mobility\, and help them learn techniques to manage stress and emotions.
URL:https://pimaparenting.org/event/kids-yoga-31/
LOCATION:Family Resource Center at Sahuarita Food Bank\, 17750 S. La Canada\, Sahuarita\, AZ\, 85629\, United States
CATEGORIES:Families with Children Birth to Five
ATTACH;FMTTYPE=image/jpeg:https://pimaparenting.org/wp-content/uploads/2024/11/Yoga-at-SFB-2.0.jpg
ORGANIZER;CN="Stephaine Carl - UACE":MAILTO:sacarl@arizona.edu
END:VEVENT
BEGIN:VEVENT
DTSTART;TZID=America/Phoenix:20260318T130000
DTEND;TZID=America/Phoenix:20260318T140000
DTSTAMP:20260423T081250
CREATED:20260120T220712Z
LAST-MODIFIED:20260120T220712Z
UID:10004467-1773838800-1773842400@pimaparenting.org
SUMMARY:Trauma-Informed Rx 360 Substance Misuse and Naloxone training
DESCRIPTION:Learn how toxic stress and trauma impacts the brain.  Learn about the connection between trauma and substance misuse.  Learn how to use Narcan to reverse an opioid overdose.
URL:https://pimaparenting.org/event/trauma-informed-rx-360-substance-misuse-and-naloxone-training-2/2026-03-18/
LOCATION:Zoom\, Arizona
CATEGORIES:All Caregivers,Behavioral Health,Families with Children Birth to Five,Families with School-aged (6-12) Children,Families with Teens,Foster Parents,Grandparents Raising Kids,Providers
ATTACH;FMTTYPE=image/png:https://pimaparenting.org/wp-content/uploads/2026/01/Trauma-Informed-Rx360-March.png
END:VEVENT
BEGIN:VEVENT
DTSTART;TZID=America/Phoenix:20260318T130000
DTEND;TZID=America/Phoenix:20260318T140000
DTSTAMP:20260423T081250
CREATED:20260223T202531Z
LAST-MODIFIED:20260223T202531Z
UID:10004580-1773838800-1773842400@pimaparenting.org
SUMMARY:Kids in Motion
DESCRIPTION:Kids in Motion is an active and fun class that promotes your child’s gross motor skill development through energetic and exciting activities. \n  \nPlease note: Videos are used in class to support instruction and curriculum \n 
URL:https://pimaparenting.org/event/kids-in-motion-10/
LOCATION:Family Resource Center at Los Ranchitos\, 2054 E Ginter Rd\, Tucson\, AZ\, 85706\, United States
CATEGORIES:Families with Children Birth to Five
ATTACH;FMTTYPE=image/jpeg:https://pimaparenting.org/wp-content/uploads/2024/11/Kids-in-Motion-at-SUSD-2.0.jpg
ORGANIZER;CN="Garrett Lilly-Ramirez - UWTSA":MAILTO:gkidsinmotion@gmail.com
END:VEVENT
END:VCALENDAR