BEGIN:VCALENDAR
VERSION:2.0
PRODID:-//Pima County Parenting Coalition - ECPv6.15.16.1//NONSGML v1.0//EN
CALSCALE:GREGORIAN
METHOD:PUBLISH
X-WR-CALNAME:Pima County Parenting Coalition
X-ORIGINAL-URL:https://pimaparenting.org
X-WR-CALDESC:Events for Pima County Parenting Coalition
REFRESH-INTERVAL;VALUE=DURATION:PT1H
X-Robots-Tag:noindex
X-PUBLISHED-TTL:PT1H
BEGIN:VTIMEZONE
TZID:America/Phoenix
BEGIN:STANDARD
TZOFFSETFROM:-0700
TZOFFSETTO:-0700
TZNAME:MST
DTSTART:20250101T000000
END:STANDARD
END:VTIMEZONE
BEGIN:VEVENT
DTSTART;TZID=America/Phoenix:20260319T100000
DTEND;TZID=America/Phoenix:20260319T120000
DTSTAMP:20260423T080346
CREATED:20260223T172836Z
LAST-MODIFIED:20260223T172836Z
UID:10004551-1773914400-1773921600@pimaparenting.org
SUMMARY:Little Helpers\, Big Heros- FAMILY EVENT
DESCRIPTION:Join us for a fun and interactive family event where children can meet real-life community helpers — including a police officer\, a fire department representative\, and a cardiac nurse. Kids will learn about the important roles these everyday heroes play in keeping our community safe and healthy. Plus\, enjoy face painting for an extra touch of fun! Join us for an engaging\, educational\, and entertaining experience the whole family will enjoy!
URL:https://pimaparenting.org/event/little-helpers-big-heros-family-event/
LOCATION:Family Resource Center at Sahuarita Food Bank\, 17750 S. La Canada\, Sahuarita\, AZ\, 85629\, United States
CATEGORIES:Families with Children Birth to Five
ATTACH;FMTTYPE=image/jpeg:https://pimaparenting.org/wp-content/uploads/2023/09/Family-Resource-Center-Logo-1-e1704477308334.jpg
ORGANIZER;CN="Family Resource Center at Sahuarita Food Bank":MAILTO:irodela@sfb-crc.org
END:VEVENT
BEGIN:VEVENT
DTSTART;TZID=America/Phoenix:20260319T103000
DTEND;TZID=America/Phoenix:20260319T113000
DTSTAMP:20260423T080346
CREATED:20260223T202128Z
LAST-MODIFIED:20260223T202128Z
UID:10004577-1773916200-1773919800@pimaparenting.org
SUMMARY:Baby Signs Too
DESCRIPTION:Come join Parent Aid and Vanessa for a great opportunity to learn sign language with your little one! Learn how to enhance early communication skills\, reduce tantrums\, and promote language development with the addition to nurturing your bond and understanding your child’s needs. Baby Signs Too is designed to be used with families with hearing infants and toddlers. \nRegistration is FREE! \nClass is offered in-person at the Family Resource Center at Los Ranchitos. \nWe look forward to seeing you there!
URL:https://pimaparenting.org/event/baby-signs-too-26/
LOCATION:Family Resource Center at Los Ranchitos\, 2054 E Ginter Rd\, Tucson\, AZ\, 85706\, United States
CATEGORIES:All Caregivers,Families with Children Birth to Five
ATTACH;FMTTYPE=image/jpeg:https://pimaparenting.org/wp-content/uploads/2024/11/BST-at-SUSD-2.0.jpg
ORGANIZER;CN="Vanessa Batson- PA":MAILTO:vanessa@parentaid.org
END:VEVENT
BEGIN:VEVENT
DTSTART;TZID=America/Phoenix:20260319T113000
DTEND;TZID=America/Phoenix:20260319T123000
DTSTAMP:20260423T080346
CREATED:20260223T202814Z
LAST-MODIFIED:20260223T202814Z
UID:10004583-1773919800-1773923400@pimaparenting.org
SUMMARY:Happy Hour: Family Playtime/Hora Feliz: Tiempo de Juego en Familia
DESCRIPTION:Join Vanessa at Parent Aid for a playful\, stress-free hour of connection\, creativity\, and community! Happy Hour: Family Playtime is a warm and welcoming space where parents and children explore the joy of free play — together. \nThis interactive experience helps little ones build important social skills while giving parents the chance to connect with one another\, share experiences\, and step into their child’s world through play. It’s a perfect blend of bonding\, support\, and fun — no agenda\, no pressure\, just quality time. \n✨ Meet other parents\n🧸 Support your child’s growth through play\n💬 Enjoy thoughtful conversations in a relaxed environment \nCome as you are — stay for the smiles.\nBecause connection is the real happy hour. \n  \n¡Únete a Vanessa en Parent Aid para una hora lúdica y sin estrés de conexión\, creatividad y comunidad! Happy Hour: Tiempo de Juego Familiar es un espacio cálido y acogedor donde padres e hijos exploran la alegría del juego libre\, juntos. \nEsta experiencia interactiva ayuda a los más pequeños a construir habilidades sociales importantes\, al mismo tiempo que ofrece a los padres la oportunidad de conectarse entre sí\, compartir experiencias y entrar en el mundo de sus hijos a través del juego. Es una mezcla perfecta de unión\, apoyo y diversión: sin agenda\, sin presión\, solo tiempo de calidad.
URL:https://pimaparenting.org/event/happy-hour-family-playtime-hora-feliz-tiempo-de-juego-en-familia-13/
LOCATION:Family Resource Center at Los Ranchitos\, 2054 E Ginter Rd\, Tucson\, AZ\, 85706\, United States
CATEGORIES:Families with Children Birth to Five
ATTACH;FMTTYPE=image/png:https://pimaparenting.org/wp-content/uploads/2025/07/Happy-Hour-at-SUSD.png
ORGANIZER;CN="Vanessa Batson- PA":MAILTO:vanessa@parentaid.org
END:VEVENT
BEGIN:VEVENT
DTSTART;TZID=America/Phoenix:20260319T130000
DTEND;TZID=America/Phoenix:20260319T140000
DTSTAMP:20260423T080346
CREATED:20260223T163706Z
LAST-MODIFIED:20260310T212136Z
UID:10004529-1773925200-1773928800@pimaparenting.org
SUMMARY:Little Voices\, Big Respect: Teaching Consent from the Start/Pequeñas Voces\, Gran Respeto\, Enseñando El Consentimiento Desde El Principio
DESCRIPTION:This class teaches children (ages 3-5) to be the boss of their bodies! Children will learn self-awareness about their personal space and how to respect that of others. They will learn options for greeting and showing affection. Families will gain tools to discuss private parts and building a safe network. Celebrate kid power! \n¡Esta clase enseña a los niños (de 3 a 5 años) a ser los jefes de sus cuerpos! Los niños aprenderán a tener conciencia de su espacio personal y a respetar el de los demás. Aprenderán opciones para saludar y mostrar afecto. Las familias obtendrán herramientas para hablar sobre las partes privadas y construir una red segura. ¡Celebra el poder de los niños!
URL:https://pimaparenting.org/event/little-voices-big-respect-teaching-consent-from-the-start-3/
LOCATION:Family Resource Center at Los Ranchitos\, 2054 E Ginter Rd\, Tucson\, AZ\, 85706\, United States
CATEGORIES:Families with Children Birth to Five
ATTACH;FMTTYPE=image/jpeg:https://pimaparenting.org/wp-content/uploads/2026/02/Little-Voices-Big-Respect-JPEG-002.jpg
ORGANIZER;CN="Nataly Quiroz- UACE":MAILTO:natalyquiroz@arizona.edu
END:VEVENT
BEGIN:VEVENT
DTSTART;TZID=America/Phoenix:20260319T173000
DTEND;TZID=America/Phoenix:20260319T193000
DTSTAMP:20260423T080346
CREATED:20260224T203157Z
LAST-MODIFIED:20260224T203157Z
UID:10004611-1773941400-1773948600@pimaparenting.org
SUMMARY:Ignorar como técnica de crianza
DESCRIPTION:Ignorar como técnica de crianza \nEl objetivo de esta clase es aprender a ignorar el comportamiento irritante y no deseado de los ninos. \nRegístrate en Spanish- Ignoring as a Parenting Technique ⋆ Casa de los Niños
URL:https://pimaparenting.org/event/ignorar-como-tecnica-de-crianza/
LOCATION:Family Resource Center at Los Ranchitos\, 2054 E Ginter Rd\, Tucson\, AZ\, 85706\, United States
CATEGORIES:Families with Children Birth to Five
ATTACH;FMTTYPE=image/jpeg:https://pimaparenting.org/wp-content/uploads/2024/03/Casa-logo.jpg
ORGANIZER;CN="Casa de los Ninos":MAILTO:cbolger@casadelosninos.org
END:VEVENT
BEGIN:VEVENT
DTSTART;TZID=America/Phoenix:20260319T173000
DTEND;TZID=America/Phoenix:20260319T193000
DTSTAMP:20260423T080346
CREATED:20260224T203324Z
LAST-MODIFIED:20260224T203324Z
UID:10004612-1773941400-1773948600@pimaparenting.org
SUMMARY:Ignorar como técnica de crianza
DESCRIPTION:Ignorar como técnica de crianza \nEl objetivo de esta clase es aprender a ignorar el comportamiento irritante y no deseado de los ninos. \nRegístrate en Spanish- Ignoring as a Parenting Technique ⋆ Casa de los Niños
URL:https://pimaparenting.org/event/ignorar-como-tecnica-de-crianza-2/
LOCATION:Family Resource Center at Robles Elementary\, 9875 S Sasabe Rd\, Tucson\, AZ\, 85736\, United States
CATEGORIES:Families with Children Birth to Five
ATTACH;FMTTYPE=image/jpeg:https://pimaparenting.org/wp-content/uploads/2024/03/Casa-logo.jpg
ORGANIZER;CN="Casa de los Ninos":MAILTO:cbolger@casadelosninos.org
END:VEVENT
BEGIN:VEVENT
DTSTART;TZID=America/Phoenix:20260319T173000
DTEND;TZID=America/Phoenix:20260319T193000
DTSTAMP:20260423T080346
CREATED:20260224T203353Z
LAST-MODIFIED:20260224T203353Z
UID:10004613-1773941400-1773948600@pimaparenting.org
SUMMARY:Ignorar como técnica de crianza
DESCRIPTION:Ignorar como técnica de crianza \nEl objetivo de esta clase es aprender a ignorar el comportamiento irritante y no deseado de los ninos. \nRegístrate en Spanish- Ignoring as a Parenting Technique ⋆ Casa de los Niños
URL:https://pimaparenting.org/event/ignorar-como-tecnica-de-crianza-3/
LOCATION:Family Resource Center at Sahuarita Food Bank\, 17750 S. La Canada\, Sahuarita\, AZ\, 85629\, United States
CATEGORIES:Families with Children Birth to Five
ATTACH;FMTTYPE=image/jpeg:https://pimaparenting.org/wp-content/uploads/2024/03/Casa-logo.jpg
ORGANIZER;CN="Casa de los Ninos":MAILTO:cbolger@casadelosninos.org
END:VEVENT
END:VCALENDAR