BEGIN:VCALENDAR
VERSION:2.0
PRODID:-//Pima County Parenting Coalition - ECPv6.15.16.1//NONSGML v1.0//EN
CALSCALE:GREGORIAN
METHOD:PUBLISH
X-ORIGINAL-URL:https://pimaparenting.org
X-WR-CALDESC:Events for Pima County Parenting Coalition
REFRESH-INTERVAL;VALUE=DURATION:PT1H
X-Robots-Tag:noindex
X-PUBLISHED-TTL:PT1H
BEGIN:VTIMEZONE
TZID:America/Phoenix
BEGIN:STANDARD
TZOFFSETFROM:-0700
TZOFFSETTO:-0700
TZNAME:MST
DTSTART:20250101T000000
END:STANDARD
END:VTIMEZONE
BEGIN:VEVENT
DTSTART;TZID=America/Phoenix:20260321T093000
DTEND;TZID=America/Phoenix:20260321T103000
DTSTAMP:20260423T081302
CREATED:20260220T174456Z
LAST-MODIFIED:20260220T174456Z
UID:10004507-1774085400-1774089000@pimaparenting.org
SUMMARY:The Secret to Gentle Parenting - Virtual Class
DESCRIPTION:Effective parenting is possible without yelling\, threatening and harsh punishments. Explore the skills and strategies of “Conscious Discipline” and receive valuable resources to help you in your parenting journey. \n 
URL:https://pimaparenting.org/event/the-secret-to-gentle-parenting-virtual-class-12/
LOCATION:Family Resource Center at Robles Elementary\, 9875 S Sasabe Rd\, Tucson\, AZ\, 85736\, United States
CATEGORIES:All Caregivers,Families with Children Birth to Five
ATTACH;FMTTYPE=image/jpeg:https://pimaparenting.org/wp-content/uploads/2024/03/EBF-logo.jpg
ORGANIZER;CN="Jeanne  Velasquez- EBF":MAILTO:jvelasquez@amphi.com
END:VEVENT
BEGIN:VEVENT
DTSTART;TZID=America/Phoenix:20260321T093000
DTEND;TZID=America/Phoenix:20260321T103000
DTSTAMP:20260423T081302
CREATED:20260223T204012Z
LAST-MODIFIED:20260223T204012Z
UID:10004587-1774085400-1774089000@pimaparenting.org
SUMMARY:The Secret to Gentle Parenting - Virtual Class
DESCRIPTION:Effective parenting is possible without yelling\, threatening and harsh punishments. Explore the skills and strategies of “Conscious Discipline” and receive valuable resources to help you in your parenting journey. \n 
URL:https://pimaparenting.org/event/the-secret-to-gentle-parenting-virtual-class-10/
LOCATION:Family Resource Center at Sahuarita Food Bank\, 17750 S. La Canada\, Sahuarita\, AZ\, 85629\, United States
CATEGORIES:All Caregivers,Families with Children Birth to Five
ATTACH;FMTTYPE=image/jpeg:https://pimaparenting.org/wp-content/uploads/2024/03/EBF-logo.jpg
ORGANIZER;CN="Jeanne  Velasquez- EBF":MAILTO:jvelasquez@amphi.com
END:VEVENT
BEGIN:VEVENT
DTSTART;TZID=America/Phoenix:20260321T093000
DTEND;TZID=America/Phoenix:20260321T103000
DTSTAMP:20260423T081302
CREATED:20260223T204057Z
LAST-MODIFIED:20260223T204057Z
UID:10004588-1774085400-1774089000@pimaparenting.org
SUMMARY:The Secret to Gentle Parenting - Virtual Class
DESCRIPTION:Effective parenting is possible without yelling\, threatening and harsh punishments. Explore the skills and strategies of “Conscious Discipline” and receive valuable resources to help you in your parenting journey. \n 
URL:https://pimaparenting.org/event/the-secret-to-gentle-parenting-virtual-class-55/
LOCATION:Family Resource Center at Los Ranchitos\, 2054 E Ginter Rd\, Tucson\, AZ\, 85706\, United States
CATEGORIES:All Caregivers,Families with Children Birth to Five
ATTACH;FMTTYPE=image/jpeg:https://pimaparenting.org/wp-content/uploads/2024/03/EBF-logo.jpg
ORGANIZER;CN="Jeanne  Velasquez- EBF":MAILTO:jvelasquez@amphi.com
END:VEVENT
END:VCALENDAR