BEGIN:VCALENDAR
VERSION:2.0
PRODID:-//Pima County Parenting Coalition - ECPv6.15.16.1//NONSGML v1.0//EN
CALSCALE:GREGORIAN
METHOD:PUBLISH
X-WR-CALNAME:Pima County Parenting Coalition
X-ORIGINAL-URL:https://pimaparenting.org
X-WR-CALDESC:Events for Pima County Parenting Coalition
REFRESH-INTERVAL;VALUE=DURATION:PT1H
X-Robots-Tag:noindex
X-PUBLISHED-TTL:PT1H
BEGIN:VTIMEZONE
TZID:America/Phoenix
BEGIN:STANDARD
TZOFFSETFROM:-0700
TZOFFSETTO:-0700
TZNAME:MST
DTSTART:20250101T000000
END:STANDARD
END:VTIMEZONE
BEGIN:VEVENT
DTSTART;TZID=America/Phoenix:20260326T100000
DTEND;TZID=America/Phoenix:20260326T110000
DTSTAMP:20260423T075538
CREATED:20260223T185751Z
LAST-MODIFIED:20260224T211615Z
UID:10004575-1774519200-1774522800@pimaparenting.org
SUMMARY:Stay & Play- Family Resource Center at Robles Elementary
DESCRIPTION:Join our Stay and Play class designed for families with children 0-5 years of age and their grownups! This engaging program invites grownups and little ones to play and socialize together using a diverse range of materials aimed at fostering all areas of development. We emphasize social skills\, literacy\, and communication\, creating a supportive environment where children can explore\, learn\, and make new friends. Come enjoy quality time while helping your child thrive in their early learning journey!
URL:https://pimaparenting.org/event/stay-play-family-resource-center-at-robles-elementary-6/
LOCATION:Family Resource Center at Robles Elementary\, 9875 S Sasabe Rd\, Tucson\, AZ\, 85736\, United States
CATEGORIES:Families with Children Birth to Five
ATTACH;FMTTYPE=image/jpeg:https://pimaparenting.org/wp-content/uploads/2024/12/Stay-and-Play-at-AVSD-2.0.jpg
ORGANIZER;CN="Lela Messick-UWTSA":MAILTO:lmessick@unitedwaytucson.org
END:VEVENT
BEGIN:VEVENT
DTSTART;TZID=America/Phoenix:20260326T103000
DTEND;TZID=America/Phoenix:20260326T113000
DTSTAMP:20260423T075538
CREATED:20260223T202221Z
LAST-MODIFIED:20260223T202221Z
UID:10004578-1774521000-1774524600@pimaparenting.org
SUMMARY:Baby Signs Too
DESCRIPTION:Come join Parent Aid and Vanessa for a great opportunity to learn sign language with your little one! Learn how to enhance early communication skills\, reduce tantrums\, and promote language development with the addition to nurturing your bond and understanding your child’s needs. Baby Signs Too is designed to be used with families with hearing infants and toddlers. \nRegistration is FREE! \nClass is offered in-person at the Family Resource Center at Los Ranchitos. \nWe look forward to seeing you there!
URL:https://pimaparenting.org/event/baby-signs-too-27/
LOCATION:Family Resource Center at Los Ranchitos\, 2054 E Ginter Rd\, Tucson\, AZ\, 85706\, United States
CATEGORIES:All Caregivers,Families with Children Birth to Five
ATTACH;FMTTYPE=image/jpeg:https://pimaparenting.org/wp-content/uploads/2024/11/BST-at-SUSD-2.0.jpg
ORGANIZER;CN="Vanessa Batson- PA":MAILTO:vanessa@parentaid.org
END:VEVENT
BEGIN:VEVENT
DTSTART;TZID=America/Phoenix:20260326T103000
DTEND;TZID=America/Phoenix:20260326T113000
DTSTAMP:20260423T075538
CREATED:20260224T194613Z
LAST-MODIFIED:20260224T195302Z
UID:10004595-1774521000-1774524600@pimaparenting.org
SUMMARY:Wonders of the Desert: Nature Play & Storytime
DESCRIPTION:Wonders of the Desert: Nature Play & Storytime: WORMS \nWonders of the Desert invites children ages 2–5 their caregivers to explore nature through playful\, hands-on outdoor activities led by a trained educator. Each session includes engaging experiences like digging\, building\, and crafting\, plus a themed Storytime. Families also receive a bilingual activity page to continue learning at home. \nWORMS: Children and caregivers explore the important role worms play in the desert ecosystem\, learning how they enrich soil and support plant growth. This experience sparks curiosity about the hidden world beneath our feet and fosters appreciation for nature.
URL:https://pimaparenting.org/event/wonders-of-the-desert-nature-play-storytime-37/
LOCATION:Family Resource Center at Sahuarita Food Bank\, 17750 S. La Canada\, Sahuarita\, AZ\, 85629\, United States
CATEGORIES:Families with Children Birth to Five
ATTACH;FMTTYPE=image/png:https://pimaparenting.org/wp-content/uploads/2025/07/Wonders-of-the-Desert-at-SFB.png
ORGANIZER;CN="Debi Morgan":MAILTO:debimorgan4@gmail.com
END:VEVENT
BEGIN:VEVENT
DTSTART;TZID=America/Phoenix:20260326T130000
DTEND;TZID=America/Phoenix:20260326T140000
DTSTAMP:20260423T075538
CREATED:20260223T164015Z
LAST-MODIFIED:20260310T212311Z
UID:10004530-1774530000-1774533600@pimaparenting.org
SUMMARY:Little Voices\, Big Respect: Teaching Consent from the Start/Pequeñas Voces\, Gran Respeto\, Enseñando El Consentimiento Desde El Principio
DESCRIPTION:This class teaches children (ages 3-5) to be the boss of their bodies! Children will learn self-awareness about their personal space and how to respect that of others. They will learn options for greeting and showing affection. Families will gain tools to discuss private parts and building a safe network. Celebrate kid power! \n¡Esta clase enseña a los niños (de 3 a 5 años) a ser los jefes de sus cuerpos! Los niños aprenderán a tener conciencia de su espacio personal y a respetar el de los demás. Aprenderán opciones para saludar y mostrar afecto. Las familias obtendrán herramientas para hablar sobre las partes privadas y construir una red segura. ¡Celebra el poder de los niños!
URL:https://pimaparenting.org/event/little-voices-big-respect-teaching-consent-from-the-start-pequenas-voces-gran-respeto-ensenando-el-consentimiento-desde-el-principio/
LOCATION:Family Resource Center at Los Ranchitos\, 2054 E Ginter Rd\, Tucson\, AZ\, 85706\, United States
CATEGORIES:Families with Children Birth to Five
ATTACH;FMTTYPE=image/jpeg:https://pimaparenting.org/wp-content/uploads/2026/02/Little-Voices-Big-Respect-JPEG-002.jpg
ORGANIZER;CN="Nataly Quiroz- UACE":MAILTO:natalyquiroz@arizona.edu
END:VEVENT
BEGIN:VEVENT
DTSTART;TZID=America/Phoenix:20260326T130000
DTEND;TZID=America/Phoenix:20260326T140000
DTSTAMP:20260423T075538
CREATED:20260223T164850Z
LAST-MODIFIED:20260223T164850Z
UID:10004535-1774530000-1774533600@pimaparenting.org
SUMMARY:Fine Arts for Kids
DESCRIPTION:This fun and interactive class for children and their parents or caregivers is packed with creative activities designed to help little ones develop important life skills like focus\, self-control\, and communication—all while having a great time together!
URL:https://pimaparenting.org/event/fine-arts-for-kids-23/
LOCATION:Family Resource Center at Robles Elementary\, 9875 S Sasabe Rd\, Tucson\, AZ\, 85736\, United States
CATEGORIES:Families with Children Birth to Five
ATTACH;FMTTYPE=image/jpeg:https://pimaparenting.org/wp-content/uploads/2024/11/Fine-Arts-at-AVSD-2.0.jpg
ORGANIZER;CN="Stephaine Carl - UACE":MAILTO:sacarl@arizona.edu
END:VEVENT
BEGIN:VEVENT
DTSTART;TZID=America/Phoenix:20260326T140000
DTEND;TZID=America/Phoenix:20260326T150000
DTSTAMP:20260423T075538
CREATED:20260120T220244Z
LAST-MODIFIED:20260120T220244Z
UID:10004465-1774533600-1774537200@pimaparenting.org
SUMMARY:Rx 360 Substance Misuse and Naloxone training
DESCRIPTION:Learn how to store and dispose of RX drugs safely.  Learn how to use Narcan to reverse an opioid overdose.
URL:https://pimaparenting.org/event/rx-360-substance-misuse-and-naloxone-training-3/2026-03-26/
LOCATION:Zoom\, Arizona
CATEGORIES:All Caregivers,Behavioral Health,Families with Children Birth to Five,Families with School-aged (6-12) Children,Families with Teens,Foster Parents,Grandparents Raising Kids,Providers
ATTACH;FMTTYPE=image/png:https://pimaparenting.org/wp-content/uploads/2026/01/Rx360-March.png
END:VEVENT
BEGIN:VEVENT
DTSTART;TZID=America/Phoenix:20260326T173000
DTEND;TZID=America/Phoenix:20260326T193000
DTSTAMP:20260423T075538
CREATED:20260224T203857Z
LAST-MODIFIED:20260224T211032Z
UID:10004615-1774546200-1774553400@pimaparenting.org
SUMMARY:Desarrollando el poder personal en los niños
DESCRIPTION:Desarrollando el poder personal en los niños \nEsta clase se centra en ayudar a nuestros ninos a desarrollar un fuerte sentido de poder personal: un umpulso para lograr cosas\, crear cosas y hacer del mundo un lugar mas solidario. \nRegistrarse en  Spanish- Developing Personal Power in Children ⋆ Casa de los Niños
URL:https://pimaparenting.org/event/desarrollando-el-poder-personal-en-los-ninos/
LOCATION:Family Resource Center at Los Ranchitos\, 2054 E Ginter Rd\, Tucson\, AZ\, 85706\, United States
CATEGORIES:Families with Children Birth to Five
ATTACH;FMTTYPE=image/jpeg:https://pimaparenting.org/wp-content/uploads/2024/03/Casa-logo.jpg
ORGANIZER;CN="Casa de los Ninos":MAILTO:cbolger@casadelosninos.org
END:VEVENT
BEGIN:VEVENT
DTSTART;TZID=America/Phoenix:20260326T173000
DTEND;TZID=America/Phoenix:20260326T193000
DTSTAMP:20260423T075538
CREATED:20260224T203956Z
LAST-MODIFIED:20260224T211001Z
UID:10004616-1774546200-1774553400@pimaparenting.org
SUMMARY:Desarrollando el poder personal en los niños
DESCRIPTION:Desarrollando el poder personal en los niños \nEsta clase se centra en ayudar a nuestros ninos a desarrollar un fuerte sentido de poder personal: un umpulso para lograr cosas\, crear cosas y hacer del mundo un lugar mas solidario. \nRegistrarse en  Spanish- Developing Personal Power in Children ⋆ Casa de los Niños
URL:https://pimaparenting.org/event/desarrollando-el-poder-personal-en-los-ninos-2/
LOCATION:Family Resource Center at Robles Elementary\, 9875 S Sasabe Rd\, Tucson\, AZ\, 85736\, United States
CATEGORIES:Families with Children Birth to Five
ATTACH;FMTTYPE=image/jpeg:https://pimaparenting.org/wp-content/uploads/2024/03/Casa-logo.jpg
ORGANIZER;CN="Casa de los Ninos":MAILTO:cbolger@casadelosninos.org
END:VEVENT
BEGIN:VEVENT
DTSTART;TZID=America/Phoenix:20260326T173000
DTEND;TZID=America/Phoenix:20260326T193000
DTSTAMP:20260423T075538
CREATED:20260224T204024Z
LAST-MODIFIED:20260224T210917Z
UID:10004617-1774546200-1774553400@pimaparenting.org
SUMMARY:Desarrollando el poder personal en los niños
DESCRIPTION:Desarrollando el poder personal en los niños \nEsta clase se centra en ayudar a nuestros ninos a desarrollar un fuerte sentido de poder personal: un umpulso para lograr cosas\, crear cosas y hacer del mundo un lugar mas solidario. \nRegistrarse en  Spanish- Developing Personal Power in Children ⋆ Casa de los Niños
URL:https://pimaparenting.org/event/desarrollando-el-poder-personal-en-los-ninos-3/
LOCATION:Family Resource Center at Sahuarita Food Bank\, 17750 S. La Canada\, Sahuarita\, AZ\, 85629\, United States
CATEGORIES:Families with Children Birth to Five
ATTACH;FMTTYPE=image/jpeg:https://pimaparenting.org/wp-content/uploads/2024/03/Casa-logo.jpg
ORGANIZER;CN="Casa de los Ninos":MAILTO:cbolger@casadelosninos.org
END:VEVENT
END:VCALENDAR