BEGIN:VCALENDAR
VERSION:2.0
PRODID:-//Pima County Parenting Coalition - ECPv6.15.16.1//NONSGML v1.0//EN
CALSCALE:GREGORIAN
METHOD:PUBLISH
X-WR-CALNAME:Pima County Parenting Coalition
X-ORIGINAL-URL:https://pimaparenting.org
X-WR-CALDESC:Events for Pima County Parenting Coalition
REFRESH-INTERVAL;VALUE=DURATION:PT1H
X-Robots-Tag:noindex
X-PUBLISHED-TTL:PT1H
BEGIN:VTIMEZONE
TZID:America/Phoenix
BEGIN:STANDARD
TZOFFSETFROM:-0700
TZOFFSETTO:-0700
TZNAME:MST
DTSTART:20250101T000000
END:STANDARD
END:VTIMEZONE
BEGIN:VEVENT
DTSTART;TZID=America/Phoenix:20260327T100000
DTEND;TZID=America/Phoenix:20260327T110000
DTSTAMP:20260423T080345
CREATED:20260205T235243Z
LAST-MODIFIED:20260205T235243Z
UID:10004478-1774605600-1774609200@pimaparenting.org
SUMMARY:Garden Discovery Days-Class held at Salazar-Ajo Library
DESCRIPTION:This class connects you and your child with the garden\, through hands on activities as you learn where food comes from\, learn about nature and make fun nature crafts.  \nPLEASE NOTE: Class is held at the Salazar-Ajo Library 15 Plaza #179 Ajo\, AZ 85321
URL:https://pimaparenting.org/event/garden-discovery-days-class-held-at-salazar-ajo-library-2/
LOCATION:Salazar-Ajo Library\, 15 Plaza St\, #179\, Ajo\, Arizon\, 85321\, United States
CATEGORIES:Families with Children Birth to Five
ATTACH;FMTTYPE=image/jpeg:https://pimaparenting.org/wp-content/uploads/2024/03/UA-FEP-logo.jpg
ORGANIZER;CN="Cassie Burrel - UACE":MAILTO:cassieb@ag.arizona.edu
END:VEVENT
BEGIN:VEVENT
DTSTART;TZID=America/Phoenix:20260327T103000
DTEND;TZID=America/Phoenix:20260327T113000
DTSTAMP:20260423T080345
CREATED:20260223T163345Z
LAST-MODIFIED:20260223T163345Z
UID:10004527-1774607400-1774611000@pimaparenting.org
SUMMARY:Fine Arts for Kids
DESCRIPTION:Join us for a fun and creative class designed for children and their parents or caregivers! Together\, you’ll explore hands-on activities that encourage focus\, help build self-control and promote teamwork and communication. It’s a great way to bond\, learn\, and get inspired through art!
URL:https://pimaparenting.org/event/fine-arts-for-kids-21/
LOCATION:Family Resource Center at Los Ranchitos\, 2054 E Ginter Rd\, Tucson\, AZ\, 85706\, United States
CATEGORIES:Families with Children Birth to Five
ATTACH;FMTTYPE=image/jpeg:https://pimaparenting.org/wp-content/uploads/2024/11/Fine-Arts-at-SUSD-2.0.jpg
ORGANIZER;CN="Stephaine Carl - UACE":MAILTO:sacarl@arizona.edu
END:VEVENT
BEGIN:VEVENT
DTSTART;TZID=America/Phoenix:20260327T103000
DTEND;TZID=America/Phoenix:20260327T113000
DTSTAMP:20260423T080345
CREATED:20260223T165404Z
LAST-MODIFIED:20260223T165404Z
UID:10004538-1774607400-1774611000@pimaparenting.org
SUMMARY:Zumbini
DESCRIPTION:Come join Amanda and Parent Aid for a fun hour of music and movement! This class will enhance your child’s development of their social-emotional\, cognitive and physical skills. Zumbini is designed for families with kiddos birth to 5-years old. Zumbini is an interactive activity for Parents and Kiddos! Bring your most comfortable dancing shoes and we’ll see you there! \nRegistration is FREE! \nClass is offered in-person at the Family Resource Center at the Sahuarita Food Bank. \nEmail Amanda with any questions you have about the group. \nWe look forward to seeing you there! \n 
URL:https://pimaparenting.org/event/zumbini-8/
LOCATION:Family Resource Center at Sahuarita Food Bank\, 17750 S. La Canada\, Sahuarita\, AZ\, 85629\, United States
CATEGORIES:All Caregivers,Families with Children Birth to Five
ATTACH;FMTTYPE=image/jpeg:https://pimaparenting.org/wp-content/uploads/2024/11/Zumbini-at-SFB-2.0.jpg
ORGANIZER;CN="Amanda Ward McNeal- PA":MAILTO:amanda@parentaid.org
END:VEVENT
BEGIN:VEVENT
DTSTART;TZID=America/Phoenix:20260327T130000
DTEND;TZID=America/Phoenix:20260327T140000
DTSTAMP:20260423T080345
CREATED:20260223T163512Z
LAST-MODIFIED:20260223T163512Z
UID:10004528-1774616400-1774620000@pimaparenting.org
SUMMARY:Musical Expressions/Expresiones Musicales
DESCRIPTION:This class will encourage children to artistically express what they feel through music onto paper and through fun dance moves. Art and music invigorate young children’s minds to be creative\, imaginative\, expressive\, confident\, engaged and so much more! \nEsta clase animará a los niños a expresarse artísticamente a través de la música en papel y mediante divertidos movimientos de baile. El arte y la música invigorizan la mente de los niños pequeños para ser creativos\, imaginativos\, expresivos\, seguros\, comprometidos y mucho más.
URL:https://pimaparenting.org/event/musical-expressions-expresiones-musicales-5/
LOCATION:Family Resource Center at Los Ranchitos\, 2054 E Ginter Rd\, Tucson\, AZ\, 85706\, United States
CATEGORIES:Families with Children Birth to Five
ATTACH;FMTTYPE=image/jpeg:https://pimaparenting.org/wp-content/uploads/2024/11/Music-Exp-at-SUSD-2.0.jpg
ORGANIZER;CN="Nataly Quiroz- UACE":MAILTO:natalyquiroz@arizona.edu
END:VEVENT
END:VCALENDAR