BEGIN:VCALENDAR
VERSION:2.0
PRODID:-//Pima County Parenting Coalition - ECPv6.15.16.1//NONSGML v1.0//EN
CALSCALE:GREGORIAN
METHOD:PUBLISH
X-ORIGINAL-URL:https://pimaparenting.org
X-WR-CALDESC:Events for Pima County Parenting Coalition
REFRESH-INTERVAL;VALUE=DURATION:PT1H
X-Robots-Tag:noindex
X-PUBLISHED-TTL:PT1H
BEGIN:VTIMEZONE
TZID:America/Phoenix
BEGIN:STANDARD
TZOFFSETFROM:-0700
TZOFFSETTO:-0700
TZNAME:MST
DTSTART:20250101T000000
END:STANDARD
END:VTIMEZONE
BEGIN:VEVENT
DTSTART;TZID=America/Phoenix:20260402T093000
DTEND;TZID=America/Phoenix:20260402T103000
DTSTAMP:20260423T064351
CREATED:20260227T180406Z
LAST-MODIFIED:20260227T180755Z
UID:10004620-1775122200-1775125800@pimaparenting.org
SUMMARY:Parent & Caregiver Needs Assessment Focus Group: Supporting Children with Special Needs
DESCRIPTION:We invite parents and caregivers of children with special needs to join us at the Family Resource Center located at the Sahuarita Food Bank and Community Resource Center for a welcoming conversation. Share the resources you find helpful\, the activities your family enjoys\, and the workshops or supports you’d like to see offered. Your input will help us create a more inclusive and supportive space for every family.
URL:https://pimaparenting.org/event/parent-caregiver-needs-assessment-focus-group-supporting-children-with-special-needs/
LOCATION:Family Resource Center at Sahuarita Food Bank\, 17750 S. La Canada\, Sahuarita\, AZ\, 85629\, United States
CATEGORIES:Families with Children Birth to Five
ATTACH;FMTTYPE=image/jpeg:https://pimaparenting.org/wp-content/uploads/2024/11/Family-Resource-Center-Logo-1.jpg
ORGANIZER;CN="Family Resource Center at Sahuarita Food Bank":MAILTO:irodela@sfb-crc.org
END:VEVENT
BEGIN:VEVENT
DTSTART;TZID=America/Phoenix:20260402T103000
DTEND;TZID=America/Phoenix:20260402T113000
DTSTAMP:20260423T064351
CREATED:20260323T180301Z
LAST-MODIFIED:20260323T180301Z
UID:10004623-1775125800-1775129400@pimaparenting.org
SUMMARY:Garden Discovery Days-Class held at Pima County Cooperative Extension Office 530 E. Whitehouse Canyon Rd. Green Valley\, AZ 85614
DESCRIPTION:This class connects you and your child with the garden\, through hands on activities as you learn where food comes from\, learn about nature and make fun nature crafts.  \nPLEASE NOTE: Class is held at the Pima County Cooperative Extension Office 530 E. Whitehouse Canyon Rd. Green Valley\, AZ 85614
URL:https://pimaparenting.org/event/garden-discovery-days-class-held-at-pima-county-cooperative-extension-office-530-e-whitehouse-canyon-rd-green-valley-az-85614-8/
LOCATION:Family Resource Center at Sahuarita Food Bank\, 17750 S. La Canada\, Sahuarita\, AZ\, 85629\, United States
CATEGORIES:Families with Children Birth to Five
ATTACH;FMTTYPE=image/png:https://pimaparenting.org/wp-content/uploads/2025/04/GDD-at-SFB-2.0.png
ORGANIZER;CN="Cassie Burrel - UACE":MAILTO:cassieb@ag.arizona.edu
END:VEVENT
BEGIN:VEVENT
DTSTART;TZID=America/Phoenix:20260402T103000
DTEND;TZID=America/Phoenix:20260402T113000
DTSTAMP:20260423T064351
CREATED:20260324T215507Z
LAST-MODIFIED:20260324T215507Z
UID:10004683-1775125800-1775129400@pimaparenting.org
SUMMARY:Baby Signs Too
DESCRIPTION:Come join Parent Aid and Vanessa for a great opportunity to learn sign language with your little one! Learn how to enhance early communication skills\, reduce tantrums\, and promote language development with the addition to nurturing your bond and understanding your child’s needs. Baby Signs Too is designed to be used with families with hearing infants and toddlers. \nRegistration is FREE! \nClass is offered in-person at the Family Resource Center at Los Ranchitos. \nWe look forward to seeing you there!
URL:https://pimaparenting.org/event/baby-signs-too-32/
LOCATION:Family Resource Center at Los Ranchitos\, 2054 E Ginter Rd\, Tucson\, AZ\, 85706\, United States
CATEGORIES:All Caregivers,Families with Children Birth to Five
ATTACH;FMTTYPE=image/jpeg:https://pimaparenting.org/wp-content/uploads/2024/11/BST-at-SUSD-2.0.jpg
ORGANIZER;CN="Vanessa Batson- PA":MAILTO:vanessa@parentaid.org
END:VEVENT
BEGIN:VEVENT
DTSTART;TZID=America/Phoenix:20260402T113000
DTEND;TZID=America/Phoenix:20260402T123000
DTSTAMP:20260423T064351
CREATED:20260324T215648Z
LAST-MODIFIED:20260324T215648Z
UID:10004684-1775129400-1775133000@pimaparenting.org
SUMMARY:Happy Hour: Family Playtime/Hora Feliz: Tiempo de Juego en Familia
DESCRIPTION:Join Vanessa at Parent Aid for a playful\, stress-free hour of connection\, creativity\, and community! Happy Hour: Family Playtime is a warm and welcoming space where parents and children explore the joy of free play — together. \nThis interactive experience helps little ones build important social skills while giving parents the chance to connect with one another\, share experiences\, and step into their child’s world through play. It’s a perfect blend of bonding\, support\, and fun — no agenda\, no pressure\, just quality time. \n✨ Meet other parents\n🧸 Support your child’s growth through play\n💬 Enjoy thoughtful conversations in a relaxed environment \nCome as you are — stay for the smiles.\nBecause connection is the real happy hour. \n  \n¡Únete a Vanessa en Parent Aid para una hora lúdica y sin estrés de conexión\, creatividad y comunidad! Happy Hour: Tiempo de Juego Familiar es un espacio cálido y acogedor donde padres e hijos exploran la alegría del juego libre\, juntos. \nEsta experiencia interactiva ayuda a los más pequeños a construir habilidades sociales importantes\, al mismo tiempo que ofrece a los padres la oportunidad de conectarse entre sí\, compartir experiencias y entrar en el mundo de sus hijos a través del juego. Es una mezcla perfecta de unión\, apoyo y diversión: sin agenda\, sin presión\, solo tiempo de calidad.
URL:https://pimaparenting.org/event/happy-hour-family-playtime-hora-feliz-tiempo-de-juego-en-familia-14/
LOCATION:Family Resource Center at Los Ranchitos\, 2054 E Ginter Rd\, Tucson\, AZ\, 85706\, United States
CATEGORIES:Families with Children Birth to Five
ATTACH;FMTTYPE=image/png:https://pimaparenting.org/wp-content/uploads/2025/07/Happy-Hour-at-SUSD.png
ORGANIZER;CN="Vanessa Batson- PA":MAILTO:vanessa@parentaid.org
END:VEVENT
END:VCALENDAR