BEGIN:VCALENDAR
VERSION:2.0
PRODID:-//Pima County Parenting Coalition - ECPv6.15.16.1//NONSGML v1.0//EN
CALSCALE:GREGORIAN
METHOD:PUBLISH
X-WR-CALNAME:Pima County Parenting Coalition
X-ORIGINAL-URL:https://pimaparenting.org
X-WR-CALDESC:Events for Pima County Parenting Coalition
REFRESH-INTERVAL;VALUE=DURATION:PT1H
X-Robots-Tag:noindex
X-PUBLISHED-TTL:PT1H
BEGIN:VTIMEZONE
TZID:America/Phoenix
BEGIN:STANDARD
TZOFFSETFROM:-0700
TZOFFSETTO:-0700
TZNAME:MST
DTSTART:20250101T000000
END:STANDARD
END:VTIMEZONE
BEGIN:VEVENT
DTSTART;TZID=America/Phoenix:20260413T103000
DTEND;TZID=America/Phoenix:20260413T113000
DTSTAMP:20260423T075538
CREATED:20260324T161555Z
LAST-MODIFIED:20260324T161555Z
UID:10004662-1776076200-1776079800@pimaparenting.org
SUMMARY:Move and Groove Playtime
DESCRIPTION:This interactive class for children ages 2-5 and their parents. Through music\, dancing\, and playful movement\, kids develop coordination\, balance\, and creativity while strengthening their bond with parents. Colorful props and lively tunes make each session exciting and engaging\, promoting physical development and social skills in a safe\, supportive environment. Perfect for little ones who love to move and groove!
URL:https://pimaparenting.org/event/move-and-groove-playtime-18/
LOCATION:Family Resource Center at Los Ranchitos\, 2054 E Ginter Rd\, Tucson\, AZ\, 85706\, United States
CATEGORIES:Families with Children Birth to Five
ATTACH;FMTTYPE=image/jpeg:https://pimaparenting.org/wp-content/uploads/2024/11/UWTSA-Logo-2024-RBG.jpg
ORGANIZER;CN="Maggie McKiernan - UWTSA":MAILTO:mggqt.2010@gmail.com
END:VEVENT
BEGIN:VEVENT
DTSTART;TZID=America/Phoenix:20260413T103000
DTEND;TZID=America/Phoenix:20260413T120000
DTSTAMP:20260423T075538
CREATED:20260323T193919Z
LAST-MODIFIED:20260323T193919Z
UID:10004636-1776076200-1776081600@pimaparenting.org
SUMMARY:Mommy and Me: Playgroup for Newborns & Infants
DESCRIPTION:This nurturing support group is designed especially for mothers in the early stages of parenthood. Through thoughtful conversation\, guided activities\, and shared experiences\, participants are invited to connect\, reflect\, and grow together. The group offers a safe and supportive space to explore the emotional\, physical\, and mental transitions that come with welcoming a new baby.
URL:https://pimaparenting.org/event/mommy-and-me-playgroup-for-newborns-infants-3/
LOCATION:Family Resource Center at Sahuarita Food Bank\, 17750 S. La Canada\, Sahuarita\, AZ\, 85629\, United States
CATEGORIES:Families with Children Birth to Five
ATTACH;FMTTYPE=image/jpeg:https://pimaparenting.org/wp-content/uploads/2025/12/ACDC-Name-Change-Post-Logo-002.jpg
ORGANIZER;CN="Chrissi Engstrom":MAILTO:chrissi@azdoulas.org
END:VEVENT
END:VCALENDAR